Back to Multiple platform build/check report for BioC 3.12
ABC[D]EFGHIJKLMNOPQRSTUVWXYZ

Multiple platform build/check report for BioC 3.12

All results for package DEGraph

This page was generated on 2021-05-05 12:08:43 -0400 (Wed, 05 May 2021).

Package 446/1974HostnameOS / ArchINSTALLBUILDCHECKBUILD BIN
DEGraph 1.42.0  (landing page)
Laurent Jacob
Snapshot Date: 2021-05-04 14:50:13 -0400 (Tue, 04 May 2021)
URL: https://git.bioconductor.org/packages/DEGraph
Branch: RELEASE_3_12
Last Commit: 7c7919a
Last Changed Date: 2020-10-27 10:39:35 -0400 (Tue, 27 Oct 2020)
malbec1Linux (Ubuntu 18.04.5 LTS) / x86_64  OK    OK    OK  UNNEEDED, same version exists in internal repository
tokay1Windows Server 2012 R2 Standard / x64... NOT SUPPORTED ...
merida1macOS 10.14.6 Mojave / x86_64... NOT SUPPORTED ...