Back to Multiple platform build/check report for BioC 3.12
ABC[D]EFGHIJKLMNOPQRSTUVWXYZ

BUILD BIN report for DEFormats on tokay1

This page was generated on 2021-05-06 12:30:39 -0400 (Thu, 06 May 2021).

To the developers/maintainers of the DEFormats package:
Please make sure to use the following settings in order to reproduce any error or warning you see on this page.
Package 444/1974HostnameOS / ArchINSTALLBUILDCHECKBUILD BIN
DEFormats 1.18.0  (landing page)
Andrzej OleĊ›
Snapshot Date: 2021-05-05 14:51:38 -0400 (Wed, 05 May 2021)
URL: https://git.bioconductor.org/packages/DEFormats
Branch: RELEASE_3_12
Last Commit: 5297c56
Last Changed Date: 2020-10-27 11:13:03 -0400 (Tue, 27 Oct 2020)
malbec1Linux (Ubuntu 18.04.5 LTS) / x86_64  OK    OK    OK  UNNEEDED, same version exists in internal repository
tokay1Windows Server 2012 R2 Standard / x64  OK    OK    OK    OK  UNNEEDED, same version exists in internal repository
merida1macOS 10.14.6 Mojave / x86_64  OK    OK    OK    OK  UNNEEDED, same version exists in internal repository

Summary

Package: DEFormats
Version: 1.18.0
Command: rm -rf DEFormats.buildbin-libdir && mkdir DEFormats.buildbin-libdir && C:\Users\biocbuild\bbs-3.12-bioc\R\bin\R.exe CMD INSTALL --merge-multiarch --build --library=DEFormats.buildbin-libdir DEFormats_1.18.0.tar.gz
StartedAt: 2021-05-06 08:52:52 -0400 (Thu, 06 May 2021)
EndedAt: 2021-05-06 08:53:35 -0400 (Thu, 06 May 2021)
EllapsedTime: 42.6 seconds
RetCode: 0
Status:   OK   
PackageFile: DEFormats_1.18.0.zip
PackageFileSize: 551.8 KiB

Command output

##############################################################################
##############################################################################
###
### Running command:
###
###   rm -rf DEFormats.buildbin-libdir && mkdir DEFormats.buildbin-libdir && C:\Users\biocbuild\bbs-3.12-bioc\R\bin\R.exe CMD INSTALL --merge-multiarch --build --library=DEFormats.buildbin-libdir DEFormats_1.18.0.tar.gz
###
##############################################################################
##############################################################################



install for i386

* installing *source* package 'DEFormats' ...
** using staged installation
** R
** inst
** byte-compile and prepare package for lazy loading
Creating a generic function for 'DGEList' from 'edgeR' in package 'DEFormats'
    (from the saved implicit definition)
** help
*** installing help indices
  converting help for package 'DEFormats'
    finding HTML links ... done
    DEFormats                               html  
    finding level-2 HTML links ... done

    DGEList                                 html  
    as.DESeqDataSet                         html  
    as.DGEList                              html  
    simulateNormFactors                     html  
    simulateRnaSeqData                      html  
** building package indices
** installing vignettes
** testing if installed package can be loaded from temporary location
** testing if installed package can be loaded from final location
** testing if installed package keeps a record of temporary installation path

install for x64

* installing *source* package 'DEFormats' ...
** testing if installed package can be loaded
* MD5 sums
packaged installation of 'DEFormats' as DEFormats_1.18.0.zip
* DONE (DEFormats)