Back to Multiple platform build/check report for BioC 3.12
ABC[D]EFGHIJKLMNOPQRSTUVWXYZ

Multiple platform build/check report for BioC 3.12

All results for package DEFormats

This page was generated on 2021-05-06 12:25:47 -0400 (Thu, 06 May 2021).

Package 444/1974HostnameOS / ArchINSTALLBUILDCHECKBUILD BIN
DEFormats 1.18.0  (landing page)
Andrzej OleĊ›
Snapshot Date: 2021-05-05 14:51:38 -0400 (Wed, 05 May 2021)
URL: https://git.bioconductor.org/packages/DEFormats
Branch: RELEASE_3_12
Last Commit: 5297c56
Last Changed Date: 2020-10-27 11:13:03 -0400 (Tue, 27 Oct 2020)
malbec1Linux (Ubuntu 18.04.5 LTS) / x86_64  OK    OK    OK  UNNEEDED, same version exists in internal repository
tokay1Windows Server 2012 R2 Standard / x64  OK    OK    OK    OK  UNNEEDED, same version exists in internal repository
merida1macOS 10.14.6 Mojave / x86_64  OK    OK    OK    OK  UNNEEDED, same version exists in internal repository

Results for Bioconductor software packages that depend directly on package DEFormats

QUICK STATSOS / ArchINSTALLBUILDCHECKBUILD BIN
malbec1Linux (Ubuntu 18.04.5 LTS) / x86_64
001
001
0001
tokay1Windows Server 2012 R2 Standard / x64
001
001
0001
001
merida1macOS 10.14.6 Mojave / x86_64
001
001
0001
001
Package 1/1HostnameOS / ArchINSTALLBUILDCHECKBUILD BIN
regionReport 1.24.2  (landing page)
Leonardo Collado-Torres
Last Commit: 4eb94a2
Last Changed Date: 2020-12-18 12:59:23 -0400
malbec1Linux (Ubuntu 18.04.5 LTS) / x86_64  OK    OK    OK  UNNEEDED, same version exists in internal repository
tokay1Windows Server 2012 R2 Standard / x64  OK    OK    OK    OK  UNNEEDED, same version exists in internal repository
merida1macOS 10.14.6 Mojave / x86_64  OK    OK    OK    OK  UNNEEDED, same version exists in internal repository