Back to Multiple platform build/check report for BioC 3.12
ABC[D]EFGHIJKLMNOPQRSTUVWXYZ

Multiple platform build/check report for BioC 3.12

All results for package DECIPHER

This page was generated on 2021-05-05 12:08:43 -0400 (Wed, 05 May 2021).

Package 436/1974HostnameOS / ArchINSTALLBUILDCHECKBUILD BIN
DECIPHER 2.18.1  (landing page)
Erik Wright
Snapshot Date: 2021-05-04 14:50:13 -0400 (Tue, 04 May 2021)
URL: https://git.bioconductor.org/packages/DECIPHER
Branch: RELEASE_3_12
Last Commit: 6a70842
Last Changed Date: 2020-10-28 14:49:22 -0400 (Wed, 28 Oct 2020)
malbec1Linux (Ubuntu 18.04.5 LTS) / x86_64  OK    OK    OK  UNNEEDED, same version exists in internal repository
tokay1Windows Server 2012 R2 Standard / x64  OK    OK    OK    OK  UNNEEDED, same version exists in internal repository
merida1macOS 10.14.6 Mojave / x86_64  OK    OK    OK    OK  UNNEEDED, same version exists in internal repository

Results for Bioconductor software packages that depend directly on package DECIPHER

QUICK STATSOS / ArchINSTALLBUILDCHECKBUILD BIN
malbec1Linux (Ubuntu 18.04.5 LTS) / x86_64
005
014
0013
tokay1Windows Server 2012 R2 Standard / x64
005
014
0013
004
merida1macOS 10.14.6 Mojave / x86_64
005
014
0013
004
Package 1/5HostnameOS / ArchINSTALLBUILDCHECKBUILD BIN
AssessORF 1.8.0  (landing page)
Deepank Korandla
Last Commit: 3cb4cb1
Last Changed Date: 2020-10-27 11:40:18 -0400
malbec1Linux (Ubuntu 18.04.5 LTS) / x86_64  OK    OK    OK  UNNEEDED, same version exists in internal repository
tokay1Windows Server 2012 R2 Standard / x64  OK    OK    OK    OK  UNNEEDED, same version exists in internal repository
merida1macOS 10.14.6 Mojave / x86_64  OK    OK    OK    OK  UNNEEDED, same version exists in internal repository
Package 2/5HostnameOS / ArchINSTALLBUILDCHECKBUILD BIN
metagenomeFeatures 2.10.0  (landing page)
Nathan D. Olson
Last Commit: 880eaad
Last Changed Date: 2020-10-27 11:08:40 -0400
malbec1Linux (Ubuntu 18.04.5 LTS) / x86_64  OK    ERROR  skipped
tokay1Windows Server 2012 R2 Standard / x64  OK    ERROR  skippedskipped
merida1macOS 10.14.6 Mojave / x86_64  OK    ERROR  skippedskipped
Package 3/5HostnameOS / ArchINSTALLBUILDCHECKBUILD BIN
openPrimeR 1.12.1  (landing page)
Matthias Döring
Last Commit: cf7a7af
Last Changed Date: 2020-11-14 11:32:07 -0400
malbec1Linux (Ubuntu 18.04.5 LTS) / x86_64  OK    OK    OK  UNNEEDED, same version exists in internal repository
tokay1Windows Server 2012 R2 Standard / x64  OK    OK    OK    OK  UNNEEDED, same version exists in internal repository
merida1macOS 10.14.6 Mojave / x86_64  OK    OK    OK    OK  UNNEEDED, same version exists in internal repository
Package 4/5HostnameOS / ArchINSTALLBUILDCHECKBUILD BIN
sangeranalyseR 1.0.0  (landing page)
Kuan-Hao Chao
Last Commit: d1a14ae
Last Changed Date: 2020-10-27 11:57:35 -0400
malbec1Linux (Ubuntu 18.04.5 LTS) / x86_64  OK    OK    WARNINGS  UNNEEDED, same version exists in internal repository
tokay1Windows Server 2012 R2 Standard / x64  OK    OK    WARNINGS    OK  UNNEEDED, same version exists in internal repository
merida1macOS 10.14.6 Mojave / x86_64  OK    OK    WARNINGS    OK  UNNEEDED, same version exists in internal repository
Package 5/5HostnameOS / ArchINSTALLBUILDCHECKBUILD BIN
SynExtend 1.2.0  (landing page)
Nicholas Cooley
Last Commit: 5786318
Last Changed Date: 2020-10-27 11:56:55 -0400
malbec1Linux (Ubuntu 18.04.5 LTS) / x86_64  OK    OK    OK  UNNEEDED, same version exists in internal repository
tokay1Windows Server 2012 R2 Standard / x64  OK    OK    OK    OK  UNNEEDED, same version exists in internal repository
merida1macOS 10.14.6 Mojave / x86_64  OK    OK    OK    OK  UNNEEDED, same version exists in internal repository