Back to Multiple platform build/check report for BioC 3.12
AB[C]DEFGHIJKLMNOPQRSTUVWXYZ

Multiple platform build/check report for BioC 3.12

All results for package ComplexHeatmap

This page was generated on 2021-05-05 12:08:42 -0400 (Wed, 05 May 2021).

Package 362/1974HostnameOS / ArchINSTALLBUILDCHECKBUILD BIN
ComplexHeatmap 2.6.2  (landing page)
Zuguang Gu
Snapshot Date: 2021-05-04 14:50:13 -0400 (Tue, 04 May 2021)
URL: https://git.bioconductor.org/packages/ComplexHeatmap
Branch: RELEASE_3_12
Last Commit: 0383bad
Last Changed Date: 2020-11-11 18:45:48 -0400 (Wed, 11 Nov 2020)
malbec1Linux (Ubuntu 18.04.5 LTS) / x86_64  OK    OK    OK  UNNEEDED, same version exists in internal repository
tokay1Windows Server 2012 R2 Standard / x64  OK    OK    OK    OK  UNNEEDED, same version exists in internal repository
merida1macOS 10.14.6 Mojave / x86_64  OK    OK    OK    OK  UNNEEDED, same version exists in internal repository

Results for Bioconductor software packages that depend directly on package ComplexHeatmap

QUICK STATSOS / ArchINSTALLBUILDCHECKBUILD BIN
malbec1Linux (Ubuntu 18.04.5 LTS) / x86_64
0037
0235
02429
tokay1Windows Server 2012 R2 Standard / x64
0037
0235
02726
0035
merida1macOS 10.14.6 Mojave / x86_64
0037
0235
02429
0035
Package 1/37HostnameOS / ArchINSTALLBUILDCHECKBUILD BIN
AMARETTO 1.6.0  (landing page)
Olivier Gevaert
Last Commit: 0deca3f
Last Changed Date: 2020-10-27 11:43:56 -0400
malbec1Linux (Ubuntu 18.04.5 LTS) / x86_64  OK    OK    OK  UNNEEDED, same version exists in internal repository
tokay1Windows Server 2012 R2 Standard / x64  OK    OK    OK    OK  UNNEEDED, same version exists in internal repository
merida1macOS 10.14.6 Mojave / x86_64  OK    OK    OK    OK  UNNEEDED, same version exists in internal repository
Package 2/37HostnameOS / ArchINSTALLBUILDCHECKBUILD BIN
artMS 1.8.3  (landing page)
David Jimenez-Morales
Last Commit: 43a054f
Last Changed Date: 2021-04-06 03:18:38 -0400
malbec1Linux (Ubuntu 18.04.5 LTS) / x86_64  OK    OK    OK  UNNEEDED, same version exists in internal repository
tokay1Windows Server 2012 R2 Standard / x64  OK    OK    OK    OK  UNNEEDED, same version exists in internal repository
merida1macOS 10.14.6 Mojave / x86_64  OK    OK    OK    OK  UNNEEDED, same version exists in internal repository
Package 3/37HostnameOS / ArchINSTALLBUILDCHECKBUILD BIN
BiocOncoTK 1.10.0  (landing page)
VJ Carey
Last Commit: 4267875
Last Changed Date: 2020-10-27 11:35:12 -0400
malbec1Linux (Ubuntu 18.04.5 LTS) / x86_64  OK    OK    OK  UNNEEDED, same version exists in internal repository
tokay1Windows Server 2012 R2 Standard / x64  OK    OK    WARNINGS    OK  UNNEEDED, same version exists in internal repository
merida1macOS 10.14.6 Mojave / x86_64  OK    OK    OK    OK  UNNEEDED, same version exists in internal repository
Package 4/37HostnameOS / ArchINSTALLBUILDCHECKBUILD BIN
blacksheepr 1.4.0  (landing page)
RugglesLab
Last Commit: 558236a
Last Changed Date: 2020-10-27 11:50:16 -0400
malbec1Linux (Ubuntu 18.04.5 LTS) / x86_64  OK    OK    OK  UNNEEDED, same version exists in internal repository
tokay1Windows Server 2012 R2 Standard / x64  OK    OK    OK    OK  UNNEEDED, same version exists in internal repository
merida1macOS 10.14.6 Mojave / x86_64  OK    OK    OK    OK  UNNEEDED, same version exists in internal repository
Package 5/37HostnameOS / ArchINSTALLBUILDCHECKBUILD BIN
CATALYST 1.14.1  (landing page)
Helena L. Crowell
Last Commit: 0c0f428
Last Changed Date: 2021-04-28 04:01:37 -0400
malbec1Linux (Ubuntu 18.04.5 LTS) / x86_64  OK    OK    OK  UNNEEDED, same version exists in internal repository
tokay1Windows Server 2012 R2 Standard / x64  OK    OK    OK    OK  UNNEEDED, same version exists in internal repository
merida1macOS 10.14.6 Mojave / x86_64  OK    OK    OK    OK  UNNEEDED, same version exists in internal repository
Package 6/37HostnameOS / ArchINSTALLBUILDCHECKBUILD BIN
celda 1.6.1  (landing page)
Joshua Campbell
Last Commit: c18034f
Last Changed Date: 2020-10-27 13:51:27 -0400
malbec1Linux (Ubuntu 18.04.5 LTS) / x86_64  OK    OK    OK  UNNEEDED, same version exists in internal repository
tokay1Windows Server 2012 R2 Standard / x64  OK    OK    OK    OK  UNNEEDED, same version exists in internal repository
merida1macOS 10.14.6 Mojave / x86_64  OK    OK    OK    OK  UNNEEDED, same version exists in internal repository
Package 7/37HostnameOS / ArchINSTALLBUILDCHECKBUILD BIN
CeTF 1.2.4  (landing page)
Carlos Alberto Oliveira de Biagi Junior
Last Commit: 2896169
Last Changed Date: 2020-11-23 09:24:27 -0400
malbec1Linux (Ubuntu 18.04.5 LTS) / x86_64  OK    OK    OK  UNNEEDED, same version exists in internal repository
tokay1Windows Server 2012 R2 Standard / x64  OK    OK    OK    OK  UNNEEDED, same version exists in internal repository
merida1macOS 10.14.6 Mojave / x86_64  OK    OK    OK    OK  UNNEEDED, same version exists in internal repository
Package 8/37HostnameOS / ArchINSTALLBUILDCHECKBUILD BIN
COCOA 2.4.0  (landing page)
John Lawson
Last Commit: 9a75d3f
Last Changed Date: 2020-10-27 11:40:00 -0400
malbec1Linux (Ubuntu 18.04.5 LTS) / x86_64  OK    OK    OK  UNNEEDED, same version exists in internal repository
tokay1Windows Server 2012 R2 Standard / x64  OK    OK    OK    OK  UNNEEDED, same version exists in internal repository
merida1macOS 10.14.6 Mojave / x86_64  OK    OK    OK    OK  UNNEEDED, same version exists in internal repository
Package 9/37HostnameOS / ArchINSTALLBUILDCHECKBUILD BIN
cola 1.6.0  (landing page)
Zuguang Gu
Last Commit: 2008ea7
Last Changed Date: 2020-10-27 11:41:51 -0400
malbec1Linux (Ubuntu 18.04.5 LTS) / x86_64  OK    OK    OK  UNNEEDED, same version exists in internal repository
tokay1Windows Server 2012 R2 Standard / x64  OK    OK    OK    OK  UNNEEDED, same version exists in internal repository
merida1macOS 10.14.6 Mojave / x86_64  OK    OK    OK    OK  UNNEEDED, same version exists in internal repository
Package 10/37HostnameOS / ArchINSTALLBUILDCHECKBUILD BIN
DEComplexDisease 1.10.0  (landing page)
Guofeng Meng
Last Commit: 0ebebc3
Last Changed Date: 2020-10-27 11:31:59 -0400
malbec1Linux (Ubuntu 18.04.5 LTS) / x86_64  OK    OK    OK  UNNEEDED, same version exists in internal repository
tokay1Windows Server 2012 R2 Standard / x64  OK    OK    OK    OK  UNNEEDED, same version exists in internal repository
merida1macOS 10.14.6 Mojave / x86_64  OK    OK    OK    OK  UNNEEDED, same version exists in internal repository
Package 11/37HostnameOS / ArchINSTALLBUILDCHECKBUILD BIN
DEGreport 1.26.0  (landing page)
Lorena Pantano
Last Commit: 18aeb4f
Last Changed Date: 2020-10-27 10:57:10 -0400
malbec1Linux (Ubuntu 18.04.5 LTS) / x86_64  OK    OK    OK  UNNEEDED, same version exists in internal repository
tokay1Windows Server 2012 R2 Standard / x64  OK    OK    OK    OK  UNNEEDED, same version exists in internal repository
merida1macOS 10.14.6 Mojave / x86_64  OK    OK    OK    OK  UNNEEDED, same version exists in internal repository
Package 12/37HostnameOS / ArchINSTALLBUILDCHECKBUILD BIN
DEP 1.12.0  (landing page)
Arne Smits
Last Commit: d9de56f
Last Changed Date: 2020-10-27 11:26:35 -0400
malbec1Linux (Ubuntu 18.04.5 LTS) / x86_64  OK    OK    OK  UNNEEDED, same version exists in internal repository
tokay1Windows Server 2012 R2 Standard / x64  OK    OK    OK    OK  UNNEEDED, same version exists in internal repository
merida1macOS 10.14.6 Mojave / x86_64  OK    OK    OK    OK  UNNEEDED, same version exists in internal repository
Package 13/37HostnameOS / ArchINSTALLBUILDCHECKBUILD BIN
diffcyt 1.10.0  (landing page)
Lukas M. Weber
Last Commit: d186f82
Last Changed Date: 2020-10-27 11:34:10 -0400
malbec1Linux (Ubuntu 18.04.5 LTS) / x86_64  OK    OK    OK  UNNEEDED, same version exists in internal repository
tokay1Windows Server 2012 R2 Standard / x64  OK    OK    OK    OK  UNNEEDED, same version exists in internal repository
merida1macOS 10.14.6 Mojave / x86_64  OK    OK    OK    OK  UNNEEDED, same version exists in internal repository
Package 14/37HostnameOS / ArchINSTALLBUILDCHECKBUILD BIN
ELMER 2.14.0  (landing page)
Tiago Chedraoui Silva
Last Commit: 1a74024
Last Changed Date: 2020-10-27 11:05:43 -0400
malbec1Linux (Ubuntu 18.04.5 LTS) / x86_64  OK    OK    OK  UNNEEDED, same version exists in internal repository
tokay1Windows Server 2012 R2 Standard / x64  OK    OK    OK    OK  UNNEEDED, same version exists in internal repository
merida1macOS 10.14.6 Mojave / x86_64  OK    OK    OK    OK  UNNEEDED, same version exists in internal repository
Package 15/37HostnameOS / ArchINSTALLBUILDCHECKBUILD BIN
EnrichedHeatmap 1.20.0  (landing page)
Zuguang Gu
Last Commit: 3bcdeac
Last Changed Date: 2020-10-27 11:08:11 -0400
malbec1Linux (Ubuntu 18.04.5 LTS) / x86_64  OK    OK    OK  UNNEEDED, same version exists in internal repository
tokay1Windows Server 2012 R2 Standard / x64  OK    OK    OK    OK  UNNEEDED, same version exists in internal repository
merida1macOS 10.14.6 Mojave / x86_64  OK    OK    OK    OK  UNNEEDED, same version exists in internal repository
Package 16/37HostnameOS / ArchINSTALLBUILDCHECKBUILD BIN
fCCAC 1.16.0  (landing page)
Pedro Madrigal
Last Commit: 34a8c76
Last Changed Date: 2020-10-27 11:19:21 -0400
malbec1Linux (Ubuntu 18.04.5 LTS) / x86_64  OK    OK    OK  UNNEEDED, same version exists in internal repository
tokay1Windows Server 2012 R2 Standard / x64  OK    OK    OK    OK  UNNEEDED, same version exists in internal repository
merida1macOS 10.14.6 Mojave / x86_64  OK    OK    OK    OK  UNNEEDED, same version exists in internal repository
Package 17/37HostnameOS / ArchINSTALLBUILDCHECKBUILD BIN
GeneTonic 1.2.0  (landing page)
Federico Marini
Last Commit: 6b41744
Last Changed Date: 2020-10-27 11:53:11 -0400
malbec1Linux (Ubuntu 18.04.5 LTS) / x86_64  OK    OK    OK  UNNEEDED, same version exists in internal repository
tokay1Windows Server 2012 R2 Standard / x64  OK    OK    OK    OK  UNNEEDED, same version exists in internal repository
merida1macOS 10.14.6 Mojave / x86_64  OK    OK    OK    OK  UNNEEDED, same version exists in internal repository
Package 18/37HostnameOS / ArchINSTALLBUILDCHECKBUILD BIN
gmoviz 1.2.0  (landing page)
Kathleen Zeglinski
Last Commit: 67f6302
Last Changed Date: 2020-10-27 11:54:40 -0400
malbec1Linux (Ubuntu 18.04.5 LTS) / x86_64  OK    OK    OK  UNNEEDED, same version exists in internal repository
tokay1Windows Server 2012 R2 Standard / x64  OK    OK    OK    OK  UNNEEDED, same version exists in internal repository
merida1macOS 10.14.6 Mojave / x86_64  OK    OK    OK    OK  UNNEEDED, same version exists in internal repository
Package 19/37HostnameOS / ArchINSTALLBUILDCHECKBUILD BIN
ImpulseDE2 1.14.0  (landing page)
David S Fischer
Last Commit: c2f4775
Last Changed Date: 2020-10-27 11:23:35 -0400
malbec1Linux (Ubuntu 18.04.5 LTS) / x86_64  OK    OK    ERROR  
tokay1Windows Server 2012 R2 Standard / x64  OK    OK    ERROR    OK  
merida1macOS 10.14.6 Mojave / x86_64  OK    OK    ERROR    OK  
Package 20/37HostnameOS / ArchINSTALLBUILDCHECKBUILD BIN
iSEE 2.2.4  (landing page)
Kevin Rue-Albrecht
Last Commit: b5d95ef
Last Changed Date: 2021-02-01 06:00:45 -0400
malbec1Linux (Ubuntu 18.04.5 LTS) / x86_64  OK    OK    OK  UNNEEDED, same version exists in internal repository
tokay1Windows Server 2012 R2 Standard / x64  OK    OK    OK    OK  UNNEEDED, same version exists in internal repository
merida1macOS 10.14.6 Mojave / x86_64  OK    OK    OK    OK  UNNEEDED, same version exists in internal repository
Package 21/37HostnameOS / ArchINSTALLBUILDCHECKBUILD BIN
LineagePulse 1.10.0  (landing page)
David S Fischer
Last Commit: 9ccb5a6
Last Changed Date: 2020-10-27 11:30:28 -0400
malbec1Linux (Ubuntu 18.04.5 LTS) / x86_64  OK    OK    WARNINGS  UNNEEDED, same version exists in internal repository
tokay1Windows Server 2012 R2 Standard / x64  OK    OK    WARNINGS    OK  UNNEEDED, same version exists in internal repository
merida1macOS 10.14.6 Mojave / x86_64  OK    OK    WARNINGS    OK  UNNEEDED, same version exists in internal repository
Package 22/37HostnameOS / ArchINSTALLBUILDCHECKBUILD BIN
MesKit 1.0.1  (landing page)
Mengni Liu
Last Commit: 5896d35
Last Changed Date: 2021-03-26 21:12:13 -0400
malbec1Linux (Ubuntu 18.04.5 LTS) / x86_64  OK    OK    WARNINGS  UNNEEDED, same version exists in internal repository
tokay1Windows Server 2012 R2 Standard / x64  OK    OK    WARNINGS    OK  UNNEEDED, same version exists in internal repository
merida1macOS 10.14.6 Mojave / x86_64  OK    OK    WARNINGS    OK  UNNEEDED, same version exists in internal repository
Package 23/37HostnameOS / ArchINSTALLBUILDCHECKBUILD BIN
MOMA 1.2.0  (landing page)
Sunny Jones
Last Commit: 4a9d5ef
Last Changed Date: 2020-10-27 11:56:36 -0400
malbec1Linux (Ubuntu 18.04.5 LTS) / x86_64  OK    OK    OK  UNNEEDED, same version exists in internal repository
tokay1Windows Server 2012 R2 Standard / x64  OK    OK    OK    OK  UNNEEDED, same version exists in internal repository
merida1macOS 10.14.6 Mojave / x86_64  OK    OK    OK    OK  UNNEEDED, same version exists in internal repository
Package 24/37HostnameOS / ArchINSTALLBUILDCHECKBUILD BIN
muscat 1.4.0  (landing page)
Helena L. Crowell
Last Commit: f9eef39
Last Changed Date: 2020-10-27 11:48:47 -0400
malbec1Linux (Ubuntu 18.04.5 LTS) / x86_64  OK    OK    OK  UNNEEDED, same version exists in internal repository
tokay1Windows Server 2012 R2 Standard / x64  OK    OK    WARNINGS    OK  UNNEEDED, same version exists in internal repository
merida1macOS 10.14.6 Mojave / x86_64  OK    OK    OK    OK  UNNEEDED, same version exists in internal repository
Package 25/37HostnameOS / ArchINSTALLBUILDCHECKBUILD BIN
MWASTools 1.14.0  (landing page)
Andrea Rodriguez-Martinez , Rafael Ayala
Last Commit: 6fba3b0
Last Changed Date: 2020-10-27 11:19:37 -0400
malbec1Linux (Ubuntu 18.04.5 LTS) / x86_64  OK    OK    OK  UNNEEDED, same version exists in internal repository
tokay1Windows Server 2012 R2 Standard / x64  OK    OK    OK    OK  UNNEEDED, same version exists in internal repository
merida1macOS 10.14.6 Mojave / x86_64  OK    OK    OK    OK  UNNEEDED, same version exists in internal repository
Package 26/37HostnameOS / ArchINSTALLBUILDCHECKBUILD BIN
PathoStat 1.16.0  (landing page)
Solaiappan Manimaran
Last Commit: d3ef0ce
Last Changed Date: 2020-10-27 11:18:31 -0400
malbec1Linux (Ubuntu 18.04.5 LTS) / x86_64  OK    OK    OK  UNNEEDED, same version exists in internal repository
tokay1Windows Server 2012 R2 Standard / x64  OK    OK    OK    OK  UNNEEDED, same version exists in internal repository
merida1macOS 10.14.6 Mojave / x86_64  OK    OK    OK    OK  UNNEEDED, same version exists in internal repository
Package 27/37HostnameOS / ArchINSTALLBUILDCHECKBUILD BIN
PeacoQC 1.0.0  (landing page)
Annelies Emmaneel
Last Commit: 2039ad0
Last Changed Date: 2020-10-27 11:58:06 -0400
malbec1Linux (Ubuntu 18.04.5 LTS) / x86_64  OK    ERROR  skipped
tokay1Windows Server 2012 R2 Standard / x64  OK    ERROR  skippedskipped
merida1macOS 10.14.6 Mojave / x86_64  OK    ERROR  skippedskipped
Package 28/37HostnameOS / ArchINSTALLBUILDCHECKBUILD BIN
pipeComp 1.0.0  (landing page)
Pierre-Luc Germain
Last Commit: 6539449
Last Changed Date: 2020-10-27 11:58:26 -0400
malbec1Linux (Ubuntu 18.04.5 LTS) / x86_64  OK    OK    OK  UNNEEDED, same version exists in internal repository
tokay1Windows Server 2012 R2 Standard / x64  OK    OK    OK    OK  UNNEEDED, same version exists in internal repository
merida1macOS 10.14.6 Mojave / x86_64  OK    OK    OK    OK  UNNEEDED, same version exists in internal repository
Package 29/37HostnameOS / ArchINSTALLBUILDCHECKBUILD BIN
POMA 1.0.0  (landing page)
Pol Castellano-Escuder
Last Commit: 801ae7b
Last Changed Date: 2020-10-27 11:59:20 -0400
malbec1Linux (Ubuntu 18.04.5 LTS) / x86_64  OK    ERROR  skipped
tokay1Windows Server 2012 R2 Standard / x64  OK    ERROR  skippedskipped
merida1macOS 10.14.6 Mojave / x86_64  OK    ERROR  skippedskipped
Package 30/37HostnameOS / ArchINSTALLBUILDCHECKBUILD BIN
profileplyr 1.6.0  (landing page)
Tom Carroll , Doug Barrows
Last Commit: 6b87625
Last Changed Date: 2020-10-27 11:44:50 -0400
malbec1Linux (Ubuntu 18.04.5 LTS) / x86_64  OK    OK    WARNINGS  UNNEEDED, same version exists in internal repository
tokay1Windows Server 2012 R2 Standard / x64  OK    OK    WARNINGS    OK  UNNEEDED, same version exists in internal repository
merida1macOS 10.14.6 Mojave / x86_64  OK    OK    WARNINGS    OK  UNNEEDED, same version exists in internal repository
Package 31/37HostnameOS / ArchINSTALLBUILDCHECKBUILD BIN
recoup 1.18.0  (landing page)
Panagiotis Moulos
Last Commit: 71261f1
Last Changed Date: 2020-10-27 11:12:57 -0400
malbec1Linux (Ubuntu 18.04.5 LTS) / x86_64  OK    OK    OK  UNNEEDED, same version exists in internal repository
tokay1Windows Server 2012 R2 Standard / x64  OK    OK    OK    OK  UNNEEDED, same version exists in internal repository
merida1macOS 10.14.6 Mojave / x86_64  OK    OK    OK    OK  UNNEEDED, same version exists in internal repository
Package 32/37HostnameOS / ArchINSTALLBUILDCHECKBUILD BIN
SEtools 1.4.0  (landing page)
Pierre-Luc Germain
Last Commit: 035e0cc
Last Changed Date: 2020-10-27 11:49:14 -0400
malbec1Linux (Ubuntu 18.04.5 LTS) / x86_64  OK    OK    WARNINGS  UNNEEDED, same version exists in internal repository
tokay1Windows Server 2012 R2 Standard / x64  OK    OK    WARNINGS    OK  UNNEEDED, same version exists in internal repository
merida1macOS 10.14.6 Mojave / x86_64  OK    OK    WARNINGS    OK  UNNEEDED, same version exists in internal repository
Package 33/37HostnameOS / ArchINSTALLBUILDCHECKBUILD BIN
simplifyEnrichment 1.0.0  (landing page)
Zuguang Gu
Last Commit: 8e81880
Last Changed Date: 2020-10-27 11:57:49 -0400
malbec1Linux (Ubuntu 18.04.5 LTS) / x86_64  OK    OK    OK  UNNEEDED, same version exists in internal repository
tokay1Windows Server 2012 R2 Standard / x64  OK    OK    OK    OK  UNNEEDED, same version exists in internal repository
merida1macOS 10.14.6 Mojave / x86_64  OK    OK    OK    OK  UNNEEDED, same version exists in internal repository
Package 34/37HostnameOS / ArchINSTALLBUILDCHECKBUILD BIN
singleCellTK 2.0.0  (landing page)
Yusuke Koga
Last Commit: e97b135
Last Changed Date: 2020-10-27 11:34:50 -0400
malbec1Linux (Ubuntu 18.04.5 LTS) / x86_64  OK    OK    ERROR  
tokay1Windows Server 2012 R2 Standard / x64  OK    OK    ERROR    OK  
merida1macOS 10.14.6 Mojave / x86_64  OK    OK    ERROR    OK  
Package 35/37HostnameOS / ArchINSTALLBUILDCHECKBUILD BIN
TBSignatureProfiler 1.2.0  (landing page)
David Jenkins
Last Commit: 16ccdd3
Last Changed Date: 2020-10-27 11:56:28 -0400
malbec1Linux (Ubuntu 18.04.5 LTS) / x86_64  OK    OK    OK  UNNEEDED, same version exists in internal repository
tokay1Windows Server 2012 R2 Standard / x64  OK    OK    OK    OK  UNNEEDED, same version exists in internal repository
merida1macOS 10.14.6 Mojave / x86_64  OK    OK    OK    OK  UNNEEDED, same version exists in internal repository
Package 36/37HostnameOS / ArchINSTALLBUILDCHECKBUILD BIN
Xeva 1.6.0  (landing page)
Benjamin Haibe-Kains
Last Commit: 87d94c1
Last Changed Date: 2020-10-27 11:43:19 -0400
malbec1Linux (Ubuntu 18.04.5 LTS) / x86_64  OK    OK    OK  UNNEEDED, same version exists in internal repository
tokay1Windows Server 2012 R2 Standard / x64  OK    OK    OK    OK  UNNEEDED, same version exists in internal repository
merida1macOS 10.14.6 Mojave / x86_64  OK    OK    OK    OK  UNNEEDED, same version exists in internal repository
Package 37/37HostnameOS / ArchINSTALLBUILDCHECKBUILD BIN
YAPSA 1.16.0  (landing page)
Daniel Huebschmann
Last Commit: f344cdb
Last Changed Date: 2020-10-27 11:17:17 -0400
malbec1Linux (Ubuntu 18.04.5 LTS) / x86_64  OK    OK    OK  UNNEEDED, same version exists in internal repository
tokay1Windows Server 2012 R2 Standard / x64  OK    OK    WARNINGS    OK  UNNEEDED, same version exists in internal repository
merida1macOS 10.14.6 Mojave / x86_64  OK    OK    OK    OK  UNNEEDED, same version exists in internal repository