Back to Multiple platform build/check report for BioC 3.12
AB[C]DEFGHIJKLMNOPQRSTUVWXYZ

BUILD report for ChemmineR on merida1

This page was generated on 2021-05-05 12:13:53 -0400 (Wed, 05 May 2021).

To the developers/maintainers of the ChemmineR package:
Please make sure to use the following settings in order to reproduce any error or warning you see on this page.
Package 276/1974HostnameOS / ArchINSTALLBUILDCHECKBUILD BIN
ChemmineR 3.42.2  (landing page)
Thomas Girke
Snapshot Date: 2021-05-04 14:50:13 -0400 (Tue, 04 May 2021)
URL: https://git.bioconductor.org/packages/ChemmineR
Branch: RELEASE_3_12
Last Commit: d1536d5
Last Changed Date: 2021-02-25 13:09:29 -0400 (Thu, 25 Feb 2021)
malbec1Linux (Ubuntu 18.04.5 LTS) / x86_64  OK    OK    OK  UNNEEDED, same version exists in internal repository
tokay1Windows Server 2012 R2 Standard / x64  OK    OK    ERROR    OK  
merida1macOS 10.14.6 Mojave / x86_64  OK    OK    WARNINGS    OK  UNNEEDED, same version exists in internal repository

Summary

Package: ChemmineR
Version: 3.42.2
Command: /Library/Frameworks/R.framework/Versions/Current/Resources/bin/R CMD build --keep-empty-dirs --no-resave-data ChemmineR
StartedAt: 2021-05-04 18:39:07 -0400 (Tue, 04 May 2021)
EndedAt: 2021-05-04 18:40:17 -0400 (Tue, 04 May 2021)
EllapsedTime: 70.2 seconds
RetCode: 0
Status:   OK  
PackageFile: ChemmineR_3.42.2.tar.gz
PackageFileSize: 1.892 MiB

Command output

##############################################################################
##############################################################################
###
### Running command:
###
###   /Library/Frameworks/R.framework/Versions/Current/Resources/bin/R CMD build --keep-empty-dirs --no-resave-data ChemmineR
###
##############################################################################
##############################################################################


* checking for file ‘ChemmineR/DESCRIPTION’ ... OK
* preparing ‘ChemmineR’:
* checking DESCRIPTION meta-information ... OK
* cleaning src
* installing the package to build vignettes
* creating vignettes ... OK
* cleaning src
* checking for LF line-endings in source and make files and shell scripts
* checking for empty or unneeded directories
* looking to see if a ‘data/datalist’ file should be added
* building ‘ChemmineR_3.42.2.tar.gz’