Back to Multiple platform build/check report for BioC 3.12
AB[C]DEFGHIJKLMNOPQRSTUVWXYZ

BUILD BIN report for CCPROMISE on tokay1

This page was generated on 2021-05-05 12:11:28 -0400 (Wed, 05 May 2021).

To the developers/maintainers of the CCPROMISE package:
Please make sure to use the following settings in order to reproduce any error or warning you see on this page.
Package 245/1974HostnameOS / ArchINSTALLBUILDCHECKBUILD BIN
CCPROMISE 1.16.0  (landing page)
Xueyuan Cao
Snapshot Date: 2021-05-04 14:50:13 -0400 (Tue, 04 May 2021)
URL: https://git.bioconductor.org/packages/CCPROMISE
Branch: RELEASE_3_12
Last Commit: f273cb2
Last Changed Date: 2020-10-27 11:19:17 -0400 (Tue, 27 Oct 2020)
malbec1Linux (Ubuntu 18.04.5 LTS) / x86_64  OK    OK    WARNINGS  UNNEEDED, same version exists in internal repository
tokay1Windows Server 2012 R2 Standard / x64  OK    OK    WARNINGS    OK  UNNEEDED, same version exists in internal repository
merida1macOS 10.14.6 Mojave / x86_64  OK    OK    WARNINGS    OK  UNNEEDED, same version exists in internal repository

Summary

Package: CCPROMISE
Version: 1.16.0
Command: rm -rf CCPROMISE.buildbin-libdir && mkdir CCPROMISE.buildbin-libdir && C:\Users\biocbuild\bbs-3.12-bioc\R\bin\R.exe CMD INSTALL --merge-multiarch --build --library=CCPROMISE.buildbin-libdir CCPROMISE_1.16.0.tar.gz
StartedAt: 2021-05-05 08:41:35 -0400 (Wed, 05 May 2021)
EndedAt: 2021-05-05 08:42:07 -0400 (Wed, 05 May 2021)
EllapsedTime: 32.1 seconds
RetCode: 0
Status:   OK   
PackageFile: CCPROMISE_1.16.0.zip
PackageFileSize: 1.135 MiB

Command output

##############################################################################
##############################################################################
###
### Running command:
###
###   rm -rf CCPROMISE.buildbin-libdir && mkdir CCPROMISE.buildbin-libdir && C:\Users\biocbuild\bbs-3.12-bioc\R\bin\R.exe CMD INSTALL --merge-multiarch --build --library=CCPROMISE.buildbin-libdir CCPROMISE_1.16.0.tar.gz
###
##############################################################################
##############################################################################



install for i386

* installing *source* package 'CCPROMISE' ...
** using staged installation
** R
** data
** inst
** byte-compile and prepare package for lazy loading
Note: break used in wrong context: no loop is visible 
Note: break used in wrong context: no loop is visible 
Note: break used in wrong context: no loop is visible 
Note: break used in wrong context: no loop is visible 
** help
*** installing help indices
  converting help for package 'CCPROMISE'
    finding HTML links ... done
    CANN                                    html  
    CCPROMISE-package                       html  
    CCPROMISE                               html  
    PROMISE2                                html  
    PrbCor                                  html  
    PrbPROMISE                              html  
    exmplESet                               html  
    exmplGeneSet                            html  
    exmplMSet                               html  
    exmplPat                                html  
** building package indices
** installing vignettes
** testing if installed package can be loaded from temporary location
** testing if installed package can be loaded from final location
** testing if installed package keeps a record of temporary installation path

install for x64

* installing *source* package 'CCPROMISE' ...
** testing if installed package can be loaded
* MD5 sums
packaged installation of 'CCPROMISE' as CCPROMISE_1.16.0.zip
* DONE (CCPROMISE)