Back to Multiple platform build/check report for BioC 3.12
AB[C]DEFGHIJKLMNOPQRSTUVWXYZ

BUILD report for CCPROMISE on merida1

This page was generated on 2021-05-05 12:13:52 -0400 (Wed, 05 May 2021).

To the developers/maintainers of the CCPROMISE package:
Please make sure to use the following settings in order to reproduce any error or warning you see on this page.
Package 245/1974HostnameOS / ArchINSTALLBUILDCHECKBUILD BIN
CCPROMISE 1.16.0  (landing page)
Xueyuan Cao
Snapshot Date: 2021-05-04 14:50:13 -0400 (Tue, 04 May 2021)
URL: https://git.bioconductor.org/packages/CCPROMISE
Branch: RELEASE_3_12
Last Commit: f273cb2
Last Changed Date: 2020-10-27 11:19:17 -0400 (Tue, 27 Oct 2020)
malbec1Linux (Ubuntu 18.04.5 LTS) / x86_64  OK    OK    WARNINGS  UNNEEDED, same version exists in internal repository
tokay1Windows Server 2012 R2 Standard / x64  OK    OK    WARNINGS    OK  UNNEEDED, same version exists in internal repository
merida1macOS 10.14.6 Mojave / x86_64  OK    OK    WARNINGS    OK  UNNEEDED, same version exists in internal repository

Summary

Package: CCPROMISE
Version: 1.16.0
Command: /Library/Frameworks/R.framework/Versions/Current/Resources/bin/R CMD build --keep-empty-dirs --no-resave-data CCPROMISE
StartedAt: 2021-05-04 18:34:35 -0400 (Tue, 04 May 2021)
EndedAt: 2021-05-04 18:35:21 -0400 (Tue, 04 May 2021)
EllapsedTime: 46.2 seconds
RetCode: 0
Status:   OK  
PackageFile: CCPROMISE_1.16.0.tar.gz
PackageFileSize: 1.069 MiB

Command output

##############################################################################
##############################################################################
###
### Running command:
###
###   /Library/Frameworks/R.framework/Versions/Current/Resources/bin/R CMD build --keep-empty-dirs --no-resave-data CCPROMISE
###
##############################################################################
##############################################################################


* checking for file ‘CCPROMISE/DESCRIPTION’ ... OK
* preparing ‘CCPROMISE’:
* checking DESCRIPTION meta-information ... OK
* installing the package to build vignettes
* creating vignettes ... OK
* checking for LF line-endings in source and make files and shell scripts
* checking for empty or unneeded directories
* looking to see if a ‘data/datalist’ file should be added
* building ‘CCPROMISE_1.16.0.tar.gz’