Back to Multiple platform build/check report for BioC 3.12
A[B]CDEFGHIJKLMNOPQRSTUVWXYZ

Multiple platform build/check report for BioC 3.12

All results for package Biostrings

This page was generated on 2021-05-06 12:25:36 -0400 (Thu, 06 May 2021).

Package 187/1974HostnameOS / ArchINSTALLBUILDCHECKBUILD BIN
Biostrings 2.58.0  (landing page)
H. Pagès
Snapshot Date: 2021-05-05 14:51:38 -0400 (Wed, 05 May 2021)
URL: https://git.bioconductor.org/packages/Biostrings
Branch: RELEASE_3_12
Last Commit: 0ec1a54
Last Changed Date: 2020-10-27 10:23:25 -0400 (Tue, 27 Oct 2020)
malbec1Linux (Ubuntu 18.04.5 LTS) / x86_64  OK    OK    WARNINGS  UNNEEDED, same version exists in internal repository
tokay1Windows Server 2012 R2 Standard / x64  OK    OK    WARNINGS    OK  UNNEEDED, same version exists in internal repository
merida1macOS 10.14.6 Mojave / x86_64  OK    OK    WARNINGS    OK  UNNEEDED, same version exists in internal repository

Results for Bioconductor software packages that depend directly on package Biostrings

QUICK STATSOS / ArchINSTALLBUILDCHECKBUILD BIN
malbec1Linux (Ubuntu 18.04.5 LTS) / x86_64
00248
05243
0841194
tokay1Windows Server 2012 R2 Standard / x64
00240
05235
11172151
01234
merida1macOS 10.14.6 Mojave / x86_64
01246
03244
01037197
00244
Package 1/248HostnameOS / ArchINSTALLBUILDCHECKBUILD BIN
AffyCompatible 1.50.0  (landing page)
Martin Morgan
Last Commit: 3b12d12
Last Changed Date: 2020-10-27 10:33:21 -0400
malbec1Linux (Ubuntu 18.04.5 LTS) / x86_64  OK    OK    OK  UNNEEDED, same version exists in internal repository
tokay1Windows Server 2012 R2 Standard / x64  OK    OK    OK    OK  UNNEEDED, same version exists in internal repository
merida1macOS 10.14.6 Mojave / x86_64  OK    OK    OK    OK  UNNEEDED, same version exists in internal repository
Package 2/248HostnameOS / ArchINSTALLBUILDCHECKBUILD BIN
AllelicImbalance 1.28.0  (landing page)
Jesper R Gadin
Last Commit: ac5d13c
Last Changed Date: 2020-10-27 10:53:07 -0400
malbec1Linux (Ubuntu 18.04.5 LTS) / x86_64  OK    OK    OK  UNNEEDED, same version exists in internal repository
tokay1Windows Server 2012 R2 Standard / x64  OK    OK    OK    OK  UNNEEDED, same version exists in internal repository
merida1macOS 10.14.6 Mojave / x86_64  OK    OK    OK    OK  UNNEEDED, same version exists in internal repository
Package 3/248HostnameOS / ArchINSTALLBUILDCHECKBUILD BIN
alpine 1.16.0  (landing page)
Michael Love
Last Commit: aee3977
Last Changed Date: 2020-10-27 11:17:10 -0400
malbec1Linux (Ubuntu 18.04.5 LTS) / x86_64  OK    OK    OK  UNNEEDED, same version exists in internal repository
tokay1Windows Server 2012 R2 Standard / x64  OK    OK    OK    OK  UNNEEDED, same version exists in internal repository
merida1macOS 10.14.6 Mojave / x86_64  OK    OK    OK    OK  UNNEEDED, same version exists in internal repository
Package 4/248HostnameOS / ArchINSTALLBUILDCHECKBUILD BIN
altcdfenvs 2.52.0  (landing page)
Laurent Gautier
Last Commit: 21329ab
Last Changed Date: 2020-10-27 10:23:45 -0400
malbec1Linux (Ubuntu 18.04.5 LTS) / x86_64  OK    OK    OK  UNNEEDED, same version exists in internal repository
tokay1Windows Server 2012 R2 Standard / x64  OK    OK    OK    OK  UNNEEDED, same version exists in internal repository
merida1macOS 10.14.6 Mojave / x86_64  OK    OK    OK    OK  UNNEEDED, same version exists in internal repository
Package 5/248HostnameOS / ArchINSTALLBUILDCHECKBUILD BIN
amplican 1.12.0  (landing page)
Eivind Valen
Last Commit: f593f59
Last Changed Date: 2020-10-27 11:27:25 -0400
malbec1Linux (Ubuntu 18.04.5 LTS) / x86_64  OK    OK    OK  UNNEEDED, same version exists in internal repository
tokay1Windows Server 2012 R2 Standard / x64  OK    OK    OK    OK  UNNEEDED, same version exists in internal repository
merida1macOS 10.14.6 Mojave / x86_64  OK    OK    OK    OK  UNNEEDED, same version exists in internal repository
Package 6/248HostnameOS / ArchINSTALLBUILDCHECKBUILD BIN
AneuFinder 1.18.0  (landing page)
Aaron Taudt
Last Commit: 76ec9af
Last Changed Date: 2020-10-27 11:12:55 -0400
malbec1Linux (Ubuntu 18.04.5 LTS) / x86_64  OK    OK    OK  UNNEEDED, same version exists in internal repository
tokay1Windows Server 2012 R2 Standard / x64  OK    OK    OK    OK  UNNEEDED, same version exists in internal repository
merida1macOS 10.14.6 Mojave / x86_64  OK    OK    OK    OK  UNNEEDED, same version exists in internal repository
Package 7/248HostnameOS / ArchINSTALLBUILDCHECKBUILD BIN
AnnotationHubData 1.20.2  (landing page)
Bioconductor Package Maintainer
Last Commit: 60ff8b9
Last Changed Date: 2021-04-16 08:31:14 -0400
malbec1Linux (Ubuntu 18.04.5 LTS) / x86_64  OK    OK    WARNINGS  UNNEEDED, same version exists in internal repository
tokay1Windows Server 2012 R2 Standard / x64  OK    OK    WARNINGS    OK  UNNEEDED, same version exists in internal repository
merida1macOS 10.14.6 Mojave / x86_64  OK    OK    WARNINGS    OK  UNNEEDED, same version exists in internal repository
Package 8/248HostnameOS / ArchINSTALLBUILDCHECKBUILD BIN
appreci8R 1.8.0  (landing page)
Sarah Sandmann
Last Commit: 078ead0
Last Changed Date: 2020-10-27 11:37:03 -0400
malbec1Linux (Ubuntu 18.04.5 LTS) / x86_64  OK    OK    OK  UNNEEDED, same version exists in internal repository
tokay1Windows Server 2012 R2 Standard / x64  OK    OK    OK    OK  UNNEEDED, same version exists in internal repository
merida1macOS 10.14.6 Mojave / x86_64  OK    OK    OK    OK  UNNEEDED, same version exists in internal repository
Package 9/248HostnameOS / ArchINSTALLBUILDCHECKBUILD BIN
ArrayExpressHTS 1.40.0  (landing page)
Angela Goncalves , Andrew Tikhonov
Last Commit: 8e951b9
Last Changed Date: 2020-10-27 10:41:33 -0400
malbec1Linux (Ubuntu 18.04.5 LTS) / x86_64  OK    OK    WARNINGS  UNNEEDED, same version exists in internal repository
tokay1Windows Server 2012 R2 Standard / x64... NOT SUPPORTED ...
merida1macOS 10.14.6 Mojave / x86_64  OK    OK    OK    OK  UNNEEDED, same version exists in internal repository
Package 10/248HostnameOS / ArchINSTALLBUILDCHECKBUILD BIN
AssessORF 1.8.0  (landing page)
Deepank Korandla
Last Commit: 3cb4cb1
Last Changed Date: 2020-10-27 11:40:18 -0400
malbec1Linux (Ubuntu 18.04.5 LTS) / x86_64  OK    OK    OK  UNNEEDED, same version exists in internal repository
tokay1Windows Server 2012 R2 Standard / x64  OK    OK    OK    OK  UNNEEDED, same version exists in internal repository
merida1macOS 10.14.6 Mojave / x86_64  OK    OK    OK    OK  UNNEEDED, same version exists in internal repository
Package 11/248HostnameOS / ArchINSTALLBUILDCHECKBUILD BIN
ATACseqQC 1.14.4  (landing page)
Jianhong Ou
Last Commit: 0728a45
Last Changed Date: 2020-11-05 09:56:56 -0400
malbec1Linux (Ubuntu 18.04.5 LTS) / x86_64  OK    OK    OK  UNNEEDED, same version exists in internal repository
tokay1Windows Server 2012 R2 Standard / x64  OK    OK    OK    OK  UNNEEDED, same version exists in internal repository
merida1macOS 10.14.6 Mojave / x86_64  OK    OK    OK    OK  UNNEEDED, same version exists in internal repository
Package 12/248HostnameOS / ArchINSTALLBUILDCHECKBUILD BIN
Basic4Cseq 1.26.0  (landing page)
Carolin Walter
Last Commit: aa3db3b
Last Changed Date: 2020-10-27 10:55:12 -0400
malbec1Linux (Ubuntu 18.04.5 LTS) / x86_64  OK    OK    OK  UNNEEDED, same version exists in internal repository
tokay1Windows Server 2012 R2 Standard / x64  OK    OK    OK    OK  UNNEEDED, same version exists in internal repository
merida1macOS 10.14.6 Mojave / x86_64  OK    OK    OK    OK  UNNEEDED, same version exists in internal repository
Package 13/248HostnameOS / ArchINSTALLBUILDCHECKBUILD BIN
BBCAnalyzer 1.20.0  (landing page)
Sarah Sandmann
Last Commit: 1ab650d
Last Changed Date: 2020-10-27 11:07:21 -0400
malbec1Linux (Ubuntu 18.04.5 LTS) / x86_64  OK    OK    OK  UNNEEDED, same version exists in internal repository
tokay1Windows Server 2012 R2 Standard / x64  OK    OK    WARNINGS    OK  UNNEEDED, same version exists in internal repository
merida1macOS 10.14.6 Mojave / x86_64  OK    OK    OK    OK  UNNEEDED, same version exists in internal repository
Package 14/248HostnameOS / ArchINSTALLBUILDCHECKBUILD BIN
BCRANK 1.52.0  (landing page)
Adam Ameur
Last Commit: 4976ef5
Last Changed Date: 2020-10-27 10:32:55 -0400
malbec1Linux (Ubuntu 18.04.5 LTS) / x86_64  OK    OK    OK  UNNEEDED, same version exists in internal repository
tokay1Windows Server 2012 R2 Standard / x64  OK    OK    OK    OK  UNNEEDED, same version exists in internal repository
merida1macOS 10.14.6 Mojave / x86_64  OK    OK    OK    OK  UNNEEDED, same version exists in internal repository
Package 15/248HostnameOS / ArchINSTALLBUILDCHECKBUILD BIN
bcSeq 1.12.0  (landing page)
Jiaxing Lin
Last Commit: 6fc7a71
Last Changed Date: 2020-10-27 11:30:03 -0400
malbec1Linux (Ubuntu 18.04.5 LTS) / x86_64  OK    OK    OK  UNNEEDED, same version exists in internal repository
tokay1Windows Server 2012 R2 Standard / x64  OK    OK    WARNINGS    OK  UNNEEDED, same version exists in internal repository
merida1macOS 10.14.6 Mojave / x86_64  OK    OK    OK    OK  UNNEEDED, same version exists in internal repository
Package 16/248HostnameOS / ArchINSTALLBUILDCHECKBUILD BIN
BEAT 1.28.0  (landing page)
Kemal Akman
Last Commit: 5406d3d
Last Changed Date: 2020-10-27 10:54:23 -0400
malbec1Linux (Ubuntu 18.04.5 LTS) / x86_64  OK    OK    OK  UNNEEDED, same version exists in internal repository
tokay1Windows Server 2012 R2 Standard / x64  OK    OK    OK    OK  UNNEEDED, same version exists in internal repository
merida1macOS 10.14.6 Mojave / x86_64  OK    OK    OK    OK  UNNEEDED, same version exists in internal repository
Package 17/248HostnameOS / ArchINSTALLBUILDCHECKBUILD BIN
BgeeCall 1.6.2  (landing page)
Julien Wollbrett
Last Commit: 1b74dcf
Last Changed Date: 2020-12-10 05:55:05 -0400
malbec1Linux (Ubuntu 18.04.5 LTS) / x86_64  OK    OK    OK  UNNEEDED, same version exists in internal repository
tokay1Windows Server 2012 R2 Standard / x64  OK    OK    OK    OK  UNNEEDED, same version exists in internal repository
merida1macOS 10.14.6 Mojave / x86_64  OK    OK    OK    OK  UNNEEDED, same version exists in internal repository
Package 18/248HostnameOS / ArchINSTALLBUILDCHECKBUILD BIN
BioSeqClass 1.48.0  (landing page)
Li Hong
Last Commit: 90ffbf6
Last Changed Date: 2020-10-27 10:37:02 -0400
malbec1Linux (Ubuntu 18.04.5 LTS) / x86_64  OK    ERROR  skipped
tokay1Windows Server 2012 R2 Standard / x64  OK    ERROR  skippedskipped
merida1macOS 10.14.6 Mojave / x86_64  OK    ERROR  skippedskipped
Package 19/248HostnameOS / ArchINSTALLBUILDCHECKBUILD BIN
biovizBase 1.38.0  (landing page)
Michael Lawrence
Last Commit: d0f3362
Last Changed Date: 2020-10-27 10:43:03 -0400
malbec1Linux (Ubuntu 18.04.5 LTS) / x86_64  OK    OK    WARNINGS  UNNEEDED, same version exists in internal repository
tokay1Windows Server 2012 R2 Standard / x64  OK    OK    WARNINGS    OK  UNNEEDED, same version exists in internal repository
merida1macOS 10.14.6 Mojave / x86_64  OK    OK    WARNINGS    OK  UNNEEDED, same version exists in internal repository
Package 20/248HostnameOS / ArchINSTALLBUILDCHECKBUILD BIN
BRAIN 1.36.0  (landing page)
Piotr Dittwald
Last Commit: 2637aed
Last Changed Date: 2020-10-27 10:45:00 -0400
malbec1Linux (Ubuntu 18.04.5 LTS) / x86_64  OK    OK    WARNINGS  UNNEEDED, same version exists in internal repository
tokay1Windows Server 2012 R2 Standard / x64  OK    OK    WARNINGS    OK  UNNEEDED, same version exists in internal repository
merida1macOS 10.14.6 Mojave / x86_64  OK    OK    WARNINGS    OK  UNNEEDED, same version exists in internal repository
Package 21/248HostnameOS / ArchINSTALLBUILDCHECKBUILD BIN
brainflowprobes 1.4.1  (landing page)
Amanda Price
Last Commit: 49252c4
Last Changed Date: 2020-12-18 19:52:36 -0400
malbec1Linux (Ubuntu 18.04.5 LTS) / x86_64  OK    OK    OK  UNNEEDED, same version exists in internal repository
tokay1Windows Server 2012 R2 Standard / x64  OK    OK    OK    OK  UNNEEDED, same version exists in internal repository
merida1macOS 10.14.6 Mojave / x86_64  OK    OK    OK    OK  UNNEEDED, same version exists in internal repository
Package 22/248HostnameOS / ArchINSTALLBUILDCHECKBUILD BIN
branchpointer 1.16.0  (landing page)
Beth Signal
Last Commit: 853ea53
Last Changed Date: 2020-10-27 11:22:25 -0400
malbec1Linux (Ubuntu 18.04.5 LTS) / x86_64  OK    OK    OK  UNNEEDED, same version exists in internal repository
tokay1Windows Server 2012 R2 Standard / x64  OK    OK    OK    OK  UNNEEDED, same version exists in internal repository
merida1macOS 10.14.6 Mojave / x86_64  OK    OK    OK    OK  UNNEEDED, same version exists in internal repository
Package 23/248HostnameOS / ArchINSTALLBUILDCHECKBUILD BIN
BSgenome 1.58.0  (landing page)
H. Pagès
Last Commit: 3a4926e
Last Changed Date: 2020-10-27 10:28:39 -0400
malbec1Linux (Ubuntu 18.04.5 LTS) / x86_64  OK    OK    WARNINGS  UNNEEDED, same version exists in internal repository
tokay1Windows Server 2012 R2 Standard / x64  OK    OK    WARNINGS    OK  UNNEEDED, same version exists in internal repository
merida1macOS 10.14.6 Mojave / x86_64  OK    OK    WARNINGS    OK  UNNEEDED, same version exists in internal repository
Package 24/248HostnameOS / ArchINSTALLBUILDCHECKBUILD BIN
bsseq 1.26.0  (landing page)
Kasper Daniel Hansen
Last Commit: fae3229
Last Changed Date: 2020-10-27 10:46:25 -0400
malbec1Linux (Ubuntu 18.04.5 LTS) / x86_64  OK    OK    OK  UNNEEDED, same version exists in internal repository
tokay1Windows Server 2012 R2 Standard / x64  OK    OK    OK    OK  UNNEEDED, same version exists in internal repository
merida1macOS 10.14.6 Mojave / x86_64  OK    OK    OK    OK  UNNEEDED, same version exists in internal repository
Package 25/248HostnameOS / ArchINSTALLBUILDCHECKBUILD BIN
BUMHMM 1.14.0  (landing page)
Alina Selega
Last Commit: 704c38c
Last Changed Date: 2020-10-27 11:20:05 -0400
malbec1Linux (Ubuntu 18.04.5 LTS) / x86_64  OK    OK    OK  UNNEEDED, same version exists in internal repository
tokay1Windows Server 2012 R2 Standard / x64  OK    OK    OK    OK  UNNEEDED, same version exists in internal repository
merida1macOS 10.14.6 Mojave / x86_64  OK    OK    OK    OK  UNNEEDED, same version exists in internal repository
Package 26/248HostnameOS / ArchINSTALLBUILDCHECKBUILD BIN
BUSpaRse 1.4.2  (landing page)
Lambda Moses
Last Commit: ac591a3
Last Changed Date: 2021-03-01 14:55:24 -0400
malbec1Linux (Ubuntu 18.04.5 LTS) / x86_64  OK    OK    OK  UNNEEDED, same version exists in internal repository
tokay1Windows Server 2012 R2 Standard / x64  OK    OK    OK    OK  UNNEEDED, same version exists in internal repository
merida1macOS 10.14.6 Mojave / x86_64  OK    OK    OK    OK  UNNEEDED, same version exists in internal repository
Package 27/248HostnameOS / ArchINSTALLBUILDCHECKBUILD BIN
CellaRepertorium 1.0.0  (landing page)
Andrew McDavid
Last Commit: 4e5b113
Last Changed Date: 2020-10-27 12:03:47 -0400
malbec1Linux (Ubuntu 18.04.5 LTS) / x86_64  OK    OK    OK  UNNEEDED, same version exists in internal repository
tokay1Windows Server 2012 R2 Standard / x64  OK    OK    OK    OK  UNNEEDED, same version exists in internal repository
merida1macOS 10.14.6 Mojave / x86_64  OK    OK    OK    OK  UNNEEDED, same version exists in internal repository
Package 28/248HostnameOS / ArchINSTALLBUILDCHECKBUILD BIN
chimeraviz 1.16.1  (landing page)
Stian Lågstad
Last Commit: 66a60b3
Last Changed Date: 2021-01-16 17:11:31 -0400
malbec1Linux (Ubuntu 18.04.5 LTS) / x86_64  OK    OK    OK  UNNEEDED, same version exists in internal repository
tokay1Windows Server 2012 R2 Standard / x64  OK    OK    OK    OK  UNNEEDED, same version exists in internal repository
merida1macOS 10.14.6 Mojave / x86_64  OK    OK    OK    OK  UNNEEDED, same version exists in internal repository
Package 29/248HostnameOS / ArchINSTALLBUILDCHECKBUILD BIN
ChIPanalyser 1.12.0  (landing page)
Patrick C.N. Martin
Last Commit: 126b7fa
Last Changed Date: 2020-10-27 11:27:08 -0400
malbec1Linux (Ubuntu 18.04.5 LTS) / x86_64  OK    OK    OK  UNNEEDED, same version exists in internal repository
tokay1Windows Server 2012 R2 Standard / x64  OK    OK    WARNINGS    OK  UNNEEDED, same version exists in internal repository
merida1macOS 10.14.6 Mojave / x86_64  OK    OK    OK    OK  UNNEEDED, same version exists in internal repository
Package 30/248HostnameOS / ArchINSTALLBUILDCHECKBUILD BIN
ChIPpeakAnno 3.24.2  (landing page)
Jianhong Ou
Last Commit: 09d9fec
Last Changed Date: 2021-03-30 09:36:14 -0400
malbec1Linux (Ubuntu 18.04.5 LTS) / x86_64  OK    OK    OK  UNNEEDED, same version exists in internal repository
tokay1Windows Server 2012 R2 Standard / x64  OK    OK    OK    OK  UNNEEDED, same version exists in internal repository
merida1macOS 10.14.6 Mojave / x86_64  OK    OK    OK    OK  UNNEEDED, same version exists in internal repository
Package 31/248HostnameOS / ArchINSTALLBUILDCHECKBUILD BIN
ChIPseqR 1.44.0  (landing page)
Peter Humburg
Last Commit: 719fbb0
Last Changed Date: 2020-10-27 10:36:51 -0400
malbec1Linux (Ubuntu 18.04.5 LTS) / x86_64  OK    OK    OK  UNNEEDED, same version exists in internal repository
tokay1Windows Server 2012 R2 Standard / x64  OK    OK    OK    OK  UNNEEDED, same version exists in internal repository
merida1macOS 10.14.6 Mojave / x86_64  OK    OK    OK    OK  UNNEEDED, same version exists in internal repository
Package 32/248HostnameOS / ArchINSTALLBUILDCHECKBUILD BIN
ChIPsim 1.44.0  (landing page)
Peter Humburg
Last Commit: 916ec05
Last Changed Date: 2020-10-27 10:36:18 -0400
malbec1Linux (Ubuntu 18.04.5 LTS) / x86_64  OK    OK    OK  UNNEEDED, same version exists in internal repository
tokay1Windows Server 2012 R2 Standard / x64  OK    OK    OK    OK  UNNEEDED, same version exists in internal repository
merida1macOS 10.14.6 Mojave / x86_64  OK    OK    OK    OK  UNNEEDED, same version exists in internal repository
Package 33/248HostnameOS / ArchINSTALLBUILDCHECKBUILD BIN
chromVAR 1.12.0  (landing page)
Alicia Schep
Last Commit: ea35241
Last Changed Date: 2020-10-27 11:28:24 -0400
malbec1Linux (Ubuntu 18.04.5 LTS) / x86_64  OK    OK    OK  UNNEEDED, same version exists in internal repository
tokay1Windows Server 2012 R2 Standard / x64  OK    OK    WARNINGS    OK  UNNEEDED, same version exists in internal repository
merida1macOS 10.14.6 Mojave / x86_64  OK    OK    OK    OK  UNNEEDED, same version exists in internal repository
Package 34/248HostnameOS / ArchINSTALLBUILDCHECKBUILD BIN
circRNAprofiler 1.4.2  (landing page)
Simona Aufiero
Last Commit: d699b41
Last Changed Date: 2021-03-04 02:48:10 -0400
malbec1Linux (Ubuntu 18.04.5 LTS) / x86_64  OK    OK    OK  UNNEEDED, same version exists in internal repository
tokay1Windows Server 2012 R2 Standard / x64  OK    OK    OK    OK  UNNEEDED, same version exists in internal repository
merida1macOS 10.14.6 Mojave / x86_64  OK    OK    OK    OK  UNNEEDED, same version exists in internal repository
Package 35/248HostnameOS / ArchINSTALLBUILDCHECKBUILD BIN
cleaver 1.28.0  (landing page)
Sebastian Gibb
Last Commit: 9a76dd6
Last Changed Date: 2020-10-27 10:51:06 -0400
malbec1Linux (Ubuntu 18.04.5 LTS) / x86_64  OK    OK    OK  UNNEEDED, same version exists in internal repository
tokay1Windows Server 2012 R2 Standard / x64  OK    OK    OK    OK  UNNEEDED, same version exists in internal repository
merida1macOS 10.14.6 Mojave / x86_64  OK    OK    OK    OK  UNNEEDED, same version exists in internal repository
Package 36/248HostnameOS / ArchINSTALLBUILDCHECKBUILD BIN
CNEr 1.26.0  (landing page)
Ge Tan
Last Commit: e5e582d
Last Changed Date: 2020-10-27 10:54:44 -0400
malbec1Linux (Ubuntu 18.04.5 LTS) / x86_64  OK    OK    WARNINGS  UNNEEDED, same version exists in internal repository
tokay1Windows Server 2012 R2 Standard / x64  OK    OK    WARNINGS    OK  UNNEEDED, same version exists in internal repository
merida1macOS 10.14.6 Mojave / x86_64  OK    OK    WARNINGS    OK  UNNEEDED, same version exists in internal repository
Package 37/248HostnameOS / ArchINSTALLBUILDCHECKBUILD BIN
CNVfilteR 1.4.2  (landing page)
Jose Marcos Moreno-Cabrera
Last Commit: 0cb32a5
Last Changed Date: 2021-04-16 08:46:56 -0400
malbec1Linux (Ubuntu 18.04.5 LTS) / x86_64  OK    OK    OK  UNNEEDED, same version exists in internal repository
tokay1Windows Server 2012 R2 Standard / x64  OK    OK    OK    OK  UNNEEDED, same version exists in internal repository
merida1macOS 10.14.6 Mojave / x86_64  OK    OK    OK    OK  UNNEEDED, same version exists in internal repository
Package 38/248HostnameOS / ArchINSTALLBUILDCHECKBUILD BIN
CODEX 1.22.0  (landing page)
Yuchao Jiang
Last Commit: aa0ee42
Last Changed Date: 2020-10-27 11:01:45 -0400
malbec1Linux (Ubuntu 18.04.5 LTS) / x86_64  OK    OK    OK  UNNEEDED, same version exists in internal repository
tokay1Windows Server 2012 R2 Standard / x64  OK    OK    OK    OK  UNNEEDED, same version exists in internal repository
merida1macOS 10.14.6 Mojave / x86_64  OK    OK    OK    OK  UNNEEDED, same version exists in internal repository
Package 39/248HostnameOS / ArchINSTALLBUILDCHECKBUILD BIN
compEpiTools 1.24.0  (landing page)
Kamal Kishore
Last Commit: 9acaf26
Last Changed Date: 2020-10-27 10:58:18 -0400
malbec1Linux (Ubuntu 18.04.5 LTS) / x86_64  OK    OK    OK  UNNEEDED, same version exists in internal repository
tokay1Windows Server 2012 R2 Standard / x64  OK    OK    OK    OK  UNNEEDED, same version exists in internal repository
merida1macOS 10.14.6 Mojave / x86_64  OK    OK    OK    OK  UNNEEDED, same version exists in internal repository
Package 40/248HostnameOS / ArchINSTALLBUILDCHECKBUILD BIN
consensusDE 1.8.0  (landing page)
Ashley J. Waardenberg
Last Commit: 0ade359
Last Changed Date: 2020-10-27 11:40:12 -0400
malbec1Linux (Ubuntu 18.04.5 LTS) / x86_64  OK    OK    OK  UNNEEDED, same version exists in internal repository
tokay1Windows Server 2012 R2 Standard / x64  OK    OK    OK    OK  UNNEEDED, same version exists in internal repository
merida1macOS 10.14.6 Mojave / x86_64  OK    OK    OK    OK  UNNEEDED, same version exists in internal repository
Package 41/248HostnameOS / ArchINSTALLBUILDCHECKBUILD BIN
coRdon 1.8.0  (landing page)
Anamaria Elek
Last Commit: 4209a51
Last Changed Date: 2020-10-27 11:37:26 -0400
malbec1Linux (Ubuntu 18.04.5 LTS) / x86_64  OK    OK    OK  UNNEEDED, same version exists in internal repository
tokay1Windows Server 2012 R2 Standard / x64  OK    OK    OK    OK  UNNEEDED, same version exists in internal repository
merida1macOS 10.14.6 Mojave / x86_64  OK    OK    OK    OK  UNNEEDED, same version exists in internal repository
Package 42/248HostnameOS / ArchINSTALLBUILDCHECKBUILD BIN
CRISPRseek 1.30.1  (landing page)
Lihua Julie Zhu
Last Commit: 3b0270d
Last Changed Date: 2021-01-11 15:59:45 -0400
malbec1Linux (Ubuntu 18.04.5 LTS) / x86_64  OK    OK    OK  UNNEEDED, same version exists in internal repository
tokay1Windows Server 2012 R2 Standard / x64  OK    OK    OK    OK  UNNEEDED, same version exists in internal repository
merida1macOS 10.14.6 Mojave / x86_64  OK    OK    OK    OK  UNNEEDED, same version exists in internal repository
Package 43/248HostnameOS / ArchINSTALLBUILDCHECKBUILD BIN
CrispRVariants 1.18.0  (landing page)
Helen Lindsay
Last Commit: 4bbba2e
Last Changed Date: 2020-10-27 11:10:15 -0400
malbec1Linux (Ubuntu 18.04.5 LTS) / x86_64  OK    OK    WARNINGS  UNNEEDED, same version exists in internal repository
tokay1Windows Server 2012 R2 Standard / x64  OK    OK    WARNINGS    OK  UNNEEDED, same version exists in internal repository
merida1macOS 10.14.6 Mojave / x86_64  OK    OK    WARNINGS    OK  UNNEEDED, same version exists in internal repository
Package 44/248HostnameOS / ArchINSTALLBUILDCHECKBUILD BIN
customProDB 1.30.1  (landing page)
Xiaojing Wang
Last Commit: 2c66727
Last Changed Date: 2021-04-26 13:05:49 -0400
malbec1Linux (Ubuntu 18.04.5 LTS) / x86_64  OK    OK    OK  UNNEEDED, same version exists in internal repository
tokay1Windows Server 2012 R2 Standard / x64  OK    OK    OK    OK  UNNEEDED, same version exists in internal repository
merida1macOS 10.14.6 Mojave / x86_64  OK    OK    OK    OK  UNNEEDED, same version exists in internal repository
Package 45/248HostnameOS / ArchINSTALLBUILDCHECKBUILD BIN
dada2 1.18.0  (landing page)
Benjamin Callahan
Last Commit: a20a676
Last Changed Date: 2020-10-27 11:11:41 -0400
malbec1Linux (Ubuntu 18.04.5 LTS) / x86_64  OK    OK    OK  UNNEEDED, same version exists in internal repository
tokay1Windows Server 2012 R2 Standard / x64  OK    OK    WARNINGS    OK  UNNEEDED, same version exists in internal repository
merida1macOS 10.14.6 Mojave / x86_64  OK    OK    OK    OK  UNNEEDED, same version exists in internal repository
Package 46/248HostnameOS / ArchINSTALLBUILDCHECKBUILD BIN
dagLogo 1.28.1  (landing page)
Jianhong Ou
Last Commit: 28e6088
Last Changed Date: 2020-12-03 08:26:09 -0400
malbec1Linux (Ubuntu 18.04.5 LTS) / x86_64  OK    OK    OK  UNNEEDED, same version exists in internal repository
tokay1Windows Server 2012 R2 Standard / x64  OK    OK    OK    OK  UNNEEDED, same version exists in internal repository
merida1macOS 10.14.6 Mojave / x86_64  OK    OK    OK    OK  UNNEEDED, same version exists in internal repository
Package 47/248HostnameOS / ArchINSTALLBUILDCHECKBUILD BIN
DAMEfinder 1.2.0  (landing page)
Stephany Orjuela
Last Commit: 99d17c3
Last Changed Date: 2020-10-27 11:52:56 -0400
malbec1Linux (Ubuntu 18.04.5 LTS) / x86_64  OK    OK    OK  UNNEEDED, same version exists in internal repository
tokay1Windows Server 2012 R2 Standard / x64  OK    OK    OK    OK  UNNEEDED, same version exists in internal repository
merida1macOS 10.14.6 Mojave / x86_64  OK    OK    OK    OK  UNNEEDED, same version exists in internal repository
Package 48/248HostnameOS / ArchINSTALLBUILDCHECKBUILD BIN
DECIPHER 2.18.1  (landing page)
Erik Wright
Last Commit: 6a70842
Last Changed Date: 2020-10-28 14:49:22 -0400
malbec1Linux (Ubuntu 18.04.5 LTS) / x86_64  OK    OK    OK  UNNEEDED, same version exists in internal repository
tokay1Windows Server 2012 R2 Standard / x64  OK    OK    OK    OK  UNNEEDED, same version exists in internal repository
merida1macOS 10.14.6 Mojave / x86_64  OK    OK    OK    OK  UNNEEDED, same version exists in internal repository
Package 49/248HostnameOS / ArchINSTALLBUILDCHECKBUILD BIN
decompTumor2Sig 2.6.0  (landing page)
Rosario M. Piro
Last Commit: f498786
Last Changed Date: 2020-10-27 11:40:56 -0400
malbec1Linux (Ubuntu 18.04.5 LTS) / x86_64  OK    OK    OK  UNNEEDED, same version exists in internal repository
tokay1Windows Server 2012 R2 Standard / x64  OK    OK    OK    OK  UNNEEDED, same version exists in internal repository
merida1macOS 10.14.6 Mojave / x86_64  OK    OK    OK    OK  UNNEEDED, same version exists in internal repository
Package 50/248HostnameOS / ArchINSTALLBUILDCHECKBUILD BIN
deepSNV 1.36.0  (landing page)
Moritz Gerstung
Last Commit: 20969f8
Last Changed Date: 2020-10-27 10:44:43 -0400
malbec1Linux (Ubuntu 18.04.5 LTS) / x86_64  OK    OK    OK  UNNEEDED, same version exists in internal repository
tokay1Windows Server 2012 R2 Standard / x64  OK    OK    OK    OK  UNNEEDED, same version exists in internal repository
merida1macOS 10.14.6 Mojave / x86_64  OK    OK    OK    OK  UNNEEDED, same version exists in internal repository
Package 51/248HostnameOS / ArchINSTALLBUILDCHECKBUILD BIN
diffHic 1.22.0  (landing page)
Aaron Lun
Last Commit: db4e4f8
Last Changed Date: 2020-10-27 11:05:00 -0400
malbec1Linux (Ubuntu 18.04.5 LTS) / x86_64  OK    OK    OK  UNNEEDED, same version exists in internal repository
tokay1Windows Server 2012 R2 Standard / x64  OK    OK    WARNINGS    OK  UNNEEDED, same version exists in internal repository
merida1macOS 10.14.6 Mojave / x86_64  OK    OK    OK    OK  UNNEEDED, same version exists in internal repository
Package 52/248HostnameOS / ArchINSTALLBUILDCHECKBUILD BIN
DNAshapeR 1.18.0  (landing page)
Tsu-Pei Chiu
Last Commit: 383b9b2
Last Changed Date: 2020-10-27 11:12:34 -0400
malbec1Linux (Ubuntu 18.04.5 LTS) / x86_64  OK    OK    OK  UNNEEDED, same version exists in internal repository
tokay1Windows Server 2012 R2 Standard / x64  OK    OK    OK    OK  UNNEEDED, same version exists in internal repository
merida1macOS 10.14.6 Mojave / x86_64  OK    OK    OK    OK  UNNEEDED, same version exists in internal repository
Package 53/248HostnameOS / ArchINSTALLBUILDCHECKBUILD BIN
DominoEffect 1.10.1  (landing page)
Marija Buljan
Last Commit: 4fcce39
Last Changed Date: 2021-04-16 10:19:46 -0400
malbec1Linux (Ubuntu 18.04.5 LTS) / x86_64  OK    OK    OK  UNNEEDED, same version exists in internal repository
tokay1Windows Server 2012 R2 Standard / x64  OK    OK    OK    OK  UNNEEDED, same version exists in internal repository
merida1macOS 10.14.6 Mojave / x86_64  OK    OK    OK    OK  UNNEEDED, same version exists in internal repository
Package 54/248HostnameOS / ArchINSTALLBUILDCHECKBUILD BIN
easyRNASeq 2.26.0  (landing page)
Nicolas Delhomme
Last Commit: e3ce60a
Last Changed Date: 2020-10-27 10:44:21 -0400
malbec1Linux (Ubuntu 18.04.5 LTS) / x86_64  OK    ERROR  skipped
tokay1Windows Server 2012 R2 Standard / x64  OK    ERROR  skippedskipped
merida1macOS 10.14.6 Mojave / x86_64  OK    OK    OK    OK  UNNEEDED, same version exists in internal repository
Package 55/248HostnameOS / ArchINSTALLBUILDCHECKBUILD BIN
EDASeq 2.24.0  (landing page)
Davide Risso
Last Commit: c7c4531
Last Changed Date: 2020-10-27 10:42:52 -0400
malbec1Linux (Ubuntu 18.04.5 LTS) / x86_64  OK    OK    OK  UNNEEDED, same version exists in internal repository
tokay1Windows Server 2012 R2 Standard / x64  OK    OK    OK    OK  UNNEEDED, same version exists in internal repository
merida1macOS 10.14.6 Mojave / x86_64  OK    OK    OK    OK  UNNEEDED, same version exists in internal repository
Package 56/248HostnameOS / ArchINSTALLBUILDCHECKBUILD BIN
ensembldb 2.14.1  (landing page)
Johannes Rainer
Last Commit: c8945b3
Last Changed Date: 2021-04-19 02:04:01 -0400
malbec1Linux (Ubuntu 18.04.5 LTS) / x86_64  OK    OK    OK  UNNEEDED, same version exists in internal repository
tokay1Windows Server 2012 R2 Standard / x64  OK    OK    OK    OK  UNNEEDED, same version exists in internal repository
merida1macOS 10.14.6 Mojave / x86_64  OK    OK    OK    OK  UNNEEDED, same version exists in internal repository
Package 57/248HostnameOS / ArchINSTALLBUILDCHECKBUILD BIN
ensemblVEP 1.32.1  (landing page)
Bioconductor Package Maintainer
Last Commit: 5095beb
Last Changed Date: 2021-03-08 09:21:07 -0400
malbec1Linux (Ubuntu 18.04.5 LTS) / x86_64  OK    OK    OK  UNNEEDED, same version exists in internal repository
tokay1Windows Server 2012 R2 Standard / x64... NOT SUPPORTED ...
merida1macOS 10.14.6 Mojave / x86_64  OK    OK    OK    OK  UNNEEDED, same version exists in internal repository
Package 58/248HostnameOS / ArchINSTALLBUILDCHECKBUILD BIN
EpiTxDb 1.2.1  (landing page)
Felix G.M. Ernst
Last Commit: 359e443
Last Changed Date: 2021-03-25 06:10:58 -0400
malbec1Linux (Ubuntu 18.04.5 LTS) / x86_64  OK    OK    OK  UNNEEDED, same version exists in internal repository
tokay1Windows Server 2012 R2 Standard / x64  OK    OK    OK    OK  UNNEEDED, same version exists in internal repository
merida1macOS 10.14.6 Mojave / x86_64  OK    OK    OK    OK  UNNEEDED, same version exists in internal repository
Package 59/248HostnameOS / ArchINSTALLBUILDCHECKBUILD BIN
esATAC 1.12.0  (landing page)
Zheng Wei
Last Commit: 7a68538
Last Changed Date: 2020-10-27 11:29:55 -0400
malbec1Linux (Ubuntu 18.04.5 LTS) / x86_64  OK    OK    OK  UNNEEDED, same version exists in internal repository
tokay1Windows Server 2012 R2 Standard / x64  OK    OK    OK    OK  UNNEEDED, same version exists in internal repository
merida1macOS 10.14.6 Mojave / x86_64  OK    OK    OK    OK  UNNEEDED, same version exists in internal repository
Package 60/248HostnameOS / ArchINSTALLBUILDCHECKBUILD BIN
eudysbiome 1.20.0  (landing page)
Xiaoyuan Zhou
Last Commit: f5a2821
Last Changed Date: 2020-10-27 11:07:02 -0400
malbec1Linux (Ubuntu 18.04.5 LTS) / x86_64  OK    OK    OK  UNNEEDED, same version exists in internal repository
tokay1Windows Server 2012 R2 Standard / x64  OK    OK    OK    OK  UNNEEDED, same version exists in internal repository
merida1macOS 10.14.6 Mojave / x86_64  OK    OK    OK    OK  UNNEEDED, same version exists in internal repository
Package 61/248HostnameOS / ArchINSTALLBUILDCHECKBUILD BIN
EventPointer 2.8.0  (landing page)
Juan Pablo Romero
Last Commit: bde3577
Last Changed Date: 2020-10-27 11:21:53 -0400
malbec1Linux (Ubuntu 18.04.5 LTS) / x86_64  OK    OK    OK  UNNEEDED, same version exists in internal repository
tokay1Windows Server 2012 R2 Standard / x64  OK    OK    OK    OK  UNNEEDED, same version exists in internal repository
merida1macOS 10.14.6 Mojave / x86_64  OK    OK    OK    OK  UNNEEDED, same version exists in internal repository
Package 62/248HostnameOS / ArchINSTALLBUILDCHECKBUILD BIN
exomePeak2 1.2.0  (landing page)
Zhen Wei
Last Commit: a214469
Last Changed Date: 2020-10-27 11:53:58 -0400
malbec1Linux (Ubuntu 18.04.5 LTS) / x86_64  OK    OK    OK  UNNEEDED, same version exists in internal repository
tokay1Windows Server 2012 R2 Standard / x64  OK    OK    OK    OK  UNNEEDED, same version exists in internal repository
merida1macOS 10.14.6 Mojave / x86_64  OK    OK    OK    OK  UNNEEDED, same version exists in internal repository
Package 63/248HostnameOS / ArchINSTALLBUILDCHECKBUILD BIN
FastqCleaner 1.8.0  (landing page)
Leandro Roser
Last Commit: a2a6837
Last Changed Date: 2020-10-27 11:35:58 -0400
malbec1Linux (Ubuntu 18.04.5 LTS) / x86_64  OK    OK    OK  UNNEEDED, same version exists in internal repository
tokay1Windows Server 2012 R2 Standard / x64  OK    OK    WARNINGS    OK  UNNEEDED, same version exists in internal repository
merida1macOS 10.14.6 Mojave / x86_64  OK    OK    OK    OK  UNNEEDED, same version exists in internal repository
Package 64/248HostnameOS / ArchINSTALLBUILDCHECKBUILD BIN
FindMyFriends 1.20.0  (landing page)
Thomas Lin Pedersen
Last Commit: 43d1515
Last Changed Date: 2020-10-27 11:08:14 -0400
malbec1Linux (Ubuntu 18.04.5 LTS) / x86_64  OK    OK    WARNINGS  UNNEEDED, same version exists in internal repository
tokay1Windows Server 2012 R2 Standard / x64  OK    ERROR  skippedskipped
merida1macOS 10.14.6 Mojave / x86_64  OK    OK    WARNINGS    OK  UNNEEDED, same version exists in internal repository
Package 65/248HostnameOS / ArchINSTALLBUILDCHECKBUILD BIN
FourCSeq 1.24.0  (landing page)
Mike Smith
Last Commit: 5575105
Last Changed Date: 2020-10-27 10:58:38 -0400
malbec1Linux (Ubuntu 18.04.5 LTS) / x86_64  OK    OK    WARNINGS  UNNEEDED, same version exists in internal repository
tokay1Windows Server 2012 R2 Standard / x64  OK    OK    WARNINGS    OK  UNNEEDED, same version exists in internal repository
merida1macOS 10.14.6 Mojave / x86_64  OK    OK    WARNINGS    OK  UNNEEDED, same version exists in internal repository
Package 66/248HostnameOS / ArchINSTALLBUILDCHECKBUILD BIN
GA4GHclient 1.14.0  (landing page)
Welliton Souza
Last Commit: e012515
Last Changed Date: 2020-10-27 11:22:46 -0400
malbec1Linux (Ubuntu 18.04.5 LTS) / x86_64  OK    OK    OK  UNNEEDED, same version exists in internal repository
tokay1Windows Server 2012 R2 Standard / x64  OK    OK    OK    OK  UNNEEDED, same version exists in internal repository
merida1macOS 10.14.6 Mojave / x86_64  OK    OK    OK    OK  UNNEEDED, same version exists in internal repository
Package 67/248HostnameOS / ArchINSTALLBUILDCHECKBUILD BIN
gcapc 1.14.0  (landing page)
Mingxiang Teng
Last Commit: 6c7d83d
Last Changed Date: 2020-10-27 11:20:02 -0400
malbec1Linux (Ubuntu 18.04.5 LTS) / x86_64  OK    OK    OK  UNNEEDED, same version exists in internal repository
tokay1Windows Server 2012 R2 Standard / x64  OK    OK    WARNINGS    OK  UNNEEDED, same version exists in internal repository
merida1macOS 10.14.6 Mojave / x86_64  OK    OK    OK    OK  UNNEEDED, same version exists in internal repository
Package 68/248HostnameOS / ArchINSTALLBUILDCHECKBUILD BIN
gcrma 2.62.0  (landing page)
Z. Wu
Last Commit: b91bdf5
Last Changed Date: 2020-10-27 10:22:36 -0400
malbec1Linux (Ubuntu 18.04.5 LTS) / x86_64  OK    OK    OK  UNNEEDED, same version exists in internal repository
tokay1Windows Server 2012 R2 Standard / x64  OK    OK    OK    OK  UNNEEDED, same version exists in internal repository
merida1macOS 10.14.6 Mojave / x86_64  OK    OK    OK    OK  UNNEEDED, same version exists in internal repository
Package 69/248HostnameOS / ArchINSTALLBUILDCHECKBUILD BIN
genbankr 1.18.0  (landing page)
Gabriel Becker
Last Commit: d3c2004
Last Changed Date: 2020-10-27 11:14:04 -0400
malbec1Linux (Ubuntu 18.04.5 LTS) / x86_64  OK    OK    OK  UNNEEDED, same version exists in internal repository
tokay1Windows Server 2012 R2 Standard / x64  OK    OK    OK    OK  UNNEEDED, same version exists in internal repository
merida1macOS 10.14.6 Mojave / x86_64  OK    OK    OK    OK  UNNEEDED, same version exists in internal repository
Package 70/248HostnameOS / ArchINSTALLBUILDCHECKBUILD BIN
GeneRegionScan 1.46.0  (landing page)
Lasse Folkersen
Last Commit: 43d8744
Last Changed Date: 2020-10-27 10:35:37 -0400
malbec1Linux (Ubuntu 18.04.5 LTS) / x86_64  OK    OK    OK  UNNEEDED, same version exists in internal repository
tokay1Windows Server 2012 R2 Standard / x64  OK    OK    WARNINGS    OK  UNNEEDED, same version exists in internal repository
merida1macOS 10.14.6 Mojave / x86_64  OK    OK    OK    OK  UNNEEDED, same version exists in internal repository
Package 71/248HostnameOS / ArchINSTALLBUILDCHECKBUILD BIN
GeneStructureTools 1.10.0  (landing page)
Beth Signal
Last Commit: 61bb2b5
Last Changed Date: 2020-10-27 11:32:49 -0400
malbec1Linux (Ubuntu 18.04.5 LTS) / x86_64  OK    OK    OK  UNNEEDED, same version exists in internal repository
tokay1Windows Server 2012 R2 Standard / x64  OK    OK    OK    OK  UNNEEDED, same version exists in internal repository
merida1macOS 10.14.6 Mojave / x86_64  OK    OK    OK    OK  UNNEEDED, same version exists in internal repository
Package 72/248HostnameOS / ArchINSTALLBUILDCHECKBUILD BIN
GenoGAM 2.8.0  (landing page)
Georg Stricker
Last Commit: 7698827
Last Changed Date: 2020-10-27 11:13:12 -0400
malbec1Linux (Ubuntu 18.04.5 LTS) / x86_64  OK    OK    WARNINGS  UNNEEDED, same version exists in internal repository
tokay1Windows Server 2012 R2 Standard / x64  OK    OK    WARNINGS    OK  UNNEEDED, same version exists in internal repository
merida1macOS 10.14.6 Mojave / x86_64  OK    OK    WARNINGS    OK  UNNEEDED, same version exists in internal repository
Package 73/248HostnameOS / ArchINSTALLBUILDCHECKBUILD BIN
genomation 1.22.0  (landing page)
Altuna Akalin , Vedran Franke
Last Commit: 4ab56f3
Last Changed Date: 2020-10-27 11:01:16 -0400
malbec1Linux (Ubuntu 18.04.5 LTS) / x86_64  OK    OK    WARNINGS  UNNEEDED, same version exists in internal repository
tokay1Windows Server 2012 R2 Standard / x64  OK    OK    WARNINGS    OK  UNNEEDED, same version exists in internal repository
merida1macOS 10.14.6 Mojave / x86_64  OK    OK    WARNINGS    OK  UNNEEDED, same version exists in internal repository
Package 74/248HostnameOS / ArchINSTALLBUILDCHECKBUILD BIN
GenomicAlignments 1.26.0  (landing page)
Bioconductor Package Maintainer
Last Commit: 6c74c74
Last Changed Date: 2020-10-27 10:53:58 -0400
malbec1Linux (Ubuntu 18.04.5 LTS) / x86_64  OK    OK    OK  UNNEEDED, same version exists in internal repository
tokay1Windows Server 2012 R2 Standard / x64  OK    OK    WARNINGS    OK  UNNEEDED, same version exists in internal repository
merida1macOS 10.14.6 Mojave / x86_64  OK    OK    OK    OK  UNNEEDED, same version exists in internal repository
Package 75/248HostnameOS / ArchINSTALLBUILDCHECKBUILD BIN
GenomicFeatures 1.42.3  (landing page)
Bioconductor Package Maintainer
Last Commit: 9ce5435
Last Changed Date: 2021-03-31 23:51:33 -0400
malbec1Linux (Ubuntu 18.04.5 LTS) / x86_64  OK    OK    OK  UNNEEDED, same version exists in internal repository
tokay1Windows Server 2012 R2 Standard / x64  OK    OK    WARNINGS    OK  UNNEEDED, same version exists in internal repository
merida1macOS 10.14.6 Mojave / x86_64  OK    OK    OK    OK  UNNEEDED, same version exists in internal repository
Package 76/248HostnameOS / ArchINSTALLBUILDCHECKBUILD BIN
GenomicScores 2.2.0  (landing page)
Robert Castelo
Last Commit: 1a877e1
Last Changed Date: 2020-10-27 11:23:24 -0400
malbec1Linux (Ubuntu 18.04.5 LTS) / x86_64  OK    OK    OK  UNNEEDED, same version exists in internal repository
tokay1Windows Server 2012 R2 Standard / x64  OK    OK    WARNINGS    OK  UNNEEDED, same version exists in internal repository
merida1macOS 10.14.6 Mojave / x86_64  OK    OK    OK    OK  UNNEEDED, same version exists in internal repository
Package 77/248HostnameOS / ArchINSTALLBUILDCHECKBUILD BIN
genphen 1.18.0  (landing page)
Simo Kitanovski
Last Commit: 7474de2
Last Changed Date: 2020-10-27 11:13:00 -0400
malbec1Linux (Ubuntu 18.04.5 LTS) / x86_64  OK    ERROR  skipped
tokay1Windows Server 2012 R2 Standard / x64  OK    ERROR  skippedskipped
merida1macOS 10.14.6 Mojave / x86_64  OK    OK    OK    OK  UNNEEDED, same version exists in internal repository
Package 78/248HostnameOS / ArchINSTALLBUILDCHECKBUILD BIN
GenVisR 1.22.1  (landing page)
Zachary Skidmore
Last Commit: 2e30ead
Last Changed Date: 2020-12-25 19:00:29 -0400
malbec1Linux (Ubuntu 18.04.5 LTS) / x86_64  OK    OK    OK  UNNEEDED, same version exists in internal repository
tokay1Windows Server 2012 R2 Standard / x64  OK    OK    OK    OK  UNNEEDED, same version exists in internal repository
merida1macOS 10.14.6 Mojave / x86_64  OK    OK    ERROR    OK  
Package 79/248HostnameOS / ArchINSTALLBUILDCHECKBUILD BIN
ggbio 1.38.0  (landing page)
Michael Lawrence
Last Commit: c39c519
Last Changed Date: 2020-10-27 10:43:32 -0400
malbec1Linux (Ubuntu 18.04.5 LTS) / x86_64  OK    OK    OK  UNNEEDED, same version exists in internal repository
tokay1Windows Server 2012 R2 Standard / x64  OK    OK    WARNINGS    OK  UNNEEDED, same version exists in internal repository
merida1macOS 10.14.6 Mojave / x86_64  OK    OK    OK    OK  UNNEEDED, same version exists in internal repository
Package 80/248HostnameOS / ArchINSTALLBUILDCHECKBUILD BIN
GGtools 5.26.0  (landing page)
VJ Carey
Last Commit: e3aed73
Last Changed Date: 2020-10-27 10:29:23 -0400
malbec1Linux (Ubuntu 18.04.5 LTS) / x86_64  OK    OK    ERROR  
tokay1Windows Server 2012 R2 Standard / x64  OK    OK    ERROR    OK  
merida1macOS 10.14.6 Mojave / x86_64  OK    OK    ERROR    OK  
Package 81/248HostnameOS / ArchINSTALLBUILDCHECKBUILD BIN
girafe 1.42.0  (landing page)
J. Toedling
Last Commit: 983e1ff
Last Changed Date: 2020-10-27 10:37:50 -0400
malbec1Linux (Ubuntu 18.04.5 LTS) / x86_64  OK    OK    OK  UNNEEDED, same version exists in internal repository
tokay1Windows Server 2012 R2 Standard / x64  OK    OK    WARNINGS    OK  UNNEEDED, same version exists in internal repository
merida1macOS 10.14.6 Mojave / x86_64  OK    OK    OK    OK  UNNEEDED, same version exists in internal repository
Package 82/248HostnameOS / ArchINSTALLBUILDCHECKBUILD BIN
gmapR 1.32.0  (landing page)
Michael Lawrence
Last Commit: 02e06e4
Last Changed Date: 2020-11-06 12:06:58 -0400
malbec1Linux (Ubuntu 18.04.5 LTS) / x86_64  OK    OK    WARNINGS  UNNEEDED, same version exists in internal repository
tokay1Windows Server 2012 R2 Standard / x64... NOT SUPPORTED ...
merida1macOS 10.14.6 Mojave / x86_64  OK    OK    WARNINGS    OK  UNNEEDED, same version exists in internal repository
Package 83/248HostnameOS / ArchINSTALLBUILDCHECKBUILD BIN
gmoviz 1.2.0  (landing page)
Kathleen Zeglinski
Last Commit: 67f6302
Last Changed Date: 2020-10-27 11:54:40 -0400
malbec1Linux (Ubuntu 18.04.5 LTS) / x86_64  OK    OK    OK  UNNEEDED, same version exists in internal repository
tokay1Windows Server 2012 R2 Standard / x64  OK    OK    OK    OK  UNNEEDED, same version exists in internal repository
merida1macOS 10.14.6 Mojave / x86_64  OK    OK    OK    OK  UNNEEDED, same version exists in internal repository
Package 84/248HostnameOS / ArchINSTALLBUILDCHECKBUILD BIN
GOTHiC 1.26.0  (landing page)
Borbala Mifsud
Last Commit: 49fc755
Last Changed Date: 2020-10-27 11:47:18 -0400
malbec1Linux (Ubuntu 18.04.5 LTS) / x86_64  OK    OK    OK  UNNEEDED, same version exists in internal repository
tokay1Windows Server 2012 R2 Standard / x64  OK    OK    OK    OK  UNNEEDED, same version exists in internal repository
merida1macOS 10.14.6 Mojave / x86_64  OK    OK    OK    OK  UNNEEDED, same version exists in internal repository
Package 85/248HostnameOS / ArchINSTALLBUILDCHECKBUILD BIN
GUIDEseq 1.20.0  (landing page)
Lihua Julie Zhu
Last Commit: ccacc7a
Last Changed Date: 2020-10-27 11:08:56 -0400
malbec1Linux (Ubuntu 18.04.5 LTS) / x86_64  OK    OK    OK  UNNEEDED, same version exists in internal repository
tokay1Windows Server 2012 R2 Standard / x64  OK    OK    OK    OK  UNNEEDED, same version exists in internal repository
merida1macOS 10.14.6 Mojave / x86_64  OK    OK    OK    OK  UNNEEDED, same version exists in internal repository
Package 86/248HostnameOS / ArchINSTALLBUILDCHECKBUILD BIN
Gviz 1.34.1  (landing page)
Robert Ivanek
Last Commit: 5aa425a
Last Changed Date: 2021-03-14 18:05:41 -0400
malbec1Linux (Ubuntu 18.04.5 LTS) / x86_64  OK    OK    OK  UNNEEDED, same version exists in internal repository
tokay1Windows Server 2012 R2 Standard / x64  OK    OK    OK    OK  UNNEEDED, same version exists in internal repository
merida1macOS 10.14.6 Mojave / x86_64  OK    OK    OK    OK  UNNEEDED, same version exists in internal repository
Package 87/248HostnameOS / ArchINSTALLBUILDCHECKBUILD BIN
gwascat 2.22.0  (landing page)
VJ Carey
Last Commit: 2340948
Last Changed Date: 2020-10-27 10:44:53 -0400
malbec1Linux (Ubuntu 18.04.5 LTS) / x86_64  OK    OK    OK  UNNEEDED, same version exists in internal repository
tokay1Windows Server 2012 R2 Standard / x64  OK    OK    OK    OK  UNNEEDED, same version exists in internal repository
merida1macOS 10.14.6 Mojave / x86_64  OK    OK    OK    OK  UNNEEDED, same version exists in internal repository
Package 88/248HostnameOS / ArchINSTALLBUILDCHECKBUILD BIN
h5vc 2.24.0  (landing page)
Paul Theodor Pyl
Last Commit: 325e19e
Last Changed Date: 2020-10-27 10:53:51 -0400
malbec1Linux (Ubuntu 18.04.5 LTS) / x86_64  OK    OK    OK  UNNEEDED, same version exists in internal repository
tokay1Windows Server 2012 R2 Standard / x64  OK    OK    WARNINGS    OK  UNNEEDED, same version exists in internal repository
merida1macOS 10.14.6 Mojave / x86_64  OK    OK    OK    OK  UNNEEDED, same version exists in internal repository
Package 89/248HostnameOS / ArchINSTALLBUILDCHECKBUILD BIN
heatmaps 1.14.0  (landing page)
Malcolm Perry
Last Commit: 6e5cabd
Last Changed Date: 2020-10-27 11:24:04 -0400
malbec1Linux (Ubuntu 18.04.5 LTS) / x86_64  OK    OK    OK  UNNEEDED, same version exists in internal repository
tokay1Windows Server 2012 R2 Standard / x64  OK    OK    OK    OK  UNNEEDED, same version exists in internal repository
merida1macOS 10.14.6 Mojave / x86_64  OK    OK    OK    OK  UNNEEDED, same version exists in internal repository
Package 90/248HostnameOS / ArchINSTALLBUILDCHECKBUILD BIN
HelloRanges 1.16.0  (landing page)
Michael Lawrence
Last Commit: 49e5245
Last Changed Date: 2020-10-27 11:18:48 -0400
malbec1Linux (Ubuntu 18.04.5 LTS) / x86_64  OK    OK    OK  UNNEEDED, same version exists in internal repository
tokay1Windows Server 2012 R2 Standard / x64  OK    OK    WARNINGS    OK  UNNEEDED, same version exists in internal repository
merida1macOS 10.14.6 Mojave / x86_64  OK    OK    OK    OK  UNNEEDED, same version exists in internal repository
Package 91/248HostnameOS / ArchINSTALLBUILDCHECKBUILD BIN
HiLDA 1.4.0  (landing page)
Zhi Yang
Last Commit: f8470d0
Last Changed Date: 2020-10-27 11:47:36 -0400
malbec1Linux (Ubuntu 18.04.5 LTS) / x86_64  OK    OK    OK  UNNEEDED, same version exists in internal repository
tokay1Windows Server 2012 R2 Standard / x64  OK    OK    OK    OK  UNNEEDED, same version exists in internal repository
merida1macOS 10.14.6 Mojave / x86_64  OK    OK    OK    OK  UNNEEDED, same version exists in internal repository
Package 92/248HostnameOS / ArchINSTALLBUILDCHECKBUILD BIN
hiReadsProcessor 1.26.0  (landing page)
Nirav V Malani
Last Commit: 41c0142
Last Changed Date: 2020-10-27 10:58:22 -0400
malbec1Linux (Ubuntu 18.04.5 LTS) / x86_64  OK    OK    OK  UNNEEDED, same version exists in internal repository
tokay1Windows Server 2012 R2 Standard / x64... NOT SUPPORTED ...
merida1macOS 10.14.6 Mojave / x86_64  OK    OK    OK    OK  UNNEEDED, same version exists in internal repository
Package 93/248HostnameOS / ArchINSTALLBUILDCHECKBUILD BIN
HiTC 1.34.0  (landing page)
Nicolas Servant
Last Commit: b68a85e
Last Changed Date: 2020-10-27 10:45:35 -0400
malbec1Linux (Ubuntu 18.04.5 LTS) / x86_64  OK    OK    OK  UNNEEDED, same version exists in internal repository
tokay1Windows Server 2012 R2 Standard / x64  OK    OK    OK    OK  UNNEEDED, same version exists in internal repository
merida1macOS 10.14.6 Mojave / x86_64  OK    OK    OK    OK  UNNEEDED, same version exists in internal repository
Package 94/248HostnameOS / ArchINSTALLBUILDCHECKBUILD BIN
HTSeqGenie 4.20.0  (landing page)
Jens Reeder
Last Commit: 1967349
Last Changed Date: 2020-10-27 10:47:41 -0400
malbec1Linux (Ubuntu 18.04.5 LTS) / x86_64  OK    OK    OK  UNNEEDED, same version exists in internal repository
tokay1Windows Server 2012 R2 Standard / x64... NOT SUPPORTED ...
merida1macOS 10.14.6 Mojave / x86_64... NOT SUPPORTED ...
Package 95/248HostnameOS / ArchINSTALLBUILDCHECKBUILD BIN
icetea 1.8.0  (landing page)
Vivek Bhardwaj
Last Commit: 72b27ba
Last Changed Date: 2020-10-27 11:36:17 -0400
malbec1Linux (Ubuntu 18.04.5 LTS) / x86_64  OK    OK    OK  UNNEEDED, same version exists in internal repository
tokay1Windows Server 2012 R2 Standard / x64  OK    OK    OK    OK  UNNEEDED, same version exists in internal repository
merida1macOS 10.14.6 Mojave / x86_64  OK    OK    OK    OK  UNNEEDED, same version exists in internal repository
Package 96/248HostnameOS / ArchINSTALLBUILDCHECKBUILD BIN
idpr 1.0.007  (landing page)
William M. McFadden
Last Commit: ebc9324
Last Changed Date: 2020-12-23 14:14:36 -0400
malbec1Linux (Ubuntu 18.04.5 LTS) / x86_64  OK    OK    OK  UNNEEDED, same version exists in internal repository
tokay1Windows Server 2012 R2 Standard / x64  OK    OK    OK    OK  UNNEEDED, same version exists in internal repository
merida1macOS 10.14.6 Mojave / x86_64  OK    OK    OK    OK  UNNEEDED, same version exists in internal repository
Package 97/248HostnameOS / ArchINSTALLBUILDCHECKBUILD BIN
IMMAN 1.10.0  (landing page)
Minoo Ashtiani
Last Commit: b4cfedb
Last Changed Date: 2020-10-27 11:33:46 -0400
malbec1Linux (Ubuntu 18.04.5 LTS) / x86_64  OK    ERROR  skipped
tokay1Windows Server 2012 R2 Standard / x64  OK    OK    ERROR    OK  
merida1macOS 10.14.6 Mojave / x86_64  OK    OK    OK    OK  UNNEEDED, same version exists in internal repository
Package 98/248HostnameOS / ArchINSTALLBUILDCHECKBUILD BIN
IntEREst 1.14.0  (landing page)
Ali Oghabian , Mikko Frilander
Last Commit: 514e896
Last Changed Date: 2020-10-27 11:22:16 -0400
malbec1Linux (Ubuntu 18.04.5 LTS) / x86_64  OK    OK    OK  UNNEEDED, same version exists in internal repository
tokay1Windows Server 2012 R2 Standard / x64  OK    OK    WARNINGS    OK  UNNEEDED, same version exists in internal repository
merida1macOS 10.14.6 Mojave / x86_64  OK    OK    OK    OK  UNNEEDED, same version exists in internal repository
Package 99/248HostnameOS / ArchINSTALLBUILDCHECKBUILD BIN
InterMineR 1.12.3  (landing page)
InterMine Team
Last Commit: ecd9a83
Last Changed Date: 2021-04-28 05:11:58 -0400
malbec1Linux (Ubuntu 18.04.5 LTS) / x86_64  OK    OK    WARNINGS  UNNEEDED, same version exists in internal repository
tokay1Windows Server 2012 R2 Standard / x64  OK    OK    WARNINGS    OK  UNNEEDED, same version exists in internal repository
merida1macOS 10.14.6 Mojave / x86_64  OK    OK    WARNINGS    OK  UNNEEDED, same version exists in internal repository
Package 100/248HostnameOS / ArchINSTALLBUILDCHECKBUILD BIN
IONiseR 2.14.0  (landing page)
Mike Smith
Last Commit: ccf91a8
Last Changed Date: 2020-10-27 11:06:05 -0400
malbec1Linux (Ubuntu 18.04.5 LTS) / x86_64  OK    OK    OK  UNNEEDED, same version exists in internal repository
tokay1Windows Server 2012 R2 Standard / x64  OK    OK    OK    OK  UNNEEDED, same version exists in internal repository
merida1macOS 10.14.6 Mojave / x86_64  OK    OK    OK    OK  UNNEEDED, same version exists in internal repository
Package 101/248HostnameOS / ArchINSTALLBUILDCHECKBUILD BIN
iPAC 1.34.0  (landing page)
Gregory Ryslik
Last Commit: 1cfe274
Last Changed Date: 2020-10-27 10:46:34 -0400
malbec1Linux (Ubuntu 18.04.5 LTS) / x86_64  OK    OK    OK  UNNEEDED, same version exists in internal repository
tokay1Windows Server 2012 R2 Standard / x64  OK    OK    ERROR    OK  
merida1macOS 10.14.6 Mojave / x86_64  OK    OK    OK    OK  UNNEEDED, same version exists in internal repository
Package 102/248HostnameOS / ArchINSTALLBUILDCHECKBUILD BIN
ipdDb 1.8.0  (landing page)
Steffen Klasberg
Last Commit: 797685e
Last Changed Date: 2020-10-27 11:36:44 -0400
malbec1Linux (Ubuntu 18.04.5 LTS) / x86_64  OK    OK    OK  UNNEEDED, same version exists in internal repository
tokay1Windows Server 2012 R2 Standard / x64  OK    OK    OK    OK  UNNEEDED, same version exists in internal repository
merida1macOS 10.14.6 Mojave / x86_64  OK    OK    OK    OK  UNNEEDED, same version exists in internal repository
Package 103/248HostnameOS / ArchINSTALLBUILDCHECKBUILD BIN
IsoformSwitchAnalyzeR 1.12.0  (landing page)
Kristoffer Vitting-Seerup
Last Commit: c799e51
Last Changed Date: 2020-10-27 11:24:48 -0400
malbec1Linux (Ubuntu 18.04.5 LTS) / x86_64  OK    OK    OK  UNNEEDED, same version exists in internal repository
tokay1Windows Server 2012 R2 Standard / x64  OK    OK    OK    OK  UNNEEDED, same version exists in internal repository
merida1macOS 10.14.6 Mojave / x86_64  OK    OK    OK    OK  UNNEEDED, same version exists in internal repository
Package 104/248HostnameOS / ArchINSTALLBUILDCHECKBUILD BIN
kebabs 1.24.0  (landing page)
Ulrich Bodenhofer
Last Commit: e4fb714
Last Changed Date: 2020-10-27 11:00:26 -0400
malbec1Linux (Ubuntu 18.04.5 LTS) / x86_64  OK    OK    WARNINGS  UNNEEDED, same version exists in internal repository
tokay1Windows Server 2012 R2 Standard / x64  OK    OK    WARNINGS    OK  UNNEEDED, same version exists in internal repository
merida1macOS 10.14.6 Mojave / x86_64  OK    OK    WARNINGS    OK  UNNEEDED, same version exists in internal repository
Package 105/248HostnameOS / ArchINSTALLBUILDCHECKBUILD BIN
KEGGREST 1.30.1  (landing page)
Bioconductor Package Maintainer
Last Commit: fd9970e
Last Changed Date: 2020-11-23 12:01:02 -0400
malbec1Linux (Ubuntu 18.04.5 LTS) / x86_64  OK    OK    ERROR  
tokay1Windows Server 2012 R2 Standard / x64  OK    OK    ERROR    OK  
merida1macOS 10.14.6 Mojave / x86_64  OK    OK    ERROR    OK  
Package 106/248HostnameOS / ArchINSTALLBUILDCHECKBUILD BIN
Logolas 1.14.0  (landing page)
Kushal Dey
Last Commit: fbe735e
Last Changed Date: 2020-10-27 11:21:37 -0400
malbec1Linux (Ubuntu 18.04.5 LTS) / x86_64  OK    OK    ERROR  
tokay1Windows Server 2012 R2 Standard / x64  OK    OK    ERROR    OK  
merida1macOS 10.14.6 Mojave / x86_64  OK    OK    ERROR    OK  
Package 107/248HostnameOS / ArchINSTALLBUILDCHECKBUILD BIN
LowMACA 1.20.0  (landing page)
Stefano de Pretis , Giorgio Melloni
Last Commit: 37c0c2e
Last Changed Date: 2020-10-27 11:03:55 -0400
malbec1Linux (Ubuntu 18.04.5 LTS) / x86_64  OK    OK    OK  UNNEEDED, same version exists in internal repository
tokay1Windows Server 2012 R2 Standard / x64  OK    OK    OK    OK  UNNEEDED, same version exists in internal repository
merida1macOS 10.14.6 Mojave / x86_64  OK    OK    OK    OK  UNNEEDED, same version exists in internal repository
Package 108/248HostnameOS / ArchINSTALLBUILDCHECKBUILD BIN
LymphoSeq 1.18.0  (landing page)
David Coffey
Last Commit: 294dfbb
Last Changed Date: 2020-10-27 11:14:07 -0400
malbec1Linux (Ubuntu 18.04.5 LTS) / x86_64  OK    OK    OK  UNNEEDED, same version exists in internal repository
tokay1Windows Server 2012 R2 Standard / x64  OK    OK    OK    OK  UNNEEDED, same version exists in internal repository
merida1macOS 10.14.6 Mojave / x86_64  OK    OK    OK    OK  UNNEEDED, same version exists in internal repository
Package 109/248HostnameOS / ArchINSTALLBUILDCHECKBUILD BIN
MACPET 1.10.0  (landing page)
Ioannis Vardaxis
Last Commit: bf2919e
Last Changed Date: 2020-10-27 11:32:24 -0400
malbec1Linux (Ubuntu 18.04.5 LTS) / x86_64  OK    OK    OK  UNNEEDED, same version exists in internal repository
tokay1Windows Server 2012 R2 Standard / x64  OK    OK    OK    OK  UNNEEDED, same version exists in internal repository
merida1macOS 10.14.6 Mojave / x86_64  OK    OK    OK    OK  UNNEEDED, same version exists in internal repository
Package 110/248HostnameOS / ArchINSTALLBUILDCHECKBUILD BIN
MADSEQ 1.16.0  (landing page)
Yu Kong
Last Commit: 970e1fe
Last Changed Date: 2020-10-27 11:15:16 -0400
malbec1Linux (Ubuntu 18.04.5 LTS) / x86_64  OK    OK    OK  UNNEEDED, same version exists in internal repository
tokay1Windows Server 2012 R2 Standard / x64  OK    OK    OK    OK  UNNEEDED, same version exists in internal repository
merida1macOS 10.14.6 Mojave / x86_64  OK    OK    OK    OK  UNNEEDED, same version exists in internal repository
Package 111/248HostnameOS / ArchINSTALLBUILDCHECKBUILD BIN
MatrixRider 1.22.0  (landing page)
Elena Grassi
Last Commit: d5858bb
Last Changed Date: 2020-10-27 11:03:16 -0400
malbec1Linux (Ubuntu 18.04.5 LTS) / x86_64  OK    OK    OK  UNNEEDED, same version exists in internal repository
tokay1Windows Server 2012 R2 Standard / x64  OK    OK    OK    OK  UNNEEDED, same version exists in internal repository
merida1macOS 10.14.6 Mojave / x86_64  OK    OK    OK    OK  UNNEEDED, same version exists in internal repository
Package 112/248HostnameOS / ArchINSTALLBUILDCHECKBUILD BIN
MDTS 1.10.0  (landing page)
Jack M.. Fu
Last Commit: f64bdf7
Last Changed Date: 2020-10-27 11:32:52 -0400
malbec1Linux (Ubuntu 18.04.5 LTS) / x86_64  OK    OK    OK  UNNEEDED, same version exists in internal repository
tokay1Windows Server 2012 R2 Standard / x64  OK    OK    OK    OK  UNNEEDED, same version exists in internal repository
merida1macOS 10.14.6 Mojave / x86_64  OK    OK    OK    OK  UNNEEDED, same version exists in internal repository
Package 113/248HostnameOS / ArchINSTALLBUILDCHECKBUILD BIN
MEDIPS 1.42.0  (landing page)
Lukas Chavez
Last Commit: 661e51c
Last Changed Date: 2020-10-27 10:39:33 -0400
malbec1Linux (Ubuntu 18.04.5 LTS) / x86_64  OK    OK    OK  UNNEEDED, same version exists in internal repository
tokay1Windows Server 2012 R2 Standard / x64  OK    OK    OK    OK  UNNEEDED, same version exists in internal repository
merida1macOS 10.14.6 Mojave / x86_64  OK    OK    OK    OK  UNNEEDED, same version exists in internal repository
Package 114/248HostnameOS / ArchINSTALLBUILDCHECKBUILD BIN
MEDME 1.50.0  (landing page)
Mattia Pelizzola
Last Commit: 94e4b45
Last Changed Date: 2020-10-27 10:34:22 -0400
malbec1Linux (Ubuntu 18.04.5 LTS) / x86_64  OK    OK    WARNINGS  UNNEEDED, same version exists in internal repository
tokay1Windows Server 2012 R2 Standard / x64  OK    OK    WARNINGS    OK  UNNEEDED, same version exists in internal repository
merida1macOS 10.14.6 Mojave / x86_64  OK    OK    WARNINGS    OK  UNNEEDED, same version exists in internal repository
Package 115/248HostnameOS / ArchINSTALLBUILDCHECKBUILD BIN
MesKit 1.0.1  (landing page)
Mengni Liu
Last Commit: 5896d35
Last Changed Date: 2021-03-26 21:12:13 -0400
malbec1Linux (Ubuntu 18.04.5 LTS) / x86_64  OK    OK    WARNINGS  UNNEEDED, same version exists in internal repository
tokay1Windows Server 2012 R2 Standard / x64  OK    OK    WARNINGS    OK  UNNEEDED, same version exists in internal repository
merida1macOS 10.14.6 Mojave / x86_64  OK    OK    WARNINGS    OK  UNNEEDED, same version exists in internal repository
Package 116/248HostnameOS / ArchINSTALLBUILDCHECKBUILD BIN
metagenomeFeatures 2.10.0  (landing page)
Nathan D. Olson
Last Commit: 880eaad
Last Changed Date: 2020-10-27 11:08:40 -0400
malbec1Linux (Ubuntu 18.04.5 LTS) / x86_64  OK    ERROR  skipped
tokay1Windows Server 2012 R2 Standard / x64  OK    ERROR  skippedskipped
merida1macOS 10.14.6 Mojave / x86_64  OK    ERROR  skippedskipped
Package 117/248HostnameOS / ArchINSTALLBUILDCHECKBUILD BIN
metaseqR2 1.2.0  (landing page)
Panagiotis Moulos
Last Commit: 2bcc067
Last Changed Date: 2020-10-27 11:57:00 -0400
malbec1Linux (Ubuntu 18.04.5 LTS) / x86_64  OK    OK    OK  UNNEEDED, same version exists in internal repository
tokay1Windows Server 2012 R2 Standard / x64  OK    OK    OK    OK  UNNEEDED, same version exists in internal repository
merida1macOS 10.14.6 Mojave / x86_64  OK    OK    OK    OK  UNNEEDED, same version exists in internal repository
Package 118/248HostnameOS / ArchINSTALLBUILDCHECKBUILD BIN
methimpute 1.12.0  (landing page)
Aaron Taudt
Last Commit: a13a2af
Last Changed Date: 2020-10-27 11:28:28 -0400
malbec1Linux (Ubuntu 18.04.5 LTS) / x86_64  OK    OK    OK  UNNEEDED, same version exists in internal repository
tokay1Windows Server 2012 R2 Standard / x64  OK    OK    OK    OK  UNNEEDED, same version exists in internal repository
merida1macOS 10.14.6 Mojave / x86_64  OK    OK    OK    OK  UNNEEDED, same version exists in internal repository
Package 119/248HostnameOS / ArchINSTALLBUILDCHECKBUILD BIN
MethTargetedNGS 1.22.0  (landing page)
Muhammad Ahmer Jamil
Last Commit: a88d091
Last Changed Date: 2020-10-27 11:04:44 -0400
malbec1Linux (Ubuntu 18.04.5 LTS) / x86_64  OK    OK    OK  UNNEEDED, same version exists in internal repository
tokay1Windows Server 2012 R2 Standard / x64  OK    OK    OK    OK  UNNEEDED, same version exists in internal repository
merida1macOS 10.14.6 Mojave / x86_64  OK    OK    OK    OK  UNNEEDED, same version exists in internal repository
Package 120/248HostnameOS / ArchINSTALLBUILDCHECKBUILD BIN
methVisual 1.42.0  (landing page)
Arie Zackay
Last Commit: e6933b5
Last Changed Date: 2020-10-27 10:37:31 -0400
malbec1Linux (Ubuntu 18.04.5 LTS) / x86_64  OK    OK    ERROR  
tokay1Windows Server 2012 R2 Standard / x64  OK    OK    ERROR    OK  
merida1macOS 10.14.6 Mojave / x86_64  OK    OK    ERROR    OK  
Package 121/248HostnameOS / ArchINSTALLBUILDCHECKBUILD BIN
methylPipe 1.24.0  (landing page)
Kamal Kishore
Last Commit: 5afa573
Last Changed Date: 2020-10-27 10:58:28 -0400
malbec1Linux (Ubuntu 18.04.5 LTS) / x86_64  OK    OK    WARNINGS  UNNEEDED, same version exists in internal repository
tokay1Windows Server 2012 R2 Standard / x64  OK    OK    WARNINGS    OK  UNNEEDED, same version exists in internal repository
merida1macOS 10.14.6 Mojave / x86_64  OK    OK    WARNINGS    OK  UNNEEDED, same version exists in internal repository
Package 122/248HostnameOS / ArchINSTALLBUILDCHECKBUILD BIN
MicrobiotaProcess 1.2.2  (landing page)
Shuangbin Xu
Last Commit: 3645ef5
Last Changed Date: 2021-04-17 05:22:11 -0400
malbec1Linux (Ubuntu 18.04.5 LTS) / x86_64  OK    OK    OK  UNNEEDED, same version exists in internal repository
tokay1Windows Server 2012 R2 Standard / x64  OK    OK    WARNINGS    OK  UNNEEDED, same version exists in internal repository
merida1macOS 10.14.6 Mojave / x86_64  OK    OK    OK    OK  UNNEEDED, same version exists in internal repository
Package 123/248HostnameOS / ArchINSTALLBUILDCHECKBUILD BIN
microRNA 1.48.0  (landing page)
"James F. Reid"
Last Commit: 6afc34c
Last Changed Date: 2020-10-27 10:34:26 -0400
malbec1Linux (Ubuntu 18.04.5 LTS) / x86_64  OK    OK    OK  UNNEEDED, same version exists in internal repository
tokay1Windows Server 2012 R2 Standard / x64  OK    OK    OK    OK  UNNEEDED, same version exists in internal repository
merida1macOS 10.14.6 Mojave / x86_64  OK    OK    OK    OK  UNNEEDED, same version exists in internal repository
Package 124/248HostnameOS / ArchINSTALLBUILDCHECKBUILD BIN
minfi 1.36.0  (landing page)
Kasper Daniel Hansen
Last Commit: 94301da
Last Changed Date: 2020-10-27 10:43:17 -0400
malbec1Linux (Ubuntu 18.04.5 LTS) / x86_64  OK    OK    OK  UNNEEDED, same version exists in internal repository
tokay1Windows Server 2012 R2 Standard / x64  OK    OK    WARNINGS    OK  UNNEEDED, same version exists in internal repository
merida1macOS 10.14.6 Mojave / x86_64  OK    OK    OK    OK  UNNEEDED, same version exists in internal repository
Package 125/248HostnameOS / ArchINSTALLBUILDCHECKBUILD BIN
MMDiff2 1.18.0  (landing page)
Gabriele Schweikert
Last Commit: f7a6d8f
Last Changed Date: 2020-10-27 11:14:41 -0400
malbec1Linux (Ubuntu 18.04.5 LTS) / x86_64  OK    OK    OK  UNNEEDED, same version exists in internal repository
tokay1Windows Server 2012 R2 Standard / x64  OK    OK    WARNINGS    OK  UNNEEDED, same version exists in internal repository
merida1macOS 10.14.6 Mojave / x86_64  OK    OK    OK    OK  UNNEEDED, same version exists in internal repository
Package 126/248HostnameOS / ArchINSTALLBUILDCHECKBUILD BIN
Modstrings 1.6.0  (landing page)
Felix G.M. Ernst
Last Commit: 7ee54eb
Last Changed Date: 2020-10-27 11:43:31 -0400
malbec1Linux (Ubuntu 18.04.5 LTS) / x86_64  OK    OK    OK  UNNEEDED, same version exists in internal repository
tokay1Windows Server 2012 R2 Standard / x64  OK    OK    OK    OK  UNNEEDED, same version exists in internal repository
merida1macOS 10.14.6 Mojave / x86_64  OK    OK    OK    OK  UNNEEDED, same version exists in internal repository
Package 127/248HostnameOS / ArchINSTALLBUILDCHECKBUILD BIN
motifbreakR 2.4.0  (landing page)
Simon Gert Coetzee
Last Commit: b7ea7f4
Last Changed Date: 2020-10-27 11:07:51 -0400
malbec1Linux (Ubuntu 18.04.5 LTS) / x86_64  OK    OK    WARNINGS  UNNEEDED, same version exists in internal repository
tokay1Windows Server 2012 R2 Standard / x64  OK    OK    WARNINGS    OK  UNNEEDED, same version exists in internal repository
merida1macOS 10.14.6 Mojave / x86_64  OK    OK    WARNINGS    OK  UNNEEDED, same version exists in internal repository
Package 128/248HostnameOS / ArchINSTALLBUILDCHECKBUILD BIN
motifcounter 1.14.0  (landing page)
Wolfgang Kopp
Last Commit: 021b279
Last Changed Date: 2020-10-27 11:22:37 -0400
malbec1Linux (Ubuntu 18.04.5 LTS) / x86_64  OK    OK    OK  UNNEEDED, same version exists in internal repository
tokay1Windows Server 2012 R2 Standard / x64  OK    OK    OK    OK  UNNEEDED, same version exists in internal repository
merida1macOS 10.14.6 Mojave / x86_64  OK    OK    OK    OK  UNNEEDED, same version exists in internal repository
Package 129/248HostnameOS / ArchINSTALLBUILDCHECKBUILD BIN
MotifDb 1.32.0  (landing page)
Paul Shannon
Last Commit: 99f1d5a
Last Changed Date: 2020-10-27 10:46:46 -0400
malbec1Linux (Ubuntu 18.04.5 LTS) / x86_64  OK    OK    WARNINGS  UNNEEDED, same version exists in internal repository
tokay1Windows Server 2012 R2 Standard / x64  OK    OK    WARNINGS    OK  UNNEEDED, same version exists in internal repository
merida1macOS 10.14.6 Mojave / x86_64  OK    OK    WARNINGS    OK  UNNEEDED, same version exists in internal repository
Package 130/248HostnameOS / ArchINSTALLBUILDCHECKBUILD BIN
motifmatchr 1.12.0  (landing page)
Alicia Schep
Last Commit: 015a8b1
Last Changed Date: 2020-10-27 11:24:45 -0400
malbec1Linux (Ubuntu 18.04.5 LTS) / x86_64  OK    OK    OK  UNNEEDED, same version exists in internal repository
tokay1Windows Server 2012 R2 Standard / x64  OK    OK    WARNINGS    OK  UNNEEDED, same version exists in internal repository
merida1macOS 10.14.6 Mojave / x86_64  OK    OK    OK    OK  UNNEEDED, same version exists in internal repository
Package 131/248HostnameOS / ArchINSTALLBUILDCHECKBUILD BIN
motifStack 1.34.0  (landing page)
Jianhong Ou
Last Commit: 600df2d
Last Changed Date: 2020-10-27 10:47:14 -0400
malbec1Linux (Ubuntu 18.04.5 LTS) / x86_64  OK    OK    OK  UNNEEDED, same version exists in internal repository
tokay1Windows Server 2012 R2 Standard / x64  OK    OK    OK    OK  UNNEEDED, same version exists in internal repository
merida1macOS 10.14.6 Mojave / x86_64  OK    OK    OK    OK  UNNEEDED, same version exists in internal repository
Package 132/248HostnameOS / ArchINSTALLBUILDCHECKBUILD BIN
MotIV 1.46.0  (landing page)
Eloi Mercier , Raphael Gottardo
Last Commit: 05f7b55
Last Changed Date: 2020-10-27 10:37:48 -0400
malbec1Linux (Ubuntu 18.04.5 LTS) / x86_64  OK    OK    ERROR  
tokay1Windows Server 2012 R2 Standard / x64  OK    OK    ERROR    OK  
merida1macOS 10.14.6 Mojave / x86_64  OK    OK    ERROR    OK  
Package 133/248HostnameOS / ArchINSTALLBUILDCHECKBUILD BIN
msa 1.22.0  (landing page)
Ulrich Bodenhofer
Last Commit: 78bb238
Last Changed Date: 2020-10-27 11:05:14 -0400
malbec1Linux (Ubuntu 18.04.5 LTS) / x86_64  OK    OK    WARNINGS  UNNEEDED, same version exists in internal repository
tokay1Windows Server 2012 R2 Standard / x64  OK    OK    WARNINGS    OK  UNNEEDED, same version exists in internal repository
merida1macOS 10.14.6 Mojave / x86_64  OK    OK    WARNINGS    OK  UNNEEDED, same version exists in internal repository
Package 134/248HostnameOS / ArchINSTALLBUILDCHECKBUILD BIN
MSnID 1.24.0  (landing page)
Vlad Petyuk
Last Commit: f0cef77
Last Changed Date: 2020-10-27 10:59:05 -0400
malbec1Linux (Ubuntu 18.04.5 LTS) / x86_64  OK    OK    OK  UNNEEDED, same version exists in internal repository
tokay1Windows Server 2012 R2 Standard / x64  OK    OK    WARNINGS    OK  UNNEEDED, same version exists in internal repository
merida1macOS 10.14.6 Mojave / x86_64  OK    OK    OK    OK  UNNEEDED, same version exists in internal repository
Package 135/248HostnameOS / ArchINSTALLBUILDCHECKBUILD BIN
MSstatsPTM 1.0.0  (landing page)
Tsung-Heng Tsai
Last Commit: d8c642c
Last Changed Date: 2020-10-27 12:01:42 -0400
malbec1Linux (Ubuntu 18.04.5 LTS) / x86_64  OK    OK    OK  UNNEEDED, same version exists in internal repository
tokay1Windows Server 2012 R2 Standard / x64  OK    OK    OK    OK  UNNEEDED, same version exists in internal repository
merida1macOS 10.14.6 Mojave / x86_64  OK    OK    ERROR    OK  
Package 136/248HostnameOS / ArchINSTALLBUILDCHECKBUILD BIN
multicrispr 1.0.0  (landing page)
Aditya Bhagwat
Last Commit: c2d9878
Last Changed Date: 2020-10-27 11:57:55 -0400
malbec1Linux (Ubuntu 18.04.5 LTS) / x86_64  OK    OK    OK  UNNEEDED, same version exists in internal repository
tokay1Windows Server 2012 R2 Standard / x64  OK    OK    OK    OK  UNNEEDED, same version exists in internal repository
merida1macOS 10.14.6 Mojave / x86_64  OK    OK    OK    OK  UNNEEDED, same version exists in internal repository
Package 137/248HostnameOS / ArchINSTALLBUILDCHECKBUILD BIN
muscle 3.32.0  (landing page)
Alex T. Kalinka
Last Commit: 6c17633
Last Changed Date: 2020-10-27 11:02:57 -0400
malbec1Linux (Ubuntu 18.04.5 LTS) / x86_64  OK    OK    WARNINGS  UNNEEDED, same version exists in internal repository
tokay1Windows Server 2012 R2 Standard / x64  OK    OK    WARNINGS    OK  UNNEEDED, same version exists in internal repository
merida1macOS 10.14.6 Mojave / x86_64  OK    OK    OK    OK  UNNEEDED, same version exists in internal repository
Package 138/248HostnameOS / ArchINSTALLBUILDCHECKBUILD BIN
musicatk 1.0.0  (landing page)
Aaron Chevalier
Last Commit: 22a0020
Last Changed Date: 2020-10-27 12:03:18 -0400
malbec1Linux (Ubuntu 18.04.5 LTS) / x86_64  OK    OK    OK  UNNEEDED, same version exists in internal repository
tokay1Windows Server 2012 R2 Standard / x64  OK    OK    OK    OK  UNNEEDED, same version exists in internal repository
merida1macOS 10.14.6 Mojave / x86_64  OK    OK    OK    OK  UNNEEDED, same version exists in internal repository
Package 139/248HostnameOS / ArchINSTALLBUILDCHECKBUILD BIN
MutationalPatterns 3.0.1  (landing page)
Rurika Oka
Last Commit: 72983a7
Last Changed Date: 2020-11-12 05:21:39 -0400
malbec1Linux (Ubuntu 18.04.5 LTS) / x86_64  OK    OK    OK  UNNEEDED, same version exists in internal repository
tokay1Windows Server 2012 R2 Standard / x64  OK    OK    OK    OK  UNNEEDED, same version exists in internal repository
merida1macOS 10.14.6 Mojave / x86_64  OK    OK    OK    OK  UNNEEDED, same version exists in internal repository
Package 140/248HostnameOS / ArchINSTALLBUILDCHECKBUILD BIN
ngsReports 1.6.1  (landing page)
Steve Pederson
Last Commit: ef08d92
Last Changed Date: 2020-12-30 02:37:20 -0400
malbec1Linux (Ubuntu 18.04.5 LTS) / x86_64  OK    OK    OK  UNNEEDED, same version exists in internal repository
tokay1Windows Server 2012 R2 Standard / x64  OK    OK    OK    OK  UNNEEDED, same version exists in internal repository
merida1macOS 10.14.6 Mojave / x86_64  OK    OK    OK    OK  UNNEEDED, same version exists in internal repository
Package 141/248HostnameOS / ArchINSTALLBUILDCHECKBUILD BIN
nucleR 2.22.0  (landing page)
Diego Gallego
Last Commit: 4f0d071
Last Changed Date: 2020-11-15 11:56:00 -0400
malbec1Linux (Ubuntu 18.04.5 LTS) / x86_64  OK    OK    WARNINGS  UNNEEDED, same version exists in internal repository
tokay1Windows Server 2012 R2 Standard / x64  OK    OK    WARNINGS    OK  UNNEEDED, same version exists in internal repository
merida1macOS 10.14.6 Mojave / x86_64  OK    OK    WARNINGS    OK  UNNEEDED, same version exists in internal repository
Package 142/248HostnameOS / ArchINSTALLBUILDCHECKBUILD BIN
oligo 1.54.1  (landing page)
Benilton Carvalho
Last Commit: 4988b63
Last Changed Date: 2020-11-03 14:46:19 -0400
malbec1Linux (Ubuntu 18.04.5 LTS) / x86_64  OK    OK    WARNINGS  UNNEEDED, same version exists in internal repository
tokay1Windows Server 2012 R2 Standard / x64  OK    OK    WARNINGS    OK  UNNEEDED, same version exists in internal repository
merida1macOS 10.14.6 Mojave / x86_64  OK    OK    WARNINGS    OK  UNNEEDED, same version exists in internal repository
Package 143/248HostnameOS / ArchINSTALLBUILDCHECKBUILD BIN
oligoClasses 1.52.0  (landing page)
Benilton Carvalho and Robert Scharpf
Last Commit: 7995efb
Last Changed Date: 2020-10-27 10:31:54 -0400
malbec1Linux (Ubuntu 18.04.5 LTS) / x86_64  OK    OK    WARNINGS  UNNEEDED, same version exists in internal repository
tokay1Windows Server 2012 R2 Standard / x64  OK    OK    WARNINGS    OK  UNNEEDED, same version exists in internal repository
merida1macOS 10.14.6 Mojave / x86_64  OK    OK    WARNINGS    OK  UNNEEDED, same version exists in internal repository
Package 144/248HostnameOS / ArchINSTALLBUILDCHECKBUILD BIN
OmaDB 2.6.1  (landing page)
Klara Kaleb , Adrian Altenhoff
Last Commit: f70bed3
Last Changed Date: 2020-11-10 17:30:16 -0400
malbec1Linux (Ubuntu 18.04.5 LTS) / x86_64  OK    OK    WARNINGS  UNNEEDED, same version exists in internal repository
tokay1Windows Server 2012 R2 Standard / x64  OK    OK    WARNINGS    OK  UNNEEDED, same version exists in internal repository
merida1macOS 10.14.6 Mojave / x86_64  OK    OK    WARNINGS    OK  UNNEEDED, same version exists in internal repository
Package 145/248HostnameOS / ArchINSTALLBUILDCHECKBUILD BIN
openPrimeR 1.12.1  (landing page)
Matthias Döring
Last Commit: cf7a7af
Last Changed Date: 2020-11-14 11:32:07 -0400
malbec1Linux (Ubuntu 18.04.5 LTS) / x86_64  OK    OK    OK  UNNEEDED, same version exists in internal repository
tokay1Windows Server 2012 R2 Standard / x64  OK    OK    OK    OK  UNNEEDED, same version exists in internal repository
merida1macOS 10.14.6 Mojave / x86_64  OK    OK    OK    OK  UNNEEDED, same version exists in internal repository
Package 146/248HostnameOS / ArchINSTALLBUILDCHECKBUILD BIN
ORFik 1.10.13  (landing page)
Haakon Tjeldnes
Last Commit: 3f2976e
Last Changed Date: 2021-03-26 10:15:54 -0400
malbec1Linux (Ubuntu 18.04.5 LTS) / x86_64  OK    OK    OK  UNNEEDED, same version exists in internal repository
tokay1Windows Server 2012 R2 Standard / x64  OK    OK    WARNINGS    OK  UNNEEDED, same version exists in internal repository
merida1macOS 10.14.6 Mojave / x86_64  OK    OK    OK    OK  UNNEEDED, same version exists in internal repository
Package 147/248HostnameOS / ArchINSTALLBUILDCHECKBUILD BIN
OTUbase 1.40.0  (landing page)
Daniel Beck
Last Commit: adc701f
Last Changed Date: 2020-10-27 10:39:11 -0400
malbec1Linux (Ubuntu 18.04.5 LTS) / x86_64  OK    OK    OK  UNNEEDED, same version exists in internal repository
tokay1Windows Server 2012 R2 Standard / x64  OK    OK    OK    OK  UNNEEDED, same version exists in internal repository
merida1macOS 10.14.6 Mojave / x86_64  OK    OK    OK    OK  UNNEEDED, same version exists in internal repository
Package 148/248HostnameOS / ArchINSTALLBUILDCHECKBUILD BIN
packFinder 1.2.0  (landing page)
Jack Gisby
Last Commit: 25949e3
Last Changed Date: 2020-10-27 11:52:38 -0400
malbec1Linux (Ubuntu 18.04.5 LTS) / x86_64  OK    OK    OK  UNNEEDED, same version exists in internal repository
tokay1Windows Server 2012 R2 Standard / x64  OK    OK    OK    OK  UNNEEDED, same version exists in internal repository
merida1macOS 10.14.6 Mojave / x86_64  OK    OK    OK    OK  UNNEEDED, same version exists in internal repository
Package 149/248HostnameOS / ArchINSTALLBUILDCHECKBUILD BIN
pdInfoBuilder 1.54.0  (landing page)
Benilton Carvalho
Last Commit: 7d43340
Last Changed Date: 2020-10-27 10:30:10 -0400
malbec1Linux (Ubuntu 18.04.5 LTS) / x86_64  OK    OK    OK  UNNEEDED, same version exists in internal repository
tokay1Windows Server 2012 R2 Standard / x64  OK    OK    OK    OK  UNNEEDED, same version exists in internal repository
merida1macOS 10.14.6 Mojave / x86_64  OK    OK    OK    OK  UNNEEDED, same version exists in internal repository
Package 150/248HostnameOS / ArchINSTALLBUILDCHECKBUILD BIN
periodicDNA 1.0.0  (landing page)
Jacques Serizay
Last Commit: f4416e8
Last Changed Date: 2020-10-27 12:00:35 -0400
malbec1Linux (Ubuntu 18.04.5 LTS) / x86_64  OK    OK    OK  UNNEEDED, same version exists in internal repository
tokay1Windows Server 2012 R2 Standard / x64  OK    OK    OK    OK  UNNEEDED, same version exists in internal repository
merida1macOS 10.14.6 Mojave / x86_64  OK    OK    OK    OK  UNNEEDED, same version exists in internal repository
Package 151/248HostnameOS / ArchINSTALLBUILDCHECKBUILD BIN
PGA 1.20.0  (landing page)
Bo Wen , Shaohang Xu
Last Commit: 4e7418a
Last Changed Date: 2020-10-27 11:05:59 -0400
malbec1Linux (Ubuntu 18.04.5 LTS) / x86_64  OK    OK    WARNINGS  UNNEEDED, same version exists in internal repository
tokay1Windows Server 2012 R2 Standard / x64  OK    OK    WARNINGS    OK  UNNEEDED, same version exists in internal repository
merida1macOS 10.14.6 Mojave / x86_64  ERROR    ERROR  skippedskipped
Package 152/248HostnameOS / ArchINSTALLBUILDCHECKBUILD BIN
PhyloProfile 1.4.11  (landing page)
Vinh Tran
Last Commit: 5f97c5a
Last Changed Date: 2021-04-26 11:47:16 -0400
malbec1Linux (Ubuntu 18.04.5 LTS) / x86_64  OK    OK    OK  UNNEEDED, same version exists in internal repository
tokay1Windows Server 2012 R2 Standard / x64  OK    OK    OK    OK  UNNEEDED, same version exists in internal repository
merida1macOS 10.14.6 Mojave / x86_64  OK    OK    OK    OK  UNNEEDED, same version exists in internal repository
Package 153/248HostnameOS / ArchINSTALLBUILDCHECKBUILD BIN
phyloseq 1.34.0  (landing page)
Paul J. McMurdie
Last Commit: cbed93e
Last Changed Date: 2020-10-27 10:44:40 -0400
malbec1Linux (Ubuntu 18.04.5 LTS) / x86_64  OK    OK    OK  UNNEEDED, same version exists in internal repository
tokay1Windows Server 2012 R2 Standard / x64  OK    OK    WARNINGS    OK  UNNEEDED, same version exists in internal repository
merida1macOS 10.14.6 Mojave / x86_64  OK    OK    OK    OK  UNNEEDED, same version exists in internal repository
Package 154/248HostnameOS / ArchINSTALLBUILDCHECKBUILD BIN
pipeFrame 1.6.0  (landing page)
Zheng Wei
Last Commit: 952b4e0
Last Changed Date: 2020-10-27 11:45:40 -0400
malbec1Linux (Ubuntu 18.04.5 LTS) / x86_64  OK    OK    OK  UNNEEDED, same version exists in internal repository
tokay1Windows Server 2012 R2 Standard / x64  OK    OK    OK    OK  UNNEEDED, same version exists in internal repository
merida1macOS 10.14.6 Mojave / x86_64  OK    OK    OK    OK  UNNEEDED, same version exists in internal repository
Package 155/248HostnameOS / ArchINSTALLBUILDCHECKBUILD BIN
podkat 1.22.0  (landing page)
Ulrich Bodenhofer
Last Commit: 64f1344
Last Changed Date: 2020-10-27 11:03:58 -0400
malbec1Linux (Ubuntu 18.04.5 LTS) / x86_64  OK    OK    OK  UNNEEDED, same version exists in internal repository
tokay1Windows Server 2012 R2 Standard / x64  OK    OK    WARNINGS    OK  UNNEEDED, same version exists in internal repository
merida1macOS 10.14.6 Mojave / x86_64  OK    OK    OK    OK  UNNEEDED, same version exists in internal repository
Package 156/248HostnameOS / ArchINSTALLBUILDCHECKBUILD BIN
polyester 1.26.0  (landing page)
Jack Fu , Jeff Leek
Last Commit: a241ea8
Last Changed Date: 2020-10-27 10:59:22 -0400
malbec1Linux (Ubuntu 18.04.5 LTS) / x86_64  OK    OK    OK  UNNEEDED, same version exists in internal repository
tokay1Windows Server 2012 R2 Standard / x64  OK    OK    OK    OK  UNNEEDED, same version exists in internal repository
merida1macOS 10.14.6 Mojave / x86_64  OK    OK    OK    OK  UNNEEDED, same version exists in internal repository
Package 157/248HostnameOS / ArchINSTALLBUILDCHECKBUILD BIN
pqsfinder 2.6.0  (landing page)
Jiri Hon
Last Commit: 144084f
Last Changed Date: 2020-10-27 11:13:58 -0400
malbec1Linux (Ubuntu 18.04.5 LTS) / x86_64  OK    OK    OK  UNNEEDED, same version exists in internal repository
tokay1Windows Server 2012 R2 Standard / x64  OK    OK    OK    OK  UNNEEDED, same version exists in internal repository
merida1macOS 10.14.6 Mojave / x86_64  OK    OK    OK    OK  UNNEEDED, same version exists in internal repository
Package 158/248HostnameOS / ArchINSTALLBUILDCHECKBUILD BIN
primirTSS 1.8.0  (landing page)
Pumin Li
Last Commit: 47273c4
Last Changed Date: 2020-10-27 11:38:26 -0400
malbec1Linux (Ubuntu 18.04.5 LTS) / x86_64  OK    OK    WARNINGS  UNNEEDED, same version exists in internal repository
tokay1Windows Server 2012 R2 Standard / x64  OK    OK    WARNINGS    OK  UNNEEDED, same version exists in internal repository
merida1macOS 10.14.6 Mojave / x86_64  OK    OK    WARNINGS    OK  UNNEEDED, same version exists in internal repository
Package 159/248HostnameOS / ArchINSTALLBUILDCHECKBUILD BIN
proBAMr 1.24.0  (landing page)
Xiaojing Wang
Last Commit: 8ea7d6e
Last Changed Date: 2020-10-27 10:59:42 -0400
malbec1Linux (Ubuntu 18.04.5 LTS) / x86_64  OK    OK    OK  UNNEEDED, same version exists in internal repository
tokay1Windows Server 2012 R2 Standard / x64  OK    OK    OK    OK  UNNEEDED, same version exists in internal repository
merida1macOS 10.14.6 Mojave / x86_64  OK    OK    OK    OK  UNNEEDED, same version exists in internal repository
Package 160/248HostnameOS / ArchINSTALLBUILDCHECKBUILD BIN
procoil 2.18.0  (landing page)
Ulrich Bodenhofer
Last Commit: bd35bcf
Last Changed Date: 2020-10-27 10:40:17 -0400
malbec1Linux (Ubuntu 18.04.5 LTS) / x86_64  OK    OK    OK  UNNEEDED, same version exists in internal repository
tokay1Windows Server 2012 R2 Standard / x64  OK    OK    WARNINGS    OK  UNNEEDED, same version exists in internal repository
merida1macOS 10.14.6 Mojave / x86_64  OK    OK    OK    OK  UNNEEDED, same version exists in internal repository
Package 161/248HostnameOS / ArchINSTALLBUILDCHECKBUILD BIN
ProteomicsAnnotationHubData 1.20.0  (landing page)
Laurent Gatto
Last Commit: b1494af
Last Changed Date: 2020-10-27 11:07:54 -0400
malbec1Linux (Ubuntu 18.04.5 LTS) / x86_64  OK    OK    OK  UNNEEDED, same version exists in internal repository
tokay1Windows Server 2012 R2 Standard / x64  OK    OK    OK    OK  UNNEEDED, same version exists in internal repository
merida1macOS 10.14.6 Mojave / x86_64  OK    OK    OK    OK  UNNEEDED, same version exists in internal repository
Package 162/248HostnameOS / ArchINSTALLBUILDCHECKBUILD BIN
PureCN 1.20.0  (landing page)
Markus Riester
Last Commit: 582f4fa
Last Changed Date: 2020-10-27 11:14:15 -0400
malbec1Linux (Ubuntu 18.04.5 LTS) / x86_64  OK    OK    OK  UNNEEDED, same version exists in internal repository
tokay1Windows Server 2012 R2 Standard / x64  OK    OK    OK    OK  UNNEEDED, same version exists in internal repository
merida1macOS 10.14.6 Mojave / x86_64  OK    OK    OK    OK  UNNEEDED, same version exists in internal repository
Package 163/248HostnameOS / ArchINSTALLBUILDCHECKBUILD BIN
Pviz 1.24.0  (landing page)
Renan Sauteraud
Last Commit: 57e92dd
Last Changed Date: 2020-10-27 10:57:31 -0400
malbec1Linux (Ubuntu 18.04.5 LTS) / x86_64  OK    OK    OK  UNNEEDED, same version exists in internal repository
tokay1Windows Server 2012 R2 Standard / x64  OK    OK    OK    OK  UNNEEDED, same version exists in internal repository
merida1macOS 10.14.6 Mojave / x86_64  OK    OK    OK    OK  UNNEEDED, same version exists in internal repository
Package 164/248HostnameOS / ArchINSTALLBUILDCHECKBUILD BIN
PWMEnrich 4.26.0  (landing page)
Diego Diez
Last Commit: 5544f38
Last Changed Date: 2020-10-27 10:46:10 -0400
malbec1Linux (Ubuntu 18.04.5 LTS) / x86_64  OK    OK    OK  UNNEEDED, same version exists in internal repository
tokay1Windows Server 2012 R2 Standard / x64  OK    OK    OK    OK  UNNEEDED, same version exists in internal repository
merida1macOS 10.14.6 Mojave / x86_64  OK    OK    OK    OK  UNNEEDED, same version exists in internal repository
Package 165/248HostnameOS / ArchINSTALLBUILDCHECKBUILD BIN
qPLEXanalyzer 1.8.2  (landing page)
Ashley Sawle
Last Commit: 8bdf172
Last Changed Date: 2021-02-01 10:35:26 -0400
malbec1Linux (Ubuntu 18.04.5 LTS) / x86_64  OK    OK    OK  UNNEEDED, same version exists in internal repository
tokay1Windows Server 2012 R2 Standard / x64  OK    OK    OK    OK  UNNEEDED, same version exists in internal repository
merida1macOS 10.14.6 Mojave / x86_64  OK    OK    OK    OK  UNNEEDED, same version exists in internal repository
Package 166/248HostnameOS / ArchINSTALLBUILDCHECKBUILD BIN
qrqc 1.44.0  (landing page)
Vince Buffalo
Last Commit: b90bb78
Last Changed Date: 2020-10-27 10:41:07 -0400
malbec1Linux (Ubuntu 18.04.5 LTS) / x86_64  OK    OK    WARNINGS  UNNEEDED, same version exists in internal repository
tokay1Windows Server 2012 R2 Standard / x64  OK    OK    OK    OK  UNNEEDED, same version exists in internal repository
merida1macOS 10.14.6 Mojave / x86_64  OK    OK    WARNINGS    OK  UNNEEDED, same version exists in internal repository
Package 167/248HostnameOS / ArchINSTALLBUILDCHECKBUILD BIN
qsea 1.16.0  (landing page)
Matthias Lienhard
Last Commit: d0e6ac0
Last Changed Date: 2020-10-27 11:15:42 -0400
malbec1Linux (Ubuntu 18.04.5 LTS) / x86_64  OK    OK    OK  UNNEEDED, same version exists in internal repository
tokay1Windows Server 2012 R2 Standard / x64  OK    OK    OK    OK  UNNEEDED, same version exists in internal repository
merida1macOS 10.14.6 Mojave / x86_64  OK    OK    OK    OK  UNNEEDED, same version exists in internal repository
Package 168/248HostnameOS / ArchINSTALLBUILDCHECKBUILD BIN
QSutils 1.8.0  (landing page)
Mercedes Guerrero-Murillo
Last Commit: fc24f54
Last Changed Date: 2020-10-27 11:39:52 -0400
malbec1Linux (Ubuntu 18.04.5 LTS) / x86_64  OK    OK    OK  UNNEEDED, same version exists in internal repository
tokay1Windows Server 2012 R2 Standard / x64  OK    OK    OK    OK  UNNEEDED, same version exists in internal repository
merida1macOS 10.14.6 Mojave / x86_64  OK    OK    OK    OK  UNNEEDED, same version exists in internal repository
Package 169/248HostnameOS / ArchINSTALLBUILDCHECKBUILD BIN
QuasR 1.30.0  (landing page)
Michael Stadler
Last Commit: 1b9d992
Last Changed Date: 2020-10-27 10:48:46 -0400
malbec1Linux (Ubuntu 18.04.5 LTS) / x86_64  OK    OK    OK  UNNEEDED, same version exists in internal repository
tokay1Windows Server 2012 R2 Standard / x64  OK    OK    OK    OK  UNNEEDED, same version exists in internal repository
merida1macOS 10.14.6 Mojave / x86_64  OK    OK    OK    OK  UNNEEDED, same version exists in internal repository
Package 170/248HostnameOS / ArchINSTALLBUILDCHECKBUILD BIN
r3Cseq 1.36.0  (landing page)
Supat Thongjuea or
Last Commit: 5903521
Last Changed Date: 2020-10-27 10:43:30 -0400
malbec1Linux (Ubuntu 18.04.5 LTS) / x86_64  OK    OK    OK  UNNEEDED, same version exists in internal repository
tokay1Windows Server 2012 R2 Standard / x64  OK    OK    OK    OK  UNNEEDED, same version exists in internal repository
merida1macOS 10.14.6 Mojave / x86_64  OK    OK    OK    OK  UNNEEDED, same version exists in internal repository
Package 171/248HostnameOS / ArchINSTALLBUILDCHECKBUILD BIN
R453Plus1Toolbox 1.40.0  (landing page)
Hans-Ulrich Klein
Last Commit: 4524058
Last Changed Date: 2020-10-27 10:39:28 -0400
malbec1Linux (Ubuntu 18.04.5 LTS) / x86_64  OK    OK    OK  UNNEEDED, same version exists in internal repository
tokay1Windows Server 2012 R2 Standard / x64  OK    OK    OK    OK  UNNEEDED, same version exists in internal repository
merida1macOS 10.14.6 Mojave / x86_64  OK    OK    OK    OK  UNNEEDED, same version exists in internal repository
Package 172/248HostnameOS / ArchINSTALLBUILDCHECKBUILD BIN
R4RNA 1.18.0  (landing page)
Daniel Lai
Last Commit: c4de6f4
Last Changed Date: 2020-10-27 11:09:24 -0400
malbec1Linux (Ubuntu 18.04.5 LTS) / x86_64  OK    OK    OK  UNNEEDED, same version exists in internal repository
tokay1Windows Server 2012 R2 Standard / x64  OK    OK    OK    OK  UNNEEDED, same version exists in internal repository
merida1macOS 10.14.6 Mojave / x86_64  OK    OK    OK    OK  UNNEEDED, same version exists in internal repository
Package 173/248HostnameOS / ArchINSTALLBUILDCHECKBUILD BIN
ramwas 1.14.0  (landing page)
Andrey A Shabalin
Last Commit: b13659e
Last Changed Date: 2020-10-27 11:20:16 -0400
malbec1Linux (Ubuntu 18.04.5 LTS) / x86_64  OK    OK    OK  UNNEEDED, same version exists in internal repository
tokay1Windows Server 2012 R2 Standard / x64  OK    OK    WARNINGS    OK  UNNEEDED, same version exists in internal repository
merida1macOS 10.14.6 Mojave / x86_64  OK    OK    OK    OK  UNNEEDED, same version exists in internal repository
Package 174/248HostnameOS / ArchINSTALLBUILDCHECKBUILD BIN
RCAS 1.16.0  (landing page)
Bora Uyar
Last Commit: ece9ca7
Last Changed Date: 2020-10-27 11:16:18 -0400
malbec1Linux (Ubuntu 18.04.5 LTS) / x86_64  OK    OK    OK  UNNEEDED, same version exists in internal repository
tokay1Windows Server 2012 R2 Standard / x64  OK    OK    OK    OK  UNNEEDED, same version exists in internal repository
merida1macOS 10.14.6 Mojave / x86_64  OK    OK    OK    OK  UNNEEDED, same version exists in internal repository
Package 175/248HostnameOS / ArchINSTALLBUILDCHECKBUILD BIN
Rcpi 1.26.0  (landing page)
Nan Xiao
Last Commit: 01c47f5
Last Changed Date: 2020-10-27 10:55:30 -0400
malbec1Linux (Ubuntu 18.04.5 LTS) / x86_64  OK    OK    OK  UNNEEDED, same version exists in internal repository
tokay1Windows Server 2012 R2 Standard / x64  OK    OK    OK    OK  UNNEEDED, same version exists in internal repository
merida1macOS 10.14.6 Mojave / x86_64  OK    OK    OK    OK  UNNEEDED, same version exists in internal repository
Package 176/248HostnameOS / ArchINSTALLBUILDCHECKBUILD BIN
REDseq 1.36.0  (landing page)
Lihua Julie Zhu
Last Commit: 89a4802
Last Changed Date: 2020-10-27 10:41:39 -0400
malbec1Linux (Ubuntu 18.04.5 LTS) / x86_64  OK    OK    OK  UNNEEDED, same version exists in internal repository
tokay1Windows Server 2012 R2 Standard / x64  OK    OK    OK    OK  UNNEEDED, same version exists in internal repository
merida1macOS 10.14.6 Mojave / x86_64  OK    OK    OK    OK  UNNEEDED, same version exists in internal repository
Package 177/248HostnameOS / ArchINSTALLBUILDCHECKBUILD BIN
regioneR 1.22.0  (landing page)
Bernat Gel
Last Commit: fb28e1a
Last Changed Date: 2020-10-27 11:04:09 -0400
malbec1Linux (Ubuntu 18.04.5 LTS) / x86_64  OK    OK    OK  UNNEEDED, same version exists in internal repository
tokay1Windows Server 2012 R2 Standard / x64  OK    OK    OK    OK  UNNEEDED, same version exists in internal repository
merida1macOS 10.14.6 Mojave / x86_64  OK    OK    OK    OK  UNNEEDED, same version exists in internal repository
Package 178/248HostnameOS / ArchINSTALLBUILDCHECKBUILD BIN
regutools 1.2.3  (landing page)
Joselyn Chavez
Last Commit: 4c29caf
Last Changed Date: 2020-12-18 19:17:39 -0400
malbec1Linux (Ubuntu 18.04.5 LTS) / x86_64  OK    OK    OK  UNNEEDED, same version exists in internal repository
tokay1Windows Server 2012 R2 Standard / x64  OK    OK    OK    OK  UNNEEDED, same version exists in internal repository
merida1macOS 10.14.6 Mojave / x86_64  OK    OK    OK    OK  UNNEEDED, same version exists in internal repository
Package 179/248HostnameOS / ArchINSTALLBUILDCHECKBUILD BIN
REMP 1.14.0  (landing page)
Yinan Zheng
Last Commit: cdf19ff
Last Changed Date: 2020-10-27 11:21:28 -0400
malbec1Linux (Ubuntu 18.04.5 LTS) / x86_64  OK    OK    OK  UNNEEDED, same version exists in internal repository
tokay1Windows Server 2012 R2 Standard / x64  OK    OK    OK    OK  UNNEEDED, same version exists in internal repository
merida1macOS 10.14.6 Mojave / x86_64  OK    OK    OK    OK  UNNEEDED, same version exists in internal repository
Package 180/248HostnameOS / ArchINSTALLBUILDCHECKBUILD BIN
Repitools 1.36.0  (landing page)
Mark Robinson
Last Commit: 60617aa
Last Changed Date: 2020-10-27 10:41:57 -0400
malbec1Linux (Ubuntu 18.04.5 LTS) / x86_64  OK    OK    OK  UNNEEDED, same version exists in internal repository
tokay1Windows Server 2012 R2 Standard / x64  OK    OK    WARNINGS    OK  UNNEEDED, same version exists in internal repository
merida1macOS 10.14.6 Mojave / x86_64  OK    OK    OK    OK  UNNEEDED, same version exists in internal repository
Package 181/248HostnameOS / ArchINSTALLBUILDCHECKBUILD BIN
rfaRm 1.2.1  (landing page)
Lara Selles Vidal
Last Commit: 312b840
Last Changed Date: 2021-03-15 14:54:52 -0400
malbec1Linux (Ubuntu 18.04.5 LTS) / x86_64  OK    OK    OK  UNNEEDED, same version exists in internal repository
tokay1Windows Server 2012 R2 Standard / x64  OK    OK    OK    OK  UNNEEDED, same version exists in internal repository
merida1macOS 10.14.6 Mojave / x86_64  OK    OK    OK    OK  UNNEEDED, same version exists in internal repository
Package 182/248HostnameOS / ArchINSTALLBUILDCHECKBUILD BIN
rGADEM 2.38.0  (landing page)
Arnaud Droit
Last Commit: 84e3b59
Last Changed Date: 2020-10-27 10:37:29 -0400
malbec1Linux (Ubuntu 18.04.5 LTS) / x86_64  OK    OK    OK  UNNEEDED, same version exists in internal repository
tokay1Windows Server 2012 R2 Standard / x64  OK    OK    OK    OK  UNNEEDED, same version exists in internal repository
merida1macOS 10.14.6 Mojave / x86_64  OK    OK    OK    OK  UNNEEDED, same version exists in internal repository
Package 183/248HostnameOS / ArchINSTALLBUILDCHECKBUILD BIN
RiboProfiling 1.20.0  (landing page)
A. Popa
Last Commit: 0037574
Last Changed Date: 2020-10-27 11:09:02 -0400
malbec1Linux (Ubuntu 18.04.5 LTS) / x86_64  OK    OK    WARNINGS  UNNEEDED, same version exists in internal repository
tokay1Windows Server 2012 R2 Standard / x64  OK    OK    WARNINGS    OK  UNNEEDED, same version exists in internal repository
merida1macOS 10.14.6 Mojave / x86_64  OK    OK    WARNINGS    OK  UNNEEDED, same version exists in internal repository
Package 184/248HostnameOS / ArchINSTALLBUILDCHECKBUILD BIN
ribosomeProfilingQC 1.2.1  (landing page)
Jianhong Ou
Last Commit: 5c7f59f
Last Changed Date: 2021-03-10 18:24:26 -0400
malbec1Linux (Ubuntu 18.04.5 LTS) / x86_64  OK    OK    OK  UNNEEDED, same version exists in internal repository
tokay1Windows Server 2012 R2 Standard / x64  OK    OK    OK    OK  UNNEEDED, same version exists in internal repository
merida1macOS 10.14.6 Mojave / x86_64  OK    OK    OK    OK  UNNEEDED, same version exists in internal repository
Package 185/248HostnameOS / ArchINSTALLBUILDCHECKBUILD BIN
RNAmodR 1.4.2  (landing page)
Felix G.M. Ernst
Last Commit: facd587
Last Changed Date: 2020-12-12 16:58:02 -0400
malbec1Linux (Ubuntu 18.04.5 LTS) / x86_64  OK    OK    OK  UNNEEDED, same version exists in internal repository
tokay1Windows Server 2012 R2 Standard / x64  OK    OK    OK    OK  UNNEEDED, same version exists in internal repository
merida1macOS 10.14.6 Mojave / x86_64  OK    OK    OK    OK  UNNEEDED, same version exists in internal repository
Package 186/248HostnameOS / ArchINSTALLBUILDCHECKBUILD BIN
RNAprobR 1.22.0  (landing page)
Nikos Sidiropoulos
Last Commit: a1d0885
Last Changed Date: 2020-10-27 11:03:22 -0400
malbec1Linux (Ubuntu 18.04.5 LTS) / x86_64  OK    OK    WARNINGS  UNNEEDED, same version exists in internal repository
tokay1Windows Server 2012 R2 Standard / x64  OK    OK    WARNINGS    OK  UNNEEDED, same version exists in internal repository
merida1macOS 10.14.6 Mojave / x86_64  OK    OK    WARNINGS    OK  UNNEEDED, same version exists in internal repository
Package 187/248HostnameOS / ArchINSTALLBUILDCHECKBUILD BIN
RNASeqR 1.8.0  (landing page)
Kuan-Hao Chao
Last Commit: 07483cd
Last Changed Date: 2020-10-27 11:39:29 -0400
malbec1Linux (Ubuntu 18.04.5 LTS) / x86_64  OK    OK    OK  UNNEEDED, same version exists in internal repository
tokay1Windows Server 2012 R2 Standard / x64... NOT SUPPORTED ...
merida1macOS 10.14.6 Mojave / x86_64  OK    OK    OK    OK  UNNEEDED, same version exists in internal repository
Package 188/248HostnameOS / ArchINSTALLBUILDCHECKBUILD BIN
Roleswitch 1.28.0  (landing page)
Yue Li
Last Commit: 16aabfe
Last Changed Date: 2020-10-27 10:52:35 -0400
malbec1Linux (Ubuntu 18.04.5 LTS) / x86_64  OK    OK    ERROR  
tokay1Windows Server 2012 R2 Standard / x64  OK    OK    ERROR    OK  
merida1macOS 10.14.6 Mojave / x86_64  OK    OK    ERROR    OK  
Package 189/248HostnameOS / ArchINSTALLBUILDCHECKBUILD BIN
Rqc 1.24.0  (landing page)
Welliton Souza
Last Commit: bf3c098
Last Changed Date: 2020-10-27 11:00:42 -0400
malbec1Linux (Ubuntu 18.04.5 LTS) / x86_64  OK    OK    OK  UNNEEDED, same version exists in internal repository
tokay1Windows Server 2012 R2 Standard / x64  OK    OK    WARNINGS    OK  UNNEEDED, same version exists in internal repository
merida1macOS 10.14.6 Mojave / x86_64  OK    OK    OK    OK  UNNEEDED, same version exists in internal repository
Package 190/248HostnameOS / ArchINSTALLBUILDCHECKBUILD BIN
rRDP 1.24.0  (landing page)
Michael Hahsler
Last Commit: aeefb99
Last Changed Date: 2020-10-27 10:59:13 -0400
malbec1Linux (Ubuntu 18.04.5 LTS) / x86_64  OK    OK    OK  UNNEEDED, same version exists in internal repository
tokay1Windows Server 2012 R2 Standard / x64  OK    OK    OK    OK  UNNEEDED, same version exists in internal repository
merida1macOS 10.14.6 Mojave / x86_64  OK    OK    OK    OK  UNNEEDED, same version exists in internal repository
Package 191/248HostnameOS / ArchINSTALLBUILDCHECKBUILD BIN
Rsamtools 2.6.0  (landing page)
Bioconductor Package Maintainer
Last Commit: f2aea06
Last Changed Date: 2020-10-27 10:37:52 -0400
malbec1Linux (Ubuntu 18.04.5 LTS) / x86_64  OK    OK    WARNINGS  UNNEEDED, same version exists in internal repository
tokay1Windows Server 2012 R2 Standard / x64  OK    OK    WARNINGS    OK  UNNEEDED, same version exists in internal repository
merida1macOS 10.14.6 Mojave / x86_64  OK    OK    WARNINGS    OK  UNNEEDED, same version exists in internal repository
Package 192/248HostnameOS / ArchINSTALLBUILDCHECKBUILD BIN
RSVSim 1.30.0  (landing page)
Christoph Bartenhagen
Last Commit: cfe4d5f
Last Changed Date: 2020-10-27 10:48:38 -0400
malbec1Linux (Ubuntu 18.04.5 LTS) / x86_64  OK    OK    OK  UNNEEDED, same version exists in internal repository
tokay1Windows Server 2012 R2 Standard / x64  OK    OK    OK    OK  UNNEEDED, same version exists in internal repository
merida1macOS 10.14.6 Mojave / x86_64  OK    OK    OK    OK  UNNEEDED, same version exists in internal repository
Package 193/248HostnameOS / ArchINSTALLBUILDCHECKBUILD BIN
rtracklayer 1.50.0  (landing page)
Michael Lawrence
Last Commit: d2e61f7
Last Changed Date: 2020-10-27 10:33:14 -0400
malbec1Linux (Ubuntu 18.04.5 LTS) / x86_64  OK    OK    WARNINGS  UNNEEDED, same version exists in internal repository
tokay1Windows Server 2012 R2 Standard / x64  OK    OK    ERROR    OK  
merida1macOS 10.14.6 Mojave / x86_64  OK    OK    WARNINGS    OK  UNNEEDED, same version exists in internal repository
Package 194/248HostnameOS / ArchINSTALLBUILDCHECKBUILD BIN
sangeranalyseR 1.0.0  (landing page)
Kuan-Hao Chao
Last Commit: d1a14ae
Last Changed Date: 2020-10-27 11:57:35 -0400
malbec1Linux (Ubuntu 18.04.5 LTS) / x86_64  OK    OK    WARNINGS  UNNEEDED, same version exists in internal repository
tokay1Windows Server 2012 R2 Standard / x64  OK    OK    WARNINGS    OK  UNNEEDED, same version exists in internal repository
merida1macOS 10.14.6 Mojave / x86_64  OK    OK    WARNINGS    OK  UNNEEDED, same version exists in internal repository
Package 195/248HostnameOS / ArchINSTALLBUILDCHECKBUILD BIN
sangerseqR 1.26.0  (landing page)
Jonathon Hill
Last Commit: 58e603d
Last Changed Date: 2020-10-27 10:54:51 -0400
malbec1Linux (Ubuntu 18.04.5 LTS) / x86_64  OK    OK    OK  UNNEEDED, same version exists in internal repository
tokay1Windows Server 2012 R2 Standard / x64  OK    OK    WARNINGS    OK  UNNEEDED, same version exists in internal repository
merida1macOS 10.14.6 Mojave / x86_64  OK    OK    OK    OK  UNNEEDED, same version exists in internal repository
Package 196/248HostnameOS / ArchINSTALLBUILDCHECKBUILD BIN
sarks 1.2.0  (landing page)
Dennis Wylie
Last Commit: 6ee5a80
Last Changed Date: 2020-10-27 11:54:12 -0400
malbec1Linux (Ubuntu 18.04.5 LTS) / x86_64  OK    OK    OK  UNNEEDED, same version exists in internal repository
tokay1Windows Server 2012 R2 Standard / x64  OK    OK    OK    OK  UNNEEDED, same version exists in internal repository
merida1macOS 10.14.6 Mojave / x86_64  OK    OK    OK    OK  UNNEEDED, same version exists in internal repository
Package 197/248HostnameOS / ArchINSTALLBUILDCHECKBUILD BIN
SCAN.UPC 2.32.0  (landing page)
Stephen R. Piccolo
Last Commit: ecb2414
Last Changed Date: 2020-10-27 10:47:27 -0400
malbec1Linux (Ubuntu 18.04.5 LTS) / x86_64  OK    OK    OK  UNNEEDED, same version exists in internal repository
tokay1Windows Server 2012 R2 Standard / x64  OK    OK    OK    OK  UNNEEDED, same version exists in internal repository
merida1macOS 10.14.6 Mojave / x86_64  OK    OK    OK    OK  UNNEEDED, same version exists in internal repository
Package 198/248HostnameOS / ArchINSTALLBUILDCHECKBUILD BIN
scmeth 1.10.0  (landing page)
Divy Kangeyan
Last Commit: cb60498
Last Changed Date: 2020-10-27 11:32:21 -0400
malbec1Linux (Ubuntu 18.04.5 LTS) / x86_64  OK    OK    OK  UNNEEDED, same version exists in internal repository
tokay1Windows Server 2012 R2 Standard / x64  OK    OK    OK    OK  UNNEEDED, same version exists in internal repository
merida1macOS 10.14.6 Mojave / x86_64  OK    OK    OK    OK  UNNEEDED, same version exists in internal repository
Package 199/248HostnameOS / ArchINSTALLBUILDCHECKBUILD BIN
SCOPE 1.2.0  (landing page)
Rujin Wang
Last Commit: b63bbf0
Last Changed Date: 2020-10-27 11:53:33 -0400
malbec1Linux (Ubuntu 18.04.5 LTS) / x86_64  OK    OK    WARNINGS  UNNEEDED, same version exists in internal repository
tokay1Windows Server 2012 R2 Standard / x64  OK    OK    WARNINGS    OK  UNNEEDED, same version exists in internal repository
merida1macOS 10.14.6 Mojave / x86_64  OK    OK    WARNINGS    OK  UNNEEDED, same version exists in internal repository
Package 200/248HostnameOS / ArchINSTALLBUILDCHECKBUILD BIN
scoreInvHap 1.12.1  (landing page)
Carlos Ruiz
Last Commit: a604ad1
Last Changed Date: 2021-02-04 14:00:13 -0400
malbec1Linux (Ubuntu 18.04.5 LTS) / x86_64  OK    OK    OK  UNNEEDED, same version exists in internal repository
tokay1Windows Server 2012 R2 Standard / x64  OK    OK    OK    OK  UNNEEDED, same version exists in internal repository
merida1macOS 10.14.6 Mojave / x86_64  OK    OK    OK    OK  UNNEEDED, same version exists in internal repository
Package 201/248HostnameOS / ArchINSTALLBUILDCHECKBUILD BIN
scruff 1.8.3  (landing page)
Zhe Wang
Last Commit: 371fab0
Last Changed Date: 2021-02-11 12:03:52 -0400
malbec1Linux (Ubuntu 18.04.5 LTS) / x86_64  OK    OK    OK  UNNEEDED, same version exists in internal repository
tokay1Windows Server 2012 R2 Standard / x64  OK    OK    OK    OK  UNNEEDED, same version exists in internal repository
merida1macOS 10.14.6 Mojave / x86_64  OK    OK    OK    OK  UNNEEDED, same version exists in internal repository
Package 202/248HostnameOS / ArchINSTALLBUILDCHECKBUILD BIN
scsR 1.26.0  (landing page)
Andrea Franceschini , Roger Meier , Christian von Mering
Last Commit: 02b3783
Last Changed Date: 2020-10-27 10:55:01 -0400
malbec1Linux (Ubuntu 18.04.5 LTS) / x86_64  OK    OK    ERROR  
tokay1Windows Server 2012 R2 Standard / x64  OK    OK    ERROR    OK  
merida1macOS 10.14.6 Mojave / x86_64  OK    OK    ERROR    OK  
Package 203/248HostnameOS / ArchINSTALLBUILDCHECKBUILD BIN
SELEX 1.22.0  (landing page)
Harmen J. Bussemaker
Last Commit: a7de1ab
Last Changed Date: 2020-10-27 11:02:42 -0400
malbec1Linux (Ubuntu 18.04.5 LTS) / x86_64  OK    OK    OK  UNNEEDED, same version exists in internal repository
tokay1Windows Server 2012 R2 Standard / x64  OK    OK    OK    OK  UNNEEDED, same version exists in internal repository
merida1macOS 10.14.6 Mojave / x86_64  OK    OK    OK    OK  UNNEEDED, same version exists in internal repository
Package 204/248HostnameOS / ArchINSTALLBUILDCHECKBUILD BIN
SeqArray 1.30.0  (landing page)
Xiuwen Zheng
Last Commit: 6a9e919
Last Changed Date: 2020-10-27 10:49:50 -0400
malbec1Linux (Ubuntu 18.04.5 LTS) / x86_64  OK    OK    OK  UNNEEDED, same version exists in internal repository
tokay1Windows Server 2012 R2 Standard / x64  OK    OK    OK    OK  UNNEEDED, same version exists in internal repository
merida1macOS 10.14.6 Mojave / x86_64  OK    OK    OK    OK  UNNEEDED, same version exists in internal repository
Package 205/248HostnameOS / ArchINSTALLBUILDCHECKBUILD BIN
seqbias 1.38.0  (landing page)
Daniel Jones
Last Commit: b5490ca
Last Changed Date: 2020-10-27 10:39:54 -0400
malbec1Linux (Ubuntu 18.04.5 LTS) / x86_64  OK    OK    WARNINGS  UNNEEDED, same version exists in internal repository
tokay1Windows Server 2012 R2 Standard / x64  OK    OK    WARNINGS    ERROR  
merida1macOS 10.14.6 Mojave / x86_64  OK    OK    WARNINGS    OK  UNNEEDED, same version exists in internal repository
Package 206/248HostnameOS / ArchINSTALLBUILDCHECKBUILD BIN
seqcombo 1.12.0  (landing page)
Guangchuang Yu
Last Commit: 169a03f
Last Changed Date: 2020-10-27 11:27:02 -0400
malbec1Linux (Ubuntu 18.04.5 LTS) / x86_64  OK    OK    OK  UNNEEDED, same version exists in internal repository
tokay1Windows Server 2012 R2 Standard / x64  OK    OK    OK    OK