Back to Multiple platform build/check report for BioC 3.12
A[B]CDEFGHIJKLMNOPQRSTUVWXYZ

BUILD report for BiocPkgTools on tokay1

This page was generated on 2021-05-05 12:11:23 -0400 (Wed, 05 May 2021).

To the developers/maintainers of the BiocPkgTools package:
Please make sure to use the following settings in order to reproduce any error or warning you see on this page.
Package 167/1974HostnameOS / ArchINSTALLBUILDCHECKBUILD BIN
BiocPkgTools 1.8.2  (landing page)
Sean Davis
Snapshot Date: 2021-05-04 14:50:13 -0400 (Tue, 04 May 2021)
URL: https://git.bioconductor.org/packages/BiocPkgTools
Branch: RELEASE_3_12
Last Commit: f427c50
Last Changed Date: 2021-04-13 15:30:49 -0400 (Tue, 13 Apr 2021)
malbec1Linux (Ubuntu 18.04.5 LTS) / x86_64  OK    OK    OK  UNNEEDED, same version exists in internal repository
tokay1Windows Server 2012 R2 Standard / x64  OK    OK    OK    OK  UNNEEDED, same version exists in internal repository
merida1macOS 10.14.6 Mojave / x86_64  OK    OK    OK    OK  UNNEEDED, same version exists in internal repository

Summary

Package: BiocPkgTools
Version: 1.8.2
Command: chmod a+r BiocPkgTools -R && C:\Users\biocbuild\bbs-3.12-bioc\R\bin\R.exe CMD build --keep-empty-dirs --no-resave-data BiocPkgTools
StartedAt: 2021-05-04 19:55:07 -0400 (Tue, 04 May 2021)
EndedAt: 2021-05-04 19:57:06 -0400 (Tue, 04 May 2021)
EllapsedTime: 118.8 seconds
RetCode: 0
Status:   OK   
PackageFile: BiocPkgTools_1.8.2.tar.gz
PackageFileSize: 1.346 MiB

Command output

##############################################################################
##############################################################################
###
### Running command:
###
###   chmod a+r BiocPkgTools -R && C:\Users\biocbuild\bbs-3.12-bioc\R\bin\R.exe CMD build --keep-empty-dirs --no-resave-data BiocPkgTools
###
##############################################################################
##############################################################################


* checking for file 'BiocPkgTools/DESCRIPTION' ... OK
* preparing 'BiocPkgTools':
* checking DESCRIPTION meta-information ... OK
* installing the package to build vignettes
* creating vignettes ... OK
* checking for LF line-endings in source and make files and shell scripts
* checking for empty or unneeded directories
* building 'BiocPkgTools_1.8.2.tar.gz'