Back to Multiple platform build/check report for BioC 3.12
A[B]CDEFGHIJKLMNOPQRSTUVWXYZ

Multiple platform build/check report for BioC 3.12

All results for package BiocParallel

This page was generated on 2021-05-06 12:25:33 -0400 (Thu, 06 May 2021).

Package 166/1974HostnameOS / ArchINSTALLBUILDCHECKBUILD BIN
BiocParallel 1.24.1  (landing page)
Bioconductor Package Maintainer
Snapshot Date: 2021-05-05 14:51:38 -0400 (Wed, 05 May 2021)
URL: https://git.bioconductor.org/packages/BiocParallel
Branch: RELEASE_3_12
Last Commit: f713caa
Last Changed Date: 2020-11-06 02:59:26 -0400 (Fri, 06 Nov 2020)
malbec1Linux (Ubuntu 18.04.5 LTS) / x86_64  OK    OK    OK  UNNEEDED, same version exists in internal repository
tokay1Windows Server 2012 R2 Standard / x64  OK    OK    OK    OK  UNNEEDED, same version exists in internal repository
merida1macOS 10.14.6 Mojave / x86_64  OK    OK    OK    OK  UNNEEDED, same version exists in internal repository

Results for Bioconductor software packages that depend directly on package BiocParallel

QUICK STATSOS / ArchINSTALLBUILDCHECKBUILD BIN
malbec1Linux (Ubuntu 18.04.5 LTS) / x86_64
01237
07231
0434193
tokay1Windows Server 2012 R2 Standard / x64
01231
09223
6454159
00223
merida1macOS 10.14.6 Mojave / x86_64
01236
06231
0533193
00231
Package 1/238HostnameOS / ArchINSTALLBUILDCHECKBUILD BIN
abseqR 1.8.0  (landing page)
JiaHong Fong
Last Commit: 0a4616b
Last Changed Date: 2020-10-27 11:40:24 -0400
malbec1Linux (Ubuntu 18.04.5 LTS) / x86_64  OK    OK    OK  UNNEEDED, same version exists in internal repository
tokay1Windows Server 2012 R2 Standard / x64  OK    OK    OK    OK  UNNEEDED, same version exists in internal repository
merida1macOS 10.14.6 Mojave / x86_64  OK    OK    OK    OK  UNNEEDED, same version exists in internal repository
Package 2/238HostnameOS / ArchINSTALLBUILDCHECKBUILD BIN
ADImpute 1.0.0  (landing page)
Ana Carolina Leote
Last Commit: 5676910
Last Changed Date: 2020-10-27 12:03:35 -0400
malbec1Linux (Ubuntu 18.04.5 LTS) / x86_64  OK    OK    WARNINGS  UNNEEDED, same version exists in internal repository
tokay1Windows Server 2012 R2 Standard / x64  OK    OK    WARNINGS    OK  UNNEEDED, same version exists in internal repository
merida1macOS 10.14.6 Mojave / x86_64  OK    OK    WARNINGS    OK  UNNEEDED, same version exists in internal repository
Package 3/238HostnameOS / ArchINSTALLBUILDCHECKBUILD BIN
AffiXcan 1.8.0  (landing page)
Alessandro Lussana
Last Commit: 00f1fbc
Last Changed Date: 2020-10-27 11:39:12 -0400
malbec1Linux (Ubuntu 18.04.5 LTS) / x86_64  OK    OK    OK  UNNEEDED, same version exists in internal repository
tokay1Windows Server 2012 R2 Standard / x64  OK    OK    OK    OK  UNNEEDED, same version exists in internal repository
merida1macOS 10.14.6 Mojave / x86_64  OK    OK    OK    OK  UNNEEDED, same version exists in internal repository
Package 4/238HostnameOS / ArchINSTALLBUILDCHECKBUILD BIN
ALDEx2 1.22.0  (landing page)
Greg Gloor
Last Commit: ac7f0ab
Last Changed Date: 2020-10-27 10:59:20 -0400
malbec1Linux (Ubuntu 18.04.5 LTS) / x86_64  OK    OK    OK  UNNEEDED, same version exists in internal repository
tokay1Windows Server 2012 R2 Standard / x64  OK    OK    OK    OK  UNNEEDED, same version exists in internal repository
merida1macOS 10.14.6 Mojave / x86_64  OK    OK    OK    OK  UNNEEDED, same version exists in internal repository
Package 5/238HostnameOS / ArchINSTALLBUILDCHECKBUILD BIN
AlphaBeta 1.4.0  (landing page)
Yadollah Shahryary Dizaji
Last Commit: d67f156
Last Changed Date: 2020-10-27 11:48:09 -0400
malbec1Linux (Ubuntu 18.04.5 LTS) / x86_64  OK    OK    OK  UNNEEDED, same version exists in internal repository
tokay1Windows Server 2012 R2 Standard / x64  OK    OK    OK    OK  UNNEEDED, same version exists in internal repository
merida1macOS 10.14.6 Mojave / x86_64  OK    OK    OK    OK  UNNEEDED, same version exists in internal repository
Package 6/238HostnameOS / ArchINSTALLBUILDCHECKBUILD BIN
ALPS 1.4.0  (landing page)
Venu Thatikonda
Last Commit: efa0189
Last Changed Date: 2020-10-27 11:50:35 -0400
malbec1Linux (Ubuntu 18.04.5 LTS) / x86_64  OK    OK    OK  UNNEEDED, same version exists in internal repository
tokay1Windows Server 2012 R2 Standard / x64  OK    OK    OK    OK  UNNEEDED, same version exists in internal repository
merida1macOS 10.14.6 Mojave / x86_64  OK    OK    OK    OK  UNNEEDED, same version exists in internal repository
Package 7/238HostnameOS / ArchINSTALLBUILDCHECKBUILD BIN
AlpsNMR 3.0.6  (landing page)
Luis Fernandez
Last Commit: 18e74a2
Last Changed Date: 2021-03-31 09:21:04 -0400
malbec1Linux (Ubuntu 18.04.5 LTS) / x86_64  OK    OK    ERROR  
tokay1Windows Server 2012 R2 Standard / x64  OK    OK    ERROR    OK  
merida1macOS 10.14.6 Mojave / x86_64  OK    OK    ERROR    OK  
Package 8/238HostnameOS / ArchINSTALLBUILDCHECKBUILD BIN
amplican 1.12.0  (landing page)
Eivind Valen
Last Commit: f593f59
Last Changed Date: 2020-10-27 11:27:25 -0400
malbec1Linux (Ubuntu 18.04.5 LTS) / x86_64  OK    OK    OK  UNNEEDED, same version exists in internal repository
tokay1Windows Server 2012 R2 Standard / x64  OK    OK    OK    OK  UNNEEDED, same version exists in internal repository
merida1macOS 10.14.6 Mojave / x86_64  OK    OK    OK    OK  UNNEEDED, same version exists in internal repository
Package 9/238HostnameOS / ArchINSTALLBUILDCHECKBUILD BIN
ASICS 2.6.1  (landing page)
Gaëlle Lefort
Last Commit: 2165d0b
Last Changed Date: 2020-10-28 05:58:26 -0400
malbec1Linux (Ubuntu 18.04.5 LTS) / x86_64  OK    OK    OK  UNNEEDED, same version exists in internal repository
tokay1Windows Server 2012 R2 Standard / x64  OK    OK    OK    OK  UNNEEDED, same version exists in internal repository
merida1macOS 10.14.6 Mojave / x86_64  OK    OK    OK    OK  UNNEEDED, same version exists in internal repository
Package 10/238HostnameOS / ArchINSTALLBUILDCHECKBUILD BIN
ASpediaFI 1.4.0  (landing page)
Doyeong Yu
Last Commit: d59c4a0
Last Changed Date: 2020-10-27 11:50:40 -0400
malbec1Linux (Ubuntu 18.04.5 LTS) / x86_64  OK    OK    OK  UNNEEDED, same version exists in internal repository
tokay1Windows Server 2012 R2 Standard / x64  OK    OK    OK    OK  UNNEEDED, same version exists in internal repository
merida1macOS 10.14.6 Mojave / x86_64  OK    OK    OK    OK  UNNEEDED, same version exists in internal repository
Package 11/238HostnameOS / ArchINSTALLBUILDCHECKBUILD BIN
atSNP 1.6.1  (landing page)
Sunyoung Shin
Last Commit: 7864975
Last Changed Date: 2021-04-26 19:17:51 -0400
malbec1Linux (Ubuntu 18.04.5 LTS) / x86_64  OK    OK    OK  UNNEEDED, same version exists in internal repository
tokay1Windows Server 2012 R2 Standard / x64  OK    OK    OK    OK  UNNEEDED, same version exists in internal repository
merida1macOS 10.14.6 Mojave / x86_64  OK    OK    OK    OK  UNNEEDED, same version exists in internal repository
Package 12/238HostnameOS / ArchINSTALLBUILDCHECKBUILD BIN
bacon 1.18.0  (landing page)
Maarten van Iterson
Last Commit: 8eb9db7
Last Changed Date: 2020-10-27 11:12:21 -0400
malbec1Linux (Ubuntu 18.04.5 LTS) / x86_64  OK    OK    OK  UNNEEDED, same version exists in internal repository
tokay1Windows Server 2012 R2 Standard / x64  OK    OK    OK    OK  UNNEEDED, same version exists in internal repository
merida1macOS 10.14.6 Mojave / x86_64  OK    OK    OK    OK  UNNEEDED, same version exists in internal repository
Package 13/238HostnameOS / ArchINSTALLBUILDCHECKBUILD BIN
bambu 1.0.3  (landing page)
Ying Chen
Last Commit: 7140dd6
Last Changed Date: 2021-04-26 22:57:23 -0400
malbec1Linux (Ubuntu 18.04.5 LTS) / x86_64  OK    OK    OK  UNNEEDED, same version exists in internal repository
tokay1Windows Server 2012 R2 Standard / x64  OK    OK    OK    OK  UNNEEDED, same version exists in internal repository
merida1macOS 10.14.6 Mojave / x86_64  OK    OK    OK    OK  UNNEEDED, same version exists in internal repository
Package 14/238HostnameOS / ArchINSTALLBUILDCHECKBUILD BIN
BANDITS 1.6.0  (landing page)
Simone Tiberi
Last Commit: 5446a54
Last Changed Date: 2020-10-27 11:44:55 -0400
malbec1Linux (Ubuntu 18.04.5 LTS) / x86_64  OK    OK    OK  UNNEEDED, same version exists in internal repository
tokay1Windows Server 2012 R2 Standard / x64  OK    OK    OK    OK  UNNEEDED, same version exists in internal repository
merida1macOS 10.14.6 Mojave / x86_64  OK    OK    OK    OK  UNNEEDED, same version exists in internal repository
Package 15/238HostnameOS / ArchINSTALLBUILDCHECKBUILD BIN
BASiCS 2.2.4  (landing page)
Catalina Vallejos
Last Commit: 33c1ef0
Last Changed Date: 2021-04-14 18:00:13 -0400
malbec1Linux (Ubuntu 18.04.5 LTS) / x86_64  OK    OK    OK  UNNEEDED, same version exists in internal repository
tokay1Windows Server 2012 R2 Standard / x64  OK    OK    OK    OK  UNNEEDED, same version exists in internal repository
merida1macOS 10.14.6 Mojave / x86_64  OK    OK    OK    OK  UNNEEDED, same version exists in internal repository
Package 16/238HostnameOS / ArchINSTALLBUILDCHECKBUILD BIN
batchelor 1.6.3  (landing page)
Aaron Lun
Last Commit: b108a53
Last Changed Date: 2021-04-16 03:26:43 -0400
malbec1Linux (Ubuntu 18.04.5 LTS) / x86_64  OK    OK    OK  UNNEEDED, same version exists in internal repository
tokay1Windows Server 2012 R2 Standard / x64  OK    OK    OK    OK  UNNEEDED, same version exists in internal repository
merida1macOS 10.14.6 Mojave / x86_64  OK    OK    OK    OK  UNNEEDED, same version exists in internal repository
Package 17/238HostnameOS / ArchINSTALLBUILDCHECKBUILD BIN
bayNorm 1.8.0  (landing page)
Wenhao Tang
Last Commit: 430ae33
Last Changed Date: 2020-10-27 11:39:35 -0400
malbec1Linux (Ubuntu 18.04.5 LTS) / x86_64  OK    OK    OK  UNNEEDED, same version exists in internal repository
tokay1Windows Server 2012 R2 Standard / x64  OK    OK    OK    OK  UNNEEDED, same version exists in internal repository
merida1macOS 10.14.6 Mojave / x86_64  OK    OK    OK    OK  UNNEEDED, same version exists in internal repository
Package 18/238HostnameOS / ArchINSTALLBUILDCHECKBUILD BIN
BEclear 2.6.0  (landing page)
David Rasp
Last Commit: c0d806a
Last Changed Date: 2020-10-27 11:05:28 -0400
malbec1Linux (Ubuntu 18.04.5 LTS) / x86_64  OK    OK    WARNINGS  UNNEEDED, same version exists in internal repository
tokay1Windows Server 2012 R2 Standard / x64  OK    OK    WARNINGS    OK  UNNEEDED, same version exists in internal repository
merida1macOS 10.14.6 Mojave / x86_64  OK    OK    WARNINGS    OK  UNNEEDED, same version exists in internal repository
Package 19/238HostnameOS / ArchINSTALLBUILDCHECKBUILD BIN
BiocNeighbors 1.8.2  (landing page)
Aaron Lun
Last Commit: 889bc91
Last Changed Date: 2020-12-06 19:54:29 -0400
malbec1Linux (Ubuntu 18.04.5 LTS) / x86_64  OK    OK    OK  UNNEEDED, same version exists in internal repository
tokay1Windows Server 2012 R2 Standard / x64  OK    OK    OK    OK  UNNEEDED, same version exists in internal repository
merida1macOS 10.14.6 Mojave / x86_64  OK    OK    OK    OK  UNNEEDED, same version exists in internal repository
Package 20/238HostnameOS / ArchINSTALLBUILDCHECKBUILD BIN
BioCor 1.14.0  (landing page)
Lluís Revilla Sancho
Last Commit: a64a874
Last Changed Date: 2020-10-27 11:22:31 -0400
malbec1Linux (Ubuntu 18.04.5 LTS) / x86_64  OK    OK    OK  UNNEEDED, same version exists in internal repository
tokay1Windows Server 2012 R2 Standard / x64  OK    OK    OK    OK  UNNEEDED, same version exists in internal repository
merida1macOS 10.14.6 Mojave / x86_64  OK    OK    OK    OK  UNNEEDED, same version exists in internal repository
Package 21/238HostnameOS / ArchINSTALLBUILDCHECKBUILD BIN
BiocSingular 1.6.0  (landing page)
Aaron Lun
Last Commit: 11baf10
Last Changed Date: 2020-10-27 11:42:55 -0400
malbec1Linux (Ubuntu 18.04.5 LTS) / x86_64  OK    OK    OK  UNNEEDED, same version exists in internal repository
tokay1Windows Server 2012 R2 Standard / x64  OK    OK    OK    OK  UNNEEDED, same version exists in internal repository
merida1macOS 10.14.6 Mojave / x86_64  OK    OK    OK    OK  UNNEEDED, same version exists in internal repository
Package 22/238HostnameOS / ArchINSTALLBUILDCHECKBUILD BIN
BioMM 1.6.0  (landing page)
Junfang Chen
Last Commit: bb432b4
Last Changed Date: 2020-10-27 11:42:47 -0400
malbec1Linux (Ubuntu 18.04.5 LTS) / x86_64  OK    OK    OK  UNNEEDED, same version exists in internal repository
tokay1Windows Server 2012 R2 Standard / x64  OK    OK    OK    OK  UNNEEDED, same version exists in internal repository
merida1macOS 10.14.6 Mojave / x86_64  OK    OK    OK    OK  UNNEEDED, same version exists in internal repository
Package 23/238HostnameOS / ArchINSTALLBUILDCHECKBUILD BIN
BioNetStat 1.10.5  (landing page)
Vinicius Jardim
Last Commit: 14777c5
Last Changed Date: 2021-04-28 21:01:44 -0400
malbec1Linux (Ubuntu 18.04.5 LTS) / x86_64  OK    OK    OK  UNNEEDED, same version exists in internal repository
tokay1Windows Server 2012 R2 Standard / x64  OK    OK    OK    OK  UNNEEDED, same version exists in internal repository
merida1macOS 10.14.6 Mojave / x86_64  OK    OK    OK    OK  UNNEEDED, same version exists in internal repository
Package 24/238HostnameOS / ArchINSTALLBUILDCHECKBUILD BIN
biotmle 1.14.0  (landing page)
Nima Hejazi
Last Commit: a54105e
Last Changed Date: 2021-02-08 21:10:16 -0400
malbec1Linux (Ubuntu 18.04.5 LTS) / x86_64  OK    OK    WARNINGS  UNNEEDED, same version exists in internal repository
tokay1Windows Server 2012 R2 Standard / x64  OK    OK    WARNINGS    OK  UNNEEDED, same version exists in internal repository
merida1macOS 10.14.6 Mojave / x86_64  OK    OK    WARNINGS    OK  UNNEEDED, same version exists in internal repository
Package 25/238HostnameOS / ArchINSTALLBUILDCHECKBUILD BIN
biscuiteer 1.4.0  (landing page)
"Jacob Morrison"
Last Commit: 7142015
Last Changed Date: 2020-10-27 11:50:51 -0400
malbec1Linux (Ubuntu 18.04.5 LTS) / x86_64  OK    OK    WARNINGS  UNNEEDED, same version exists in internal repository
tokay1Windows Server 2012 R2 Standard / x64  OK    OK    WARNINGS    OK  UNNEEDED, same version exists in internal repository
merida1macOS 10.14.6 Mojave / x86_64  OK    OK    WARNINGS    OK  UNNEEDED, same version exists in internal repository
Package 26/238HostnameOS / ArchINSTALLBUILDCHECKBUILD BIN
bluster 1.0.0  (landing page)
Aaron Lun
Last Commit: 3727538
Last Changed Date: 2020-10-27 11:58:59 -0400
malbec1Linux (Ubuntu 18.04.5 LTS) / x86_64  OK    OK    OK  UNNEEDED, same version exists in internal repository
tokay1Windows Server 2012 R2 Standard / x64  OK    OK    OK    OK  UNNEEDED, same version exists in internal repository
merida1macOS 10.14.6 Mojave / x86_64  OK    OK    OK    OK  UNNEEDED, same version exists in internal repository
Package 27/238HostnameOS / ArchINSTALLBUILDCHECKBUILD BIN
brendaDb 1.4.0  (landing page)
Yi Zhou
Last Commit: cbc88bb
Last Changed Date: 2020-10-27 11:48:32 -0400
malbec1Linux (Ubuntu 18.04.5 LTS) / x86_64  OK    OK    OK  UNNEEDED, same version exists in internal repository
tokay1Windows Server 2012 R2 Standard / x64  OK    OK    OK    OK  UNNEEDED, same version exists in internal repository
merida1macOS 10.14.6 Mojave / x86_64  OK    OK    OK    OK  UNNEEDED, same version exists in internal repository
Package 28/238HostnameOS / ArchINSTALLBUILDCHECKBUILD BIN
bsseq 1.26.0  (landing page)
Kasper Daniel Hansen
Last Commit: fae3229
Last Changed Date: 2020-10-27 10:46:25 -0400
malbec1Linux (Ubuntu 18.04.5 LTS) / x86_64  OK    OK    OK  UNNEEDED, same version exists in internal repository
tokay1Windows Server 2012 R2 Standard / x64  OK    OK    OK    OK  UNNEEDED, same version exists in internal repository
merida1macOS 10.14.6 Mojave / x86_64  OK    OK    OK    OK  UNNEEDED, same version exists in internal repository
Package 29/238HostnameOS / ArchINSTALLBUILDCHECKBUILD BIN
CAGEfightR 1.10.0  (landing page)
Malte Thodberg
Last Commit: 2ed5872
Last Changed Date: 2020-10-27 11:35:28 -0400
malbec1Linux (Ubuntu 18.04.5 LTS) / x86_64  OK    OK    OK  UNNEEDED, same version exists in internal repository
tokay1Windows Server 2012 R2 Standard / x64  OK    OK    OK    OK  UNNEEDED, same version exists in internal repository
merida1macOS 10.14.6 Mojave / x86_64  OK    OK    OK    OK  UNNEEDED, same version exists in internal repository
Package 30/238HostnameOS / ArchINSTALLBUILDCHECKBUILD BIN
CAGEr 1.32.1  (landing page)
Vanja Haberle , Charles Plessy , Damir Baranasic , Sarvesh Nikumbh
Last Commit: 034e4bf
Last Changed Date: 2021-01-15 01:28:35 -0400
malbec1Linux (Ubuntu 18.04.5 LTS) / x86_64  OK    OK    WARNINGS  UNNEEDED, same version exists in internal repository
tokay1Windows Server 2012 R2 Standard / x64  OK    OK    WARNINGS    OK  UNNEEDED, same version exists in internal repository
merida1macOS 10.14.6 Mojave / x86_64  OK    OK    WARNINGS    OK  UNNEEDED, same version exists in internal repository
Package 31/238HostnameOS / ArchINSTALLBUILDCHECKBUILD BIN
Cardinal 2.8.0  (landing page)
Kylie A. Bemis
Last Commit: 2df8fad
Last Changed Date: 2020-10-27 11:02:20 -0400
malbec1Linux (Ubuntu 18.04.5 LTS) / x86_64  OK    OK    OK  UNNEEDED, same version exists in internal repository
tokay1Windows Server 2012 R2 Standard / x64  OK    OK    OK    OK  UNNEEDED, same version exists in internal repository
merida1macOS 10.14.6 Mojave / x86_64  OK    OK    OK    OK  UNNEEDED, same version exists in internal repository
Package 32/238HostnameOS / ArchINSTALLBUILDCHECKBUILD BIN
cellbaseR 1.14.0  (landing page)
Mohammed OE Abdallah
Last Commit: 6ecfb00
Last Changed Date: 2020-10-27 11:23:55 -0400
malbec1Linux (Ubuntu 18.04.5 LTS) / x86_64  OK    OK    OK  UNNEEDED, same version exists in internal repository
tokay1Windows Server 2012 R2 Standard / x64  OK    OK    WARNINGS    OK  UNNEEDED, same version exists in internal repository
merida1macOS 10.14.6 Mojave / x86_64  OK    OK    OK    OK  UNNEEDED, same version exists in internal repository
Package 33/238HostnameOS / ArchINSTALLBUILDCHECKBUILD BIN
CellBench 1.6.0  (landing page)
Shian Su
Last Commit: b830843
Last Changed Date: 2020-10-27 11:43:21 -0400
malbec1Linux (Ubuntu 18.04.5 LTS) / x86_64  OK    OK    OK  UNNEEDED, same version exists in internal repository
tokay1Windows Server 2012 R2 Standard / x64  OK    OK    OK    OK  UNNEEDED, same version exists in internal repository
merida1macOS 10.14.6 Mojave / x86_64  OK    OK    OK    OK  UNNEEDED, same version exists in internal repository
Package 34/238HostnameOS / ArchINSTALLBUILDCHECKBUILD BIN
CellMixS 1.6.1  (landing page)
Almut Lütge
Last Commit: 7f356d8
Last Changed Date: 2020-12-17 04:21:27 -0400
malbec1Linux (Ubuntu 18.04.5 LTS) / x86_64  OK    OK    OK  UNNEEDED, same version exists in internal repository
tokay1Windows Server 2012 R2 Standard / x64  OK    OK    OK    OK  UNNEEDED, same version exists in internal repository
merida1macOS 10.14.6 Mojave / x86_64  OK    OK    OK    OK  UNNEEDED, same version exists in internal repository
Package 35/238HostnameOS / ArchINSTALLBUILDCHECKBUILD BIN
ChIPexoQual 1.14.0  (landing page)
Rene Welch
Last Commit: c593ac2
Last Changed Date: 2020-10-27 11:20:56 -0400
malbec1Linux (Ubuntu 18.04.5 LTS) / x86_64  OK    OK    OK  UNNEEDED, same version exists in internal repository
tokay1Windows Server 2012 R2 Standard / x64  OK    OK    OK    OK  UNNEEDED, same version exists in internal repository
merida1macOS 10.14.6 Mojave / x86_64  OK    OK    OK    OK  UNNEEDED, same version exists in internal repository
Package 36/238HostnameOS / ArchINSTALLBUILDCHECKBUILD BIN
ChIPQC 1.26.0  (landing page)
Tom Carroll , Rory Stark
Last Commit: 967dee8
Last Changed Date: 2020-10-27 10:55:48 -0400
malbec1Linux (Ubuntu 18.04.5 LTS) / x86_64  OK    OK    WARNINGS  UNNEEDED, same version exists in internal repository
tokay1Windows Server 2012 R2 Standard / x64  OK    OK    WARNINGS    OK  UNNEEDED, same version exists in internal repository
merida1macOS 10.14.6 Mojave / x86_64  OK    OK    WARNINGS    OK  UNNEEDED, same version exists in internal repository
Package 37/238HostnameOS / ArchINSTALLBUILDCHECKBUILD BIN
ChromSCape 1.0.0  (landing page)
Pacome Prompsy
Last Commit: c84df0d
Last Changed Date: 2020-10-27 12:02:02 -0400
malbec1Linux (Ubuntu 18.04.5 LTS) / x86_64  OK    OK    OK  UNNEEDED, same version exists in internal repository
tokay1Windows Server 2012 R2 Standard / x64  OK    OK    OK    OK  UNNEEDED, same version exists in internal repository
merida1macOS 10.14.6 Mojave / x86_64  OK    OK    OK    OK  UNNEEDED, same version exists in internal repository
Package 38/238HostnameOS / ArchINSTALLBUILDCHECKBUILD BIN
chromswitch 1.12.0  (landing page)
Selin Jessa
Last Commit: 385a597
Last Changed Date: 2020-10-27 11:29:40 -0400
malbec1Linux (Ubuntu 18.04.5 LTS) / x86_64  OK    OK    OK  UNNEEDED, same version exists in internal repository
tokay1Windows Server 2012 R2 Standard / x64  OK    OK    OK    OK  UNNEEDED, same version exists in internal repository
merida1macOS 10.14.6 Mojave / x86_64  OK    OK    OK    OK  UNNEEDED, same version exists in internal repository
Package 39/238HostnameOS / ArchINSTALLBUILDCHECKBUILD BIN
chromVAR 1.12.0  (landing page)
Alicia Schep
Last Commit: ea35241
Last Changed Date: 2020-10-27 11:28:24 -0400
malbec1Linux (Ubuntu 18.04.5 LTS) / x86_64  OK    OK    OK  UNNEEDED, same version exists in internal repository
tokay1Windows Server 2012 R2 Standard / x64  OK    OK    WARNINGS    OK  UNNEEDED, same version exists in internal repository
merida1macOS 10.14.6 Mojave / x86_64  OK    OK    OK    OK  UNNEEDED, same version exists in internal repository
Package 40/238HostnameOS / ArchINSTALLBUILDCHECKBUILD BIN
ClassifyR 2.10.0  (landing page)
Dario Strbenac
Last Commit: 37bf4a2
Last Changed Date: 2020-10-27 10:58:03 -0400
malbec1Linux (Ubuntu 18.04.5 LTS) / x86_64  OK    OK    OK  UNNEEDED, same version exists in internal repository
tokay1Windows Server 2012 R2 Standard / x64  OK    OK    WARNINGS    OK  UNNEEDED, same version exists in internal repository
merida1macOS 10.14.6 Mojave / x86_64  OK    OK    OK    OK  UNNEEDED, same version exists in internal repository
Package 41/238HostnameOS / ArchINSTALLBUILDCHECKBUILD BIN
clusterSeq 1.14.0  (landing page)
Thomas J. Hardcastle
Last Commit: f1e1602
Last Changed Date: 2020-10-27 11:20:11 -0400
malbec1Linux (Ubuntu 18.04.5 LTS) / x86_64  OK    OK    OK  UNNEEDED, same version exists in internal repository
tokay1Windows Server 2012 R2 Standard / x64  OK    OK    WARNINGS    OK  UNNEEDED, same version exists in internal repository
merida1macOS 10.14.6 Mojave / x86_64  OK    OK    OK    OK  UNNEEDED, same version exists in internal repository
Package 42/238HostnameOS / ArchINSTALLBUILDCHECKBUILD BIN
CNVRanger 1.6.1  (landing page)
Ludwig Geistlinger
Last Commit: a995fa8
Last Changed Date: 2020-12-09 15:36:10 -0400
malbec1Linux (Ubuntu 18.04.5 LTS) / x86_64  OK    OK    OK  UNNEEDED, same version exists in internal repository
tokay1Windows Server 2012 R2 Standard / x64  OK    OK    OK    OK  UNNEEDED, same version exists in internal repository
merida1macOS 10.14.6 Mojave / x86_64  OK    OK    OK    OK  UNNEEDED, same version exists in internal repository
Package 43/238HostnameOS / ArchINSTALLBUILDCHECKBUILD BIN
CoGAPS 3.10.0  (landing page)
Elana J. Fertig
Last Commit: 395fcd3
Last Changed Date: 2020-10-27 10:38:41 -0400
malbec1Linux (Ubuntu 18.04.5 LTS) / x86_64  OK    OK    OK  UNNEEDED, same version exists in internal repository
tokay1Windows Server 2012 R2 Standard / x64  OK    OK    OK    OK  UNNEEDED, same version exists in internal repository
merida1macOS 10.14.6 Mojave / x86_64  OK    OK    OK    OK  UNNEEDED, same version exists in internal repository
Package 44/238HostnameOS / ArchINSTALLBUILDCHECKBUILD BIN
consensusDE 1.8.0  (landing page)
Ashley J. Waardenberg
Last Commit: 0ade359
Last Changed Date: 2020-10-27 11:40:12 -0400
malbec1Linux (Ubuntu 18.04.5 LTS) / x86_64  OK    OK    OK  UNNEEDED, same version exists in internal repository
tokay1Windows Server 2012 R2 Standard / x64  OK    OK    OK    OK  UNNEEDED, same version exists in internal repository
merida1macOS 10.14.6 Mojave / x86_64  OK    OK    OK    OK  UNNEEDED, same version exists in internal repository
Package 45/238HostnameOS / ArchINSTALLBUILDCHECKBUILD BIN
consensusSeekeR 1.18.0  (landing page)
Astrid Deschenes
Last Commit: 2ef95ae
Last Changed Date: 2020-10-27 11:09:32 -0400
malbec1Linux (Ubuntu 18.04.5 LTS) / x86_64  OK    OK    OK  UNNEEDED, same version exists in internal repository
tokay1Windows Server 2012 R2 Standard / x64  OK    OK    OK    OK  UNNEEDED, same version exists in internal repository
merida1macOS 10.14.6 Mojave / x86_64  OK    OK    OK    OK  UNNEEDED, same version exists in internal repository
Package 46/238HostnameOS / ArchINSTALLBUILDCHECKBUILD BIN
contiBAIT 1.18.0  (landing page)
Kieran O'Neill
Last Commit: d50ef02
Last Changed Date: 2020-10-27 11:11:14 -0400
malbec1Linux (Ubuntu 18.04.5 LTS) / x86_64  OK    OK    WARNINGS  UNNEEDED, same version exists in internal repository
tokay1Windows Server 2012 R2 Standard / x64  OK    OK    WARNINGS    OK  UNNEEDED, same version exists in internal repository
merida1macOS 10.14.6 Mojave / x86_64  OK    OK    WARNINGS    OK  UNNEEDED, same version exists in internal repository
Package 47/238HostnameOS / ArchINSTALLBUILDCHECKBUILD BIN
CopywriteR 2.22.0  (landing page)
Oscar Krijgsman
Last Commit: fadf9a9
Last Changed Date: 2020-10-27 11:04:30 -0400
malbec1Linux (Ubuntu 18.04.5 LTS) / x86_64  OK    OK    OK  UNNEEDED, same version exists in internal repository
tokay1Windows Server 2012 R2 Standard / x64  OK    OK    OK    OK  UNNEEDED, same version exists in internal repository
merida1macOS 10.14.6 Mojave / x86_64  OK    OK    OK    OK  UNNEEDED, same version exists in internal repository
Package 48/238HostnameOS / ArchINSTALLBUILDCHECKBUILD BIN
CoreGx 1.2.0  (landing page)
Benjamin Haibe-Kains
Last Commit: e2021c4
Last Changed Date: 2020-10-27 11:57:03 -0400
malbec1Linux (Ubuntu 18.04.5 LTS) / x86_64  OK    OK    OK  UNNEEDED, same version exists in internal repository
tokay1Windows Server 2012 R2 Standard / x64  OK    OK    OK    OK  UNNEEDED, same version exists in internal repository
merida1macOS 10.14.6 Mojave / x86_64  OK    OK    OK    OK  UNNEEDED, same version exists in internal repository
Package 49/238HostnameOS / ArchINSTALLBUILDCHECKBUILD BIN
coseq 1.14.0  (landing page)
Andrea Rau
Last Commit: 25e5aa6
Last Changed Date: 2020-10-27 11:20:42 -0400
malbec1Linux (Ubuntu 18.04.5 LTS) / x86_64  OK    OK    OK  UNNEEDED, same version exists in internal repository
tokay1Windows Server 2012 R2 Standard / x64  OK    OK    OK    OK  UNNEEDED, same version exists in internal repository
merida1macOS 10.14.6 Mojave / x86_64  OK    OK    OK    OK  UNNEEDED, same version exists in internal repository
Package 50/238HostnameOS / ArchINSTALLBUILDCHECKBUILD BIN
cpvSNP 1.22.0  (landing page)
Caitlin McHugh
Last Commit: 61798d0
Last Changed Date: 2020-10-27 11:01:21 -0400
malbec1Linux (Ubuntu 18.04.5 LTS) / x86_64  OK    OK    OK  UNNEEDED, same version exists in internal repository
tokay1Windows Server 2012 R2 Standard / x64  OK    OK    OK    OK  UNNEEDED, same version exists in internal repository
merida1macOS 10.14.6 Mojave / x86_64  OK    OK    OK    OK  UNNEEDED, same version exists in internal repository
Package 51/238HostnameOS / ArchINSTALLBUILDCHECKBUILD BIN
CRISPRseek 1.30.1  (landing page)
Lihua Julie Zhu
Last Commit: 3b0270d
Last Changed Date: 2021-01-11 15:59:45 -0400
malbec1Linux (Ubuntu 18.04.5 LTS) / x86_64  OK    OK    OK  UNNEEDED, same version exists in internal repository
tokay1Windows Server 2012 R2 Standard / x64  OK    OK    OK    OK  UNNEEDED, same version exists in internal repository
merida1macOS 10.14.6 Mojave / x86_64  OK    OK    OK    OK  UNNEEDED, same version exists in internal repository
Package 52/238HostnameOS / ArchINSTALLBUILDCHECKBUILD BIN
CrispRVariants 1.18.0  (landing page)
Helen Lindsay
Last Commit: 4bbba2e
Last Changed Date: 2020-10-27 11:10:15 -0400
malbec1Linux (Ubuntu 18.04.5 LTS) / x86_64  OK    OK    WARNINGS  UNNEEDED, same version exists in internal repository
tokay1Windows Server 2012 R2 Standard / x64  OK    OK    WARNINGS    OK  UNNEEDED, same version exists in internal repository
merida1macOS 10.14.6 Mojave / x86_64  OK    OK    WARNINGS    OK  UNNEEDED, same version exists in internal repository
Package 53/238HostnameOS / ArchINSTALLBUILDCHECKBUILD BIN
csaw 1.24.3  (landing page)
Aaron Lun
Last Commit: 9bad47b
Last Changed Date: 2020-11-09 23:33:24 -0400
malbec1Linux (Ubuntu 18.04.5 LTS) / x86_64  OK    OK    OK  UNNEEDED, same version exists in internal repository
tokay1Windows Server 2012 R2 Standard / x64  OK    OK    OK    OK  UNNEEDED, same version exists in internal repository
merida1macOS 10.14.6 Mojave / x86_64  OK    OK    OK    OK  UNNEEDED, same version exists in internal repository
Package 54/238HostnameOS / ArchINSTALLBUILDCHECKBUILD BIN
cydar 1.14.1  (landing page)
Aaron Lun
Last Commit: 8225626
Last Changed Date: 2021-04-16 03:41:22 -0400
malbec1Linux (Ubuntu 18.04.5 LTS) / x86_64  OK    OK    OK  UNNEEDED, same version exists in internal repository
tokay1Windows Server 2012 R2 Standard / x64  OK    OK    WARNINGS    OK  UNNEEDED, same version exists in internal repository
merida1macOS 10.14.6 Mojave / x86_64  OK    OK    OK    OK  UNNEEDED, same version exists in internal repository
Package 55/238HostnameOS / ArchINSTALLBUILDCHECKBUILD BIN
dasper 1.0.0  (landing page)
David Zhang
Last Commit: 395b887
Last Changed Date: 2020-10-27 12:03:54 -0400
malbec1Linux (Ubuntu 18.04.5 LTS) / x86_64  OK    OK    OK  UNNEEDED, same version exists in internal repository
tokay1Windows Server 2012 R2 Standard / x64  OK    OK    OK    OK  UNNEEDED, same version exists in internal repository
merida1macOS 10.14.6 Mojave / x86_64  OK    OK    OK    OK  UNNEEDED, same version exists in internal repository
Package 56/238HostnameOS / ArchINSTALLBUILDCHECKBUILD BIN
dcGSA 1.18.0  (landing page)
Jiehuan sun
Last Commit: a0a7d07
Last Changed Date: 2020-10-27 11:09:54 -0400
malbec1Linux (Ubuntu 18.04.5 LTS) / x86_64  OK    OK    WARNINGS  UNNEEDED, same version exists in internal repository
tokay1Windows Server 2012 R2 Standard / x64  OK    OK    WARNINGS    OK  UNNEEDED, same version exists in internal repository
merida1macOS 10.14.6 Mojave / x86_64  OK    OK    WARNINGS    OK  UNNEEDED, same version exists in internal repository
Package 57/238HostnameOS / ArchINSTALLBUILDCHECKBUILD BIN
debCAM 1.8.0  (landing page)
Lulu Chen
Last Commit: 19e8e5a
Last Changed Date: 2020-10-27 11:49:20 -0400
malbec1Linux (Ubuntu 18.04.5 LTS) / x86_64  ERROR    ERROR  skipped
tokay1Windows Server 2012 R2 Standard / x64  ERROR    ERROR  skippedskipped
merida1macOS 10.14.6 Mojave / x86_64  ERROR    ERROR  skippedskipped
Package 58/238HostnameOS / ArchINSTALLBUILDCHECKBUILD BIN
deco 1.6.0  (landing page)
Francisco Jose Campos Laborie
Last Commit: 910e12a
Last Changed Date: 2020-10-27 11:41:19 -0400
malbec1Linux (Ubuntu 18.04.5 LTS) / x86_64  OK    OK    OK  UNNEEDED, same version exists in internal repository
tokay1Windows Server 2012 R2 Standard / x64  OK    OK    OK    OK  UNNEEDED, same version exists in internal repository
merida1macOS 10.14.6 Mojave / x86_64  OK    OK    OK    OK  UNNEEDED, same version exists in internal repository
Package 59/238HostnameOS / ArchINSTALLBUILDCHECKBUILD BIN
DEComplexDisease 1.10.0  (landing page)
Guofeng Meng
Last Commit: 0ebebc3
Last Changed Date: 2020-10-27 11:31:59 -0400
malbec1Linux (Ubuntu 18.04.5 LTS) / x86_64  OK    OK    OK  UNNEEDED, same version exists in internal repository
tokay1Windows Server 2012 R2 Standard / x64  OK    OK    OK    OK  UNNEEDED, same version exists in internal repository
merida1macOS 10.14.6 Mojave / x86_64  OK    OK    OK    OK  UNNEEDED, same version exists in internal repository
Package 60/238HostnameOS / ArchINSTALLBUILDCHECKBUILD BIN
DelayedMatrixStats 1.12.3  (landing page)
Peter Hickey
Last Commit: 2b3091d
Last Changed Date: 2021-02-05 14:41:19 -0400
malbec1Linux (Ubuntu 18.04.5 LTS) / x86_64  OK    OK    OK  UNNEEDED, same version exists in internal repository
tokay1Windows Server 2012 R2 Standard / x64  OK    OK    OK    OK  UNNEEDED, same version exists in internal repository
merida1macOS 10.14.6 Mojave / x86_64  OK    OK    OK    OK  UNNEEDED, same version exists in internal repository
Package 61/238HostnameOS / ArchINSTALLBUILDCHECKBUILD BIN
derfinder 1.24.2  (landing page)
Leonardo Collado-Torres
Last Commit: 20f2596
Last Changed Date: 2020-12-18 13:03:04 -0400
malbec1Linux (Ubuntu 18.04.5 LTS) / x86_64  OK    OK    OK  UNNEEDED, same version exists in internal repository
tokay1Windows Server 2012 R2 Standard / x64  OK    OK    OK    OK  UNNEEDED, same version exists in internal repository
merida1macOS 10.14.6 Mojave / x86_64  OK    OK    OK    OK  UNNEEDED, same version exists in internal repository
Package 62/238HostnameOS / ArchINSTALLBUILDCHECKBUILD BIN
DEScan2 1.10.0  (landing page)
Dario Righelli
Last Commit: 7a7d1be
Last Changed Date: 2020-10-27 11:32:55 -0400
malbec1Linux (Ubuntu 18.04.5 LTS) / x86_64  OK    OK    WARNINGS  UNNEEDED, same version exists in internal repository
tokay1Windows Server 2012 R2 Standard / x64  OK    OK    WARNINGS    OK  UNNEEDED, same version exists in internal repository
merida1macOS 10.14.6 Mojave / x86_64  OK    OK    WARNINGS    OK  UNNEEDED, same version exists in internal repository
Package 63/238HostnameOS / ArchINSTALLBUILDCHECKBUILD BIN
DESeq2 1.30.1  (landing page)
Michael Love
Last Commit: 340e674
Last Changed Date: 2021-02-19 14:26:47 -0400
malbec1Linux (Ubuntu 18.04.5 LTS) / x86_64  OK    OK    OK  UNNEEDED, same version exists in internal repository
tokay1Windows Server 2012 R2 Standard / x64  OK    OK    OK    OK  UNNEEDED, same version exists in internal repository
merida1macOS 10.14.6 Mojave / x86_64  OK    OK    OK    OK  UNNEEDED, same version exists in internal repository
Package 64/238HostnameOS / ArchINSTALLBUILDCHECKBUILD BIN
DEsingle 1.10.0  (landing page)
Zhun Miao
Last Commit: 2b58523
Last Changed Date: 2020-10-27 11:34:07 -0400
malbec1Linux (Ubuntu 18.04.5 LTS) / x86_64  OK    OK    OK  UNNEEDED, same version exists in internal repository
tokay1Windows Server 2012 R2 Standard / x64  OK    OK    OK    OK  UNNEEDED, same version exists in internal repository
merida1macOS 10.14.6 Mojave / x86_64  OK    OK    OK    OK  UNNEEDED, same version exists in internal repository
Package 65/238HostnameOS / ArchINSTALLBUILDCHECKBUILD BIN
DEWSeq 1.4.4  (landing page)
bioinformatics team Hentze
Last Commit: 18bf75d
Last Changed Date: 2020-11-26 04:24:32 -0400
malbec1Linux (Ubuntu 18.04.5 LTS) / x86_64  OK    OK    OK  UNNEEDED, same version exists in internal repository
tokay1Windows Server 2012 R2 Standard / x64  OK    OK    OK    OK  UNNEEDED, same version exists in internal repository
merida1macOS 10.14.6 Mojave / x86_64  OK    OK    OK    OK  UNNEEDED, same version exists in internal repository
Package 66/238HostnameOS / ArchINSTALLBUILDCHECKBUILD BIN
DEXSeq 1.36.0  (landing page)
Alejandro Reyes
Last Commit: f0a361a
Last Changed Date: 2020-10-27 10:41:49 -0400
malbec1Linux (Ubuntu 18.04.5 LTS) / x86_64  OK    OK    OK  UNNEEDED, same version exists in internal repository
tokay1Windows Server 2012 R2 Standard / x64  OK    OK    OK    OK  UNNEEDED, same version exists in internal repository
merida1macOS 10.14.6 Mojave / x86_64  OK    OK    OK    OK  UNNEEDED, same version exists in internal repository
Package 67/238HostnameOS / ArchINSTALLBUILDCHECKBUILD BIN
DiffBind 3.0.15  (landing page)
Rory Stark
Last Commit: 9c4e998
Last Changed Date: 2021-03-22 13:19:01 -0400
malbec1Linux (Ubuntu 18.04.5 LTS) / x86_64  OK    OK    OK  UNNEEDED, same version exists in internal repository
tokay1Windows Server 2012 R2 Standard / x64  OK    OK    OK    OK  UNNEEDED, same version exists in internal repository
merida1macOS 10.14.6 Mojave / x86_64  OK    OK    OK    OK  UNNEEDED, same version exists in internal repository
Package 68/238HostnameOS / ArchINSTALLBUILDCHECKBUILD BIN
DMCFB 1.4.0  (landing page)
Farhad Shokoohi
Last Commit: 2e5e757
Last Changed Date: 2020-10-27 11:49:53 -0400
malbec1Linux (Ubuntu 18.04.5 LTS) / x86_64  OK    OK    OK  UNNEEDED, same version exists in internal repository
tokay1Windows Server 2012 R2 Standard / x64  OK    OK    OK    OK  UNNEEDED, same version exists in internal repository
merida1macOS 10.14.6 Mojave / x86_64  OK    OK    OK    OK  UNNEEDED, same version exists in internal repository
Package 69/238HostnameOS / ArchINSTALLBUILDCHECKBUILD BIN
DMCHMM 1.12.0  (landing page)
Farhad Shokoohi
Last Commit: c44e65d
Last Changed Date: 2020-10-27 11:27:00 -0400
malbec1Linux (Ubuntu 18.04.5 LTS) / x86_64  OK    OK    OK  UNNEEDED, same version exists in internal repository
tokay1Windows Server 2012 R2 Standard / x64  OK    OK    WARNINGS    OK  UNNEEDED, same version exists in internal repository
merida1macOS 10.14.6 Mojave / x86_64  OK    OK    OK    OK  UNNEEDED, same version exists in internal repository
Package 70/238HostnameOS / ArchINSTALLBUILDCHECKBUILD BIN
dmrseq 1.10.1  (landing page)
Keegan Korthauer
Last Commit: 9fc35ee
Last Changed Date: 2021-04-16 15:08:11 -0400
malbec1Linux (Ubuntu 18.04.5 LTS) / x86_64  OK    OK    WARNINGS  UNNEEDED, same version exists in internal repository
tokay1Windows Server 2012 R2 Standard / x64  OK    OK    WARNINGS    OK  UNNEEDED, same version exists in internal repository
merida1macOS 10.14.6 Mojave / x86_64  OK    OK    WARNINGS    OK  UNNEEDED, same version exists in internal repository
Package 71/238HostnameOS / ArchINSTALLBUILDCHECKBUILD BIN
doppelgangR 1.18.0  (landing page)
Levi Waldron
Last Commit: a14c896
Last Changed Date: 2020-10-27 11:12:10 -0400
malbec1Linux (Ubuntu 18.04.5 LTS) / x86_64  OK    OK    OK  UNNEEDED, same version exists in internal repository
tokay1Windows Server 2012 R2 Standard / x64  OK    OK    OK    OK  UNNEEDED, same version exists in internal repository
merida1macOS 10.14.6 Mojave / x86_64  OK    OK    OK    OK  UNNEEDED, same version exists in internal repository
Package 72/238HostnameOS / ArchINSTALLBUILDCHECKBUILD BIN
DOSE 3.16.0  (landing page)
Guangchuang Yu
Last Commit: a534a4f
Last Changed Date: 2020-10-27 10:41:46 -0400
malbec1Linux (Ubuntu 18.04.5 LTS) / x86_64  OK    OK    OK  UNNEEDED, same version exists in internal repository
tokay1Windows Server 2012 R2 Standard / x64  OK    OK    OK    OK  UNNEEDED, same version exists in internal repository
merida1macOS 10.14.6 Mojave / x86_64  OK    OK    OK    OK  UNNEEDED, same version exists in internal repository
Package 73/238HostnameOS / ArchINSTALLBUILDCHECKBUILD BIN
DRIMSeq 1.18.0  (landing page)
Malgorzata Nowicka
Last Commit: 3b9c0e8
Last Changed Date: 2020-10-27 11:12:40 -0400
malbec1Linux (Ubuntu 18.04.5 LTS) / x86_64  OK    OK    WARNINGS  UNNEEDED, same version exists in internal repository
tokay1Windows Server 2012 R2 Standard / x64  OK    OK    WARNINGS    OK  UNNEEDED, same version exists in internal repository
merida1macOS 10.14.6 Mojave / x86_64  OK    OK    WARNINGS    OK  UNNEEDED, same version exists in internal repository
Package 74/238HostnameOS / ArchINSTALLBUILDCHECKBUILD BIN
DropletUtils 1.10.3  (landing page)
Aaron Lun
Last Commit: 4bdf932
Last Changed Date: 2021-02-01 11:41:53 -0400
malbec1Linux (Ubuntu 18.04.5 LTS) / x86_64  OK    OK    OK  UNNEEDED, same version exists in internal repository
tokay1Windows Server 2012 R2 Standard / x64  OK    OK    OK    OK  UNNEEDED, same version exists in internal repository
merida1macOS 10.14.6 Mojave / x86_64  OK    OK    OK    OK  UNNEEDED, same version exists in internal repository
Package 75/238HostnameOS / ArchINSTALLBUILDCHECKBUILD BIN
DSS 2.38.0  (landing page)
Hao Wu , Hao Feng
Last Commit: 82e65b9
Last Changed Date: 2020-10-27 10:46:08 -0400
malbec1Linux (Ubuntu 18.04.5 LTS) / x86_64  OK    OK    OK  UNNEEDED, same version exists in internal repository
tokay1Windows Server 2012 R2 Standard / x64  OK    OK    OK    OK  UNNEEDED, same version exists in internal repository
merida1macOS 10.14.6 Mojave / x86_64  OK    OK    OK    OK  UNNEEDED, same version exists in internal repository
Package 76/238HostnameOS / ArchINSTALLBUILDCHECKBUILD BIN
Dune 1.2.0  (landing page)
Hector Roux de Bezieux
Last Commit: a60b7f3
Last Changed Date: 2020-10-27 11:54:35 -0400
malbec1Linux (Ubuntu 18.04.5 LTS) / x86_64  OK    OK    OK  UNNEEDED, same version exists in internal repository
tokay1Windows Server 2012 R2 Standard / x64  OK    OK    OK    OK  UNNEEDED, same version exists in internal repository
merida1macOS 10.14.6 Mojave / x86_64  OK    OK    OK    OK  UNNEEDED, same version exists in internal repository
Package 77/238HostnameOS / ArchINSTALLBUILDCHECKBUILD BIN
easyRNASeq 2.26.0  (landing page)
Nicolas Delhomme
Last Commit: e3ce60a
Last Changed Date: 2020-10-27 10:44:21 -0400
malbec1Linux (Ubuntu 18.04.5 LTS) / x86_64  OK    ERROR  skipped
tokay1Windows Server 2012 R2 Standard / x64  OK    ERROR  skippedskipped
merida1macOS 10.14.6 Mojave / x86_64  OK    OK    OK    OK  UNNEEDED, same version exists in internal repository
Package 78/238HostnameOS / ArchINSTALLBUILDCHECKBUILD BIN
EMDomics 2.20.0  (landing page)
Sadhika Malladi and Daniel Schmolze
Last Commit: 59aa6de
Last Changed Date: 2020-10-27 11:05:25 -0400
malbec1Linux (Ubuntu 18.04.5 LTS) / x86_64  OK    OK    OK  UNNEEDED, same version exists in internal repository
tokay1Windows Server 2012 R2 Standard / x64  OK    OK    WARNINGS    OK  UNNEEDED, same version exists in internal repository
merida1macOS 10.14.6 Mojave / x86_64  OK    OK    OK    OK  UNNEEDED, same version exists in internal repository
Package 79/238HostnameOS / ArchINSTALLBUILDCHECKBUILD BIN
erma 1.6.0  (landing page)
VJ Carey
Last Commit: 2b7cca5
Last Changed Date: 2020-10-27 11:06:02 -0400
malbec1Linux (Ubuntu 18.04.5 LTS) / x86_64  OK    OK    OK  UNNEEDED, same version exists in internal repository
tokay1Windows Server 2012 R2 Standard / x64  OK    OK    OK    OK  UNNEEDED, same version exists in internal repository
merida1macOS 10.14.6 Mojave / x86_64  OK    OK    OK    OK  UNNEEDED, same version exists in internal repository
Package 80/238HostnameOS / ArchINSTALLBUILDCHECKBUILD BIN
ERSSA 1.8.0  (landing page)
Zixuan Shao
Last Commit: 88db202
Last Changed Date: 2020-10-27 11:38:46 -0400
malbec1Linux (Ubuntu 18.04.5 LTS) / x86_64  OK    OK    OK  UNNEEDED, same version exists in internal repository
tokay1Windows Server 2012 R2 Standard / x64  OK    OK    OK    OK  UNNEEDED, same version exists in internal repository
merida1macOS 10.14.6 Mojave / x86_64  OK    OK    OK    OK  UNNEEDED, same version exists in internal repository
Package 81/238HostnameOS / ArchINSTALLBUILDCHECKBUILD BIN
escape 1.0.1  (landing page)
Nick Borcherding
Last Commit: d8e6dce
Last Changed Date: 2021-04-22 13:40:31 -0400
malbec1Linux (Ubuntu 18.04.5 LTS) / x86_64  OK    ERROR  skipped
tokay1Windows Server 2012 R2 Standard / x64  OK    ERROR  skippedskipped
merida1macOS 10.14.6 Mojave / x86_64  OK    ERROR  skippedskipped
Package 82/238HostnameOS / ArchINSTALLBUILDCHECKBUILD BIN
exomePeak2 1.2.0  (landing page)
Zhen Wei
Last Commit: a214469
Last Changed Date: 2020-10-27 11:53:58 -0400
malbec1Linux (Ubuntu 18.04.5 LTS) / x86_64  OK    OK    OK  UNNEEDED, same version exists in internal repository
tokay1Windows Server 2012 R2 Standard / x64  OK    OK    OK    OK  UNNEEDED, same version exists in internal repository
merida1macOS 10.14.6 Mojave / x86_64  OK    OK    OK    OK  UNNEEDED, same version exists in internal repository
Package 83/238HostnameOS / ArchINSTALLBUILDCHECKBUILD BIN
fgsea 1.16.0  (landing page)
Alexey Sergushichev
Last Commit: 9d9df59
Last Changed Date: 2020-10-27 11:15:49 -0400
malbec1Linux (Ubuntu 18.04.5 LTS) / x86_64  OK    OK    OK  UNNEEDED, same version exists in internal repository
tokay1Windows Server 2012 R2 Standard / x64  OK    OK    OK    OK  UNNEEDED, same version exists in internal repository
merida1macOS 10.14.6 Mojave / x86_64  OK    OK    OK    OK  UNNEEDED, same version exists in internal repository
Package 84/238HostnameOS / ArchINSTALLBUILDCHECKBUILD BIN
FindMyFriends 1.20.0  (landing page)
Thomas Lin Pedersen
Last Commit: 43d1515
Last Changed Date: 2020-10-27 11:08:14 -0400
malbec1Linux (Ubuntu 18.04.5 LTS) / x86_64  OK    OK    WARNINGS  UNNEEDED, same version exists in internal repository
tokay1Windows Server 2012 R2 Standard / x64  OK    ERROR  skippedskipped
merida1macOS 10.14.6 Mojave / x86_64  OK    OK    WARNINGS    OK  UNNEEDED, same version exists in internal repository
Package 85/238HostnameOS / ArchINSTALLBUILDCHECKBUILD BIN
flowcatchR 1.24.0  (landing page)
Federico Marini
Last Commit: 2749cf4
Last Changed Date: 2020-10-27 10:59:52 -0400
malbec1Linux (Ubuntu 18.04.5 LTS) / x86_64  OK    OK    OK  UNNEEDED, same version exists in internal repository
tokay1Windows Server 2012 R2 Standard / x64  OK    OK    OK    OK  UNNEEDED, same version exists in internal repository
merida1macOS 10.14.6 Mojave / x86_64  OK    OK    OK    OK  UNNEEDED, same version exists in internal repository
Package 86/238HostnameOS / ArchINSTALLBUILDCHECKBUILD BIN
flowSpecs 1.4.0  (landing page)
Jakob Theorell
Last Commit: 8ad2220
Last Changed Date: 2020-10-27 11:49:28 -0400
malbec1Linux (Ubuntu 18.04.5 LTS) / x86_64  OK    OK    OK  UNNEEDED, same version exists in internal repository
tokay1Windows Server 2012 R2 Standard / x64  OK    OK    OK    OK  UNNEEDED, same version exists in internal repository
merida1macOS 10.14.6 Mojave / x86_64  OK    OK    OK    OK  UNNEEDED, same version exists in internal repository
Package 87/238HostnameOS / ArchINSTALLBUILDCHECKBUILD BIN
FRASER 1.2.1  (landing page)
Christian Mertes
Last Commit: 9160638
Last Changed Date: 2021-01-31 17:38:49 -0400
malbec1Linux (Ubuntu 18.04.5 LTS) / x86_64  OK    OK    OK  UNNEEDED, same version exists in internal repository
tokay1Windows Server 2012 R2 Standard / x64  OK    OK    OK    OK  UNNEEDED, same version exists in internal repository
merida1macOS 10.14.6 Mojave / x86_64  OK    OK    OK    OK  UNNEEDED, same version exists in internal repository
Package 88/238HostnameOS / ArchINSTALLBUILDCHECKBUILD BIN
GDCRNATools 1.10.1  (landing page)
Ruidong Li
Last Commit: 0827796
Last Changed Date: 2020-11-25 02:46:19 -0400
malbec1Linux (Ubuntu 18.04.5 LTS) / x86_64  OK    OK    OK  UNNEEDED, same version exists in internal repository
tokay1Windows Server 2012 R2 Standard / x64  OK    OK    OK    OK  UNNEEDED, same version exists in internal repository
merida1macOS 10.14.6 Mojave / x86_64  OK    OK    OK    OK  UNNEEDED, same version exists in internal repository
Package 89/238HostnameOS / ArchINSTALLBUILDCHECKBUILD BIN
GenoGAM 2.8.0  (landing page)
Georg Stricker
Last Commit: 7698827
Last Changed Date: 2020-10-27 11:13:12 -0400
malbec1Linux (Ubuntu 18.04.5 LTS) / x86_64  OK    OK    WARNINGS  UNNEEDED, same version exists in internal repository
tokay1Windows Server 2012 R2 Standard / x64  OK    OK    WARNINGS    OK  UNNEEDED, same version exists in internal repository
merida1macOS 10.14.6 Mojave / x86_64  OK    OK    WARNINGS    OK  UNNEEDED, same version exists in internal repository
Package 90/238HostnameOS / ArchINSTALLBUILDCHECKBUILD BIN
GenomicAlignments 1.26.0  (landing page)
Bioconductor Package Maintainer
Last Commit: 6c74c74
Last Changed Date: 2020-10-27 10:53:58 -0400
malbec1Linux (Ubuntu 18.04.5 LTS) / x86_64  OK    OK    OK  UNNEEDED, same version exists in internal repository
tokay1Windows Server 2012 R2 Standard / x64  OK    OK    WARNINGS    OK  UNNEEDED, same version exists in internal repository
merida1macOS 10.14.6 Mojave / x86_64  OK    OK    OK    OK  UNNEEDED, same version exists in internal repository
Package 91/238HostnameOS / ArchINSTALLBUILDCHECKBUILD BIN
GenomicFiles 1.26.0  (landing page)
Bioconductor Package Maintainer
Last Commit: 8c9e00d
Last Changed Date: 2020-10-27 10:56:29 -0400
malbec1Linux (Ubuntu 18.04.5 LTS) / x86_64  OK    OK    OK  UNNEEDED, same version exists in internal repository
tokay1Windows Server 2012 R2 Standard / x64  OK    OK    WARNINGS    OK  UNNEEDED, same version exists in internal repository
merida1macOS 10.14.6 Mojave / x86_64  OK    OK    OK    OK  UNNEEDED, same version exists in internal repository
Package 92/238HostnameOS / ArchINSTALLBUILDCHECKBUILD BIN
genotypeeval 1.22.0  (landing page)
Jennifer Tom
Last Commit: fdb3376
Last Changed Date: 2020-10-27 11:06:38 -0400
malbec1Linux (Ubuntu 18.04.5 LTS) / x86_64  OK    OK    OK  UNNEEDED, same version exists in internal repository
tokay1Windows Server 2012 R2 Standard / x64  OK    OK    OK    OK  UNNEEDED, same version exists in internal repository
merida1macOS 10.14.6 Mojave / x86_64  OK    OK    OK    OK  UNNEEDED, same version exists in internal repository
Package 93/238HostnameOS / ArchINSTALLBUILDCHECKBUILD BIN
gmapR 1.32.0  (landing page)
Michael Lawrence
Last Commit: 02e06e4
Last Changed Date: 2020-11-06 12:06:58 -0400
malbec1Linux (Ubuntu 18.04.5 LTS) / x86_64  OK    OK    WARNINGS  UNNEEDED, same version exists in internal repository
tokay1Windows Server 2012 R2 Standard / x64... NOT SUPPORTED ...
merida1macOS 10.14.6 Mojave / x86_64  OK    OK    WARNINGS    OK  UNNEEDED, same version exists in internal repository
Package 94/238HostnameOS / ArchINSTALLBUILDCHECKBUILD BIN
gscreend 1.4.0  (landing page)
Katharina Imkeller
Last Commit: bf8ede6
Last Changed Date: 2020-10-27 11:50:13 -0400
malbec1Linux (Ubuntu 18.04.5 LTS) / x86_64  OK    OK    OK  UNNEEDED, same version exists in internal repository
tokay1Windows Server 2012 R2 Standard / x64  OK    OK    OK    OK  UNNEEDED, same version exists in internal repository
merida1macOS 10.14.6 Mojave / x86_64  OK    OK    OK    OK  UNNEEDED, same version exists in internal repository
Package 95/238HostnameOS / ArchINSTALLBUILDCHECKBUILD BIN
GSEABenchmarkeR 1.10.1  (landing page)
Ludwig Geistlinger
Last Commit: 4980161
Last Changed Date: 2020-12-09 16:49:51 -0400
malbec1Linux (Ubuntu 18.04.5 LTS) / x86_64  OK    OK    OK  UNNEEDED, same version exists in internal repository
tokay1Windows Server 2012 R2 Standard / x64  OK    OK    OK    OK  UNNEEDED, same version exists in internal repository
merida1macOS 10.14.6 Mojave / x86_64  OK    OK    OK    OK  UNNEEDED, same version exists in internal repository
Package 96/238HostnameOS / ArchINSTALLBUILDCHECKBUILD BIN
GSVA 1.38.2  (landing page)
Justin Guinney
Last Commit: 3acf0ce
Last Changed Date: 2021-02-09 08:18:15 -0400
malbec1Linux (Ubuntu 18.04.5 LTS) / x86_64  OK    OK    OK  UNNEEDED, same version exists in internal repository
tokay1Windows Server 2012 R2 Standard / x64  OK    OK    OK    OK  UNNEEDED, same version exists in internal repository
merida1macOS 10.14.6 Mojave / x86_64  OK    OK    OK    OK  UNNEEDED, same version exists in internal repository
Package 97/238HostnameOS / ArchINSTALLBUILDCHECKBUILD BIN
GUIDEseq 1.20.0  (landing page)
Lihua Julie Zhu
Last Commit: ccacc7a
Last Changed Date: 2020-10-27 11:08:56 -0400
malbec1Linux (Ubuntu 18.04.5 LTS) / x86_64  OK    OK    OK  UNNEEDED, same version exists in internal repository
tokay1Windows Server 2012 R2 Standard / x64  OK    OK    OK    OK  UNNEEDED, same version exists in internal repository
merida1macOS 10.14.6 Mojave / x86_64  OK    OK    OK    OK  UNNEEDED, same version exists in internal repository
Package 98/238HostnameOS / ArchINSTALLBUILDCHECKBUILD BIN
h5vc 2.24.0  (landing page)
Paul Theodor Pyl
Last Commit: 325e19e
Last Changed Date: 2020-10-27 10:53:51 -0400
malbec1Linux (Ubuntu 18.04.5 LTS) / x86_64  OK    OK    OK  UNNEEDED, same version exists in internal repository
tokay1Windows Server 2012 R2 Standard / x64  OK    OK    WARNINGS    OK  UNNEEDED, same version exists in internal repository
merida1macOS 10.14.6 Mojave / x86_64  OK    OK    OK    OK  UNNEEDED, same version exists in internal repository
Package 99/238HostnameOS / ArchINSTALLBUILDCHECKBUILD BIN
HiCBricks 1.8.0  (landing page)
Koustav Pal
Last Commit: 12ba995
Last Changed Date: 2020-10-27 11:39:46 -0400
malbec1Linux (Ubuntu 18.04.5 LTS) / x86_64  OK    OK    OK  UNNEEDED, same version exists in internal repository
tokay1Windows Server 2012 R2 Standard / x64  OK    OK    OK    OK  UNNEEDED, same version exists in internal repository
merida1macOS 10.14.6 Mojave / x86_64  OK    OK    OK    OK  UNNEEDED, same version exists in internal repository
Package 100/238HostnameOS / ArchINSTALLBUILDCHECKBUILD BIN
HiCcompare 1.12.0  (landing page)
John Stansfield , Mikhail Dozmorov
Last Commit: f28a3b7
Last Changed Date: 2020-10-27 11:26:02 -0400
malbec1Linux (Ubuntu 18.04.5 LTS) / x86_64  OK    OK    OK  UNNEEDED, same version exists in internal repository
tokay1Windows Server 2012 R2 Standard / x64  OK    OK    OK    OK  UNNEEDED, same version exists in internal repository
merida1macOS 10.14.6 Mojave / x86_64  OK    OK    OK    OK  UNNEEDED, same version exists in internal repository
Package 101/238HostnameOS / ArchINSTALLBUILDCHECKBUILD BIN
hiReadsProcessor 1.26.0  (landing page)
Nirav V Malani
Last Commit: 41c0142
Last Changed Date: 2020-10-27 10:58:22 -0400
malbec1Linux (Ubuntu 18.04.5 LTS) / x86_64  OK    OK    OK  UNNEEDED, same version exists in internal repository
tokay1Windows Server 2012 R2 Standard / x64... NOT SUPPORTED ...
merida1macOS 10.14.6 Mojave / x86_64  OK    OK    OK    OK  UNNEEDED, same version exists in internal repository
Package 102/238HostnameOS / ArchINSTALLBUILDCHECKBUILD BIN
HTSeqGenie 4.20.0  (landing page)
Jens Reeder
Last Commit: 1967349
Last Changed Date: 2020-10-27 10:47:41 -0400
malbec1Linux (Ubuntu 18.04.5 LTS) / x86_64  OK    OK    OK  UNNEEDED, same version exists in internal repository
tokay1Windows Server 2012 R2 Standard / x64... NOT SUPPORTED ...
merida1macOS 10.14.6 Mojave / x86_64... NOT SUPPORTED ...
Package 103/238HostnameOS / ArchINSTALLBUILDCHECKBUILD BIN
HTSFilter 1.30.1  (landing page)
Andrea Rau
Last Commit: e4979de
Last Changed Date: 2020-12-16 05:55:34 -0400
malbec1Linux (Ubuntu 18.04.5 LTS) / x86_64  OK    OK    OK  UNNEEDED, same version exists in internal repository
tokay1Windows Server 2012 R2 Standard / x64  OK    OK    OK    OK  UNNEEDED, same version exists in internal repository
merida1macOS 10.14.6 Mojave / x86_64  OK    OK    OK    OK  UNNEEDED, same version exists in internal repository
Package 104/238HostnameOS / ArchINSTALLBUILDCHECKBUILD BIN
iasva 1.8.0  (landing page)
Donghyung Lee , Anthony Cheng
Last Commit: df78e19
Last Changed Date: 2020-10-27 11:35:55 -0400
malbec1Linux (Ubuntu 18.04.5 LTS) / x86_64  OK    OK    OK  UNNEEDED, same version exists in internal repository
tokay1Windows Server 2012 R2 Standard / x64  OK    OK    OK    OK  UNNEEDED, same version exists in internal repository
merida1macOS 10.14.6 Mojave / x86_64  OK    OK    OK    OK  UNNEEDED, same version exists in internal repository
Package 105/238HostnameOS / ArchINSTALLBUILDCHECKBUILD BIN
icetea 1.8.0  (landing page)
Vivek Bhardwaj
Last Commit: 72b27ba
Last Changed Date: 2020-10-27 11:36:17 -0400
malbec1Linux (Ubuntu 18.04.5 LTS) / x86_64  OK    OK    OK  UNNEEDED, same version exists in internal repository
tokay1Windows Server 2012 R2 Standard / x64  OK    OK    OK    OK  UNNEEDED, same version exists in internal repository
merida1macOS 10.14.6 Mojave / x86_64  OK    OK    OK    OK  UNNEEDED, same version exists in internal repository
Package 106/238HostnameOS / ArchINSTALLBUILDCHECKBUILD BIN
ideal 1.14.0  (landing page)
Federico Marini
Last Commit: 984d306
Last Changed Date: 2020-10-27 11:24:01 -0400
malbec1Linux (Ubuntu 18.04.5 LTS) / x86_64  OK    OK    OK  UNNEEDED, same version exists in internal repository
tokay1Windows Server 2012 R2 Standard / x64  OK    OK    OK    OK  UNNEEDED, same version exists in internal repository
merida1macOS 10.14.6 Mojave / x86_64  OK    OK    OK    OK  UNNEEDED, same version exists in internal repository
Package 107/238HostnameOS / ArchINSTALLBUILDCHECKBUILD BIN
IMAS 1.14.0  (landing page)
Seonggyun Han
Last Commit: 541abe0
Last Changed Date: 2020-10-27 11:23:28 -0400
malbec1Linux (Ubuntu 18.04.5 LTS) / x86_64  OK    OK    OK  UNNEEDED, same version exists in internal repository
tokay1Windows Server 2012 R2 Standard / x64  OK    OK    OK    OK  UNNEEDED, same version exists in internal repository
merida1macOS 10.14.6 Mojave / x86_64  OK    OK    OK    OK  UNNEEDED, same version exists in internal repository
Package 108/238HostnameOS / ArchINSTALLBUILDCHECKBUILD BIN
ImpulseDE2 1.14.0  (landing page)
David S Fischer
Last Commit: c2f4775
Last Changed Date: 2020-10-27 11:23:35 -0400
malbec1Linux (Ubuntu 18.04.5 LTS) / x86_64  OK    OK    ERROR  
tokay1Windows Server 2012 R2 Standard / x64  OK    OK    ERROR    OK  
merida1macOS 10.14.6 Mojave / x86_64  OK    OK    ERROR    OK  
Package 109/238HostnameOS / ArchINSTALLBUILDCHECKBUILD BIN
InPAS 1.22.0  (landing page)
Jianhong Ou
Last Commit: f692ba0
Last Changed Date: 2020-10-27 11:03:35 -0400
malbec1Linux (Ubuntu 18.04.5 LTS) / x86_64  OK    OK    OK  UNNEEDED, same version exists in internal repository
tokay1Windows Server 2012 R2 Standard / x64  OK    OK    OK    OK  UNNEEDED, same version exists in internal repository
merida1macOS 10.14.6 Mojave / x86_64  OK    OK    OK    OK  UNNEEDED, same version exists in internal repository
Package 110/238HostnameOS / ArchINSTALLBUILDCHECKBUILD BIN
INSPEcT 1.20.0  (landing page)
Stefano de Pretis
Last Commit: d952c98
Last Changed Date: 2020-10-27 11:06:18 -0400
malbec1Linux (Ubuntu 18.04.5 LTS) / x86_64  OK    OK    OK  UNNEEDED, same version exists in internal repository
tokay1Windows Server 2012 R2 Standard / x64  OK    OK    OK    OK  UNNEEDED, same version exists in internal repository
merida1macOS 10.14.6 Mojave / x86_64  OK    OK    OK    OK  UNNEEDED, same version exists in internal repository
Package 111/238HostnameOS / ArchINSTALLBUILDCHECKBUILD BIN
IntEREst 1.14.0  (landing page)
Ali Oghabian , Mikko Frilander
Last Commit: 514e896
Last Changed Date: 2020-10-27 11:22:16 -0400
malbec1Linux (Ubuntu 18.04.5 LTS) / x86_64  OK    OK    OK  UNNEEDED, same version exists in internal repository
tokay1Windows Server 2012 R2 Standard / x64  OK    OK    WARNINGS    OK  UNNEEDED, same version exists in internal repository
merida1macOS 10.14.6 Mojave / x86_64  OK    OK    OK    OK  UNNEEDED, same version exists in internal repository
Package 112/238HostnameOS / ArchINSTALLBUILDCHECKBUILD BIN
IONiseR 2.14.0  (landing page)
Mike Smith
Last Commit: ccf91a8
Last Changed Date: 2020-10-27 11:06:05 -0400
malbec1Linux (Ubuntu 18.04.5 LTS) / x86_64  OK    OK    OK  UNNEEDED, same version exists in internal repository
tokay1Windows Server 2012 R2 Standard / x64  OK    OK    OK    OK  UNNEEDED, same version exists in internal repository
merida1macOS 10.14.6 Mojave / x86_64  OK    OK    OK    OK  UNNEEDED, same version exists in internal repository
Package 113/238HostnameOS / ArchINSTALLBUILDCHECKBUILD BIN
IPO 1.16.0  (landing page)
Thomas Riebenbauer
Last Commit: af1e447
Last Changed Date: 2020-10-27 11:16:46 -0400
malbec1Linux (Ubuntu 18.04.5 LTS) / x86_64  OK    OK    OK  UNNEEDED, same version exists in internal repository
tokay1Windows Server 2012 R2 Standard / x64  OK    OK    WARNINGS    OK  UNNEEDED, same version exists in internal repository
merida1macOS 10.14.6 Mojave / x86_64  OK    OK    OK    OK  UNNEEDED, same version exists in internal repository
Package 114/238HostnameOS / ArchINSTALLBUILDCHECKBUILD BIN
ISAnalytics 1.0.11  (landing page)
Andrea Calabria
Last Commit: a1014e7
Last Changed Date: 2021-04-08 08:11:42 -0400
malbec1Linux (Ubuntu 18.04.5 LTS) / x86_64  OK    OK    OK  UNNEEDED, same version exists in internal repository
tokay1Windows Server 2012 R2 Standard / x64  OK    OK    OK    OK  UNNEEDED, same version exists in internal repository
merida1macOS 10.14.6 Mojave / x86_64  OK    OK    OK    OK  UNNEEDED, same version exists in internal repository
Package 115/238HostnameOS / ArchINSTALLBUILDCHECKBUILD BIN
IVAS 2.10.0  (landing page)
Seonggyun Han
Last Commit: 5ca83c4
Last Changed Date: 2020-10-27 11:02:14 -0400
malbec1Linux (Ubuntu 18.04.5 LTS) / x86_64  OK    OK    WARNINGS  UNNEEDED, same version exists in internal repository
tokay1Windows Server 2012 R2 Standard / x64  OK    OK    WARNINGS    OK  UNNEEDED, same version exists in internal repository
merida1macOS 10.14.6 Mojave / x86_64  OK    OK    WARNINGS    OK  UNNEEDED, same version exists in internal repository
Package 116/238HostnameOS / ArchINSTALLBUILDCHECKBUILD BIN
JunctionSeq 1.20.0  (landing page)
Stephen Hartley
Last Commit: b47b4bb
Last Changed Date: 2020-10-27 11:10:31 -0400
malbec1Linux (Ubuntu 18.04.5 LTS) / x86_64  OK    OK    ERROR  
tokay1Windows Server 2012 R2 Standard / x64  OK    OK    ERROR    OK  
merida1macOS 10.14.6 Mojave / x86_64  OK    OK    ERROR    OK  
Package 117/238HostnameOS / ArchINSTALLBUILDCHECKBUILD BIN
KinSwingR 1.8.0  (landing page)
Ashley J. Waardenberg
Last Commit: 0ec3ba6
Last Changed Date: 2020-10-27 11:39:31 -0400
malbec1Linux (Ubuntu 18.04.5 LTS) / x86_64  OK    OK    OK  UNNEEDED, same version exists in internal repository
tokay1Windows Server 2012 R2 Standard / x64  OK    OK    OK    OK  UNNEEDED, same version exists in internal repository
merida1macOS 10.14.6 Mojave / x86_64  OK    OK    OK    OK  UNNEEDED, same version exists in internal repository
Package 118/238HostnameOS / ArchINSTALLBUILDCHECKBUILD BIN
LineagePulse 1.10.0  (landing page)
David S Fischer
Last Commit: 9ccb5a6
Last Changed Date: 2020-10-27 11:30:28 -0400
malbec1Linux (Ubuntu 18.04.5 LTS) / x86_64  OK    OK    WARNINGS  UNNEEDED, same version exists in internal repository
tokay1Windows Server 2012 R2 Standard / x64  OK    OK    WARNINGS    OK  UNNEEDED, same version exists in internal repository
merida1macOS 10.14.6 Mojave / x86_64  OK    OK    WARNINGS    OK  UNNEEDED, same version exists in internal repository
Package 119/238HostnameOS / ArchINSTALLBUILDCHECKBUILD BIN
loci2path 1.10.0  (landing page)
Tianlei Xu
Last Commit: b21f7ef
Last Changed Date: 2020-10-27 11:30:10 -0400
malbec1Linux (Ubuntu 18.04.5 LTS) / x86_64  OK    OK    OK  UNNEEDED, same version exists in internal repository
tokay1Windows Server 2012 R2 Standard / x64  OK    OK    OK    OK  UNNEEDED, same version exists in internal repository
merida1macOS 10.14.6 Mojave / x86_64  OK    OK    OK    OK  UNNEEDED, same version exists in internal repository
Package 120/238HostnameOS / ArchINSTALLBUILDCHECKBUILD BIN
LowMACA 1.20.0  (landing page)
Stefano de Pretis , Giorgio Melloni
Last Commit: 37c0c2e
Last Changed Date: 2020-10-27 11:03:55 -0400
malbec1Linux (Ubuntu 18.04.5 LTS) / x86_64  OK    OK    OK  UNNEEDED, same version exists in internal repository
tokay1Windows Server 2012 R2 Standard / x64  OK    OK    OK    OK  UNNEEDED, same version exists in internal repository
merida1macOS 10.14.6 Mojave / x86_64  OK    OK    OK    OK  UNNEEDED, same version exists in internal repository
Package 121/238HostnameOS / ArchINSTALLBUILDCHECKBUILD BIN
MACPET 1.10.0  (landing page)
Ioannis Vardaxis
Last Commit: bf2919e
Last Changed Date: 2020-10-27 11:32:24 -0400
malbec1Linux (Ubuntu 18.04.5 LTS) / x86_64  OK    OK    OK  UNNEEDED, same version exists in internal repository
tokay1Windows Server 2012 R2 Standard / x64  OK    OK    OK    OK  UNNEEDED, same version exists in internal repository
merida1macOS 10.14.6 Mojave / x86_64  OK    OK    OK    OK  UNNEEDED, same version exists in internal repository
Package 122/238HostnameOS / ArchINSTALLBUILDCHECKBUILD BIN
matter 1.16.0  (landing page)
Kylie A. Bemis
Last Commit: 764f943
Last Changed Date: 2020-10-27 11:18:34 -0400
malbec1Linux (Ubuntu 18.04.5 LTS) / x86_64  OK    OK    OK  UNNEEDED, same version exists in internal repository
tokay1Windows Server 2012 R2 Standard / x64  OK    OK    OK    OK  UNNEEDED, same version exists in internal repository
merida1macOS 10.14.6 Mojave / x86_64  OK    OK    OK    OK  UNNEEDED, same version exists in internal repository
Package 123/238HostnameOS / ArchINSTALLBUILDCHECKBUILD BIN
MBASED 1.24.0  (landing page)
Oleg Mayba
Last Commit: 3d1c13e
Last Changed Date: 2020-10-27 10:58:25 -0400
malbec1Linux (Ubuntu 18.04.5 LTS) / x86_64  OK    OK    OK  UNNEEDED, same version exists in internal repository
tokay1Windows Server 2012 R2 Standard / x64  OK    OK    OK    OK  UNNEEDED, same version exists in internal repository
merida1macOS 10.14.6 Mojave / x86_64  OK    OK    OK    OK  UNNEEDED, same version exists in internal repository
Package 124/238HostnameOS / ArchINSTALLBUILDCHECKBUILD BIN
mbkmeans 1.6.1  (landing page)
Davide Risso
Last Commit: ee9603a
Last Changed Date: 2020-11-13 11:28:21 -0400
malbec1Linux (Ubuntu 18.04.5 LTS) / x86_64  OK    OK    OK  UNNEEDED, same version exists in internal repository
tokay1Windows Server 2012 R2 Standard / x64  OK    OK    OK    OK  UNNEEDED, same version exists in internal repository
merida1macOS 10.14.6 Mojave / x86_64  OK    OK    OK    OK  UNNEEDED, same version exists in internal repository
Package 125/238HostnameOS / ArchINSTALLBUILDCHECKBUILD BIN
MCbiclust 1.14.0  (landing page)
Robert Bentham
Last Commit: 6b1a37f
Last Changed Date: 2020-10-27 11:21:14 -0400
malbec1Linux (Ubuntu 18.04.5 LTS) / x86_64  OK    OK    OK  UNNEEDED, same version exists in internal repository
tokay1Windows Server 2012 R2 Standard / x64  OK    OK    OK    OK  UNNEEDED, same version exists in internal repository
merida1macOS 10.14.6 Mojave / x86_64  OK    OK    OK    OK  UNNEEDED, same version exists in internal repository
Package 126/238HostnameOS / ArchINSTALLBUILDCHECKBUILD BIN
metabomxtr 1.24.0  (landing page)
Michael Nodzenski
Last Commit: fe3d767
Last Changed Date: 2020-10-27 10:57:58 -0400
malbec1Linux (Ubuntu 18.04.5 LTS) / x86_64  OK    OK    OK  UNNEEDED, same version exists in internal repository
tokay1Windows Server 2012 R2 Standard / x64  OK    OK    OK    OK  UNNEEDED, same version exists in internal repository
merida1macOS 10.14.6 Mojave / x86_64  OK    OK    OK    OK  UNNEEDED, same version exists in internal repository
Package 127/238HostnameOS / ArchINSTALLBUILDCHECKBUILD BIN
metagene 2.22.0  (landing page)
Charles Joly Beauparlant
Last Commit: cdf1dbb
Last Changed Date: 2020-10-27 10:58:00 -0400
malbec1Linux (Ubuntu 18.04.5 LTS) / x86_64  OK    OK    OK  UNNEEDED, same version exists in internal repository
tokay1Windows Server 2012 R2 Standard / x64  OK    OK    OK    OK  UNNEEDED, same version exists in internal repository
merida1macOS 10.14.6 Mojave / x86_64  OK    OK    OK    OK  UNNEEDED, same version exists in internal repository
Package 128/238HostnameOS / ArchINSTALLBUILDCHECKBUILD BIN
metagene2 1.6.1  (landing page)
Eric Fournier
Last Commit: 2610629
Last Changed Date: 2021-03-17 10:40:21 -0400
malbec1Linux (Ubuntu 18.04.5 LTS) / x86_64  OK    OK    OK  UNNEEDED, same version exists in internal repository
tokay1Windows Server 2012 R2 Standard / x64  OK    OK    OK    OK  UNNEEDED, same version exists in internal repository
merida1macOS 10.14.6 Mojave / x86_64  OK    OK    OK    OK  UNNEEDED, same version exists in internal repository
Package 129/238HostnameOS / ArchINSTALLBUILDCHECKBUILD BIN
metaseqR2 1.2.0  (landing page)
Panagiotis Moulos
Last Commit: 2bcc067
Last Changed Date: 2020-10-27 11:57:00 -0400
malbec1Linux (Ubuntu 18.04.5 LTS) / x86_64  OK    OK    OK  UNNEEDED, same version exists in internal repository
tokay1Windows Server 2012 R2 Standard / x64  OK    OK    OK    OK  UNNEEDED, same version exists in internal repository
merida1macOS 10.14.6 Mojave / x86_64  OK    OK    OK    OK  UNNEEDED, same version exists in internal repository
Package 130/238HostnameOS / ArchINSTALLBUILDCHECKBUILD BIN
MethCP 1.4.0  (landing page)
Boying Gong
Last Commit: 06c4008
Last Changed Date: 2020-10-27 11:50:49 -0400
malbec1Linux (Ubuntu 18.04.5 LTS) / x86_64  OK    OK    OK  UNNEEDED, same version exists in internal repository
tokay1Windows Server 2012 R2 Standard / x64  OK    OK    OK    OK  UNNEEDED, same version exists in internal repository
merida1macOS 10.14.6 Mojave / x86_64  OK    OK    OK    OK  UNNEEDED, same version exists in internal repository
Package 131/238HostnameOS / ArchINSTALLBUILDCHECKBUILD BIN
MethylAid 1.24.0  (landing page)
L.J.Sinke
Last Commit: ff8facb
Last Changed Date: 2020-10-27 10:56:56 -0400
malbec1Linux (Ubuntu 18.04.5 LTS) / x86_64  OK    OK    OK  UNNEEDED, same version exists in internal repository
tokay1Windows Server 2012 R2 Standard / x64  OK    OK    OK    OK  UNNEEDED, same version exists in internal repository
merida1macOS 10.14.6 Mojave / x86_64  OK    OK    OK    OK  UNNEEDED, same version exists in internal repository
Package 132/238HostnameOS / ArchINSTALLBUILDCHECKBUILD BIN
methylGSA 1.8.0  (landing page)
Xu Ren
Last Commit: 1c2e892
Last Changed Date: 2020-10-27 11:36:53 -0400
malbec1Linux (Ubuntu 18.04.5 LTS) / x86_64  OK    OK    OK  UNNEEDED, same version exists in internal repository
tokay1Windows Server 2012 R2 Standard / x64  OK    OK    OK    OK  UNNEEDED, same version exists in internal repository
merida1macOS 10.14.6 Mojave / x86_64  OK    OK    OK    OK  UNNEEDED, same version exists in internal repository
Package 133/238HostnameOS / ArchINSTALLBUILDCHECKBUILD BIN
methylInheritance 1.14.0  (landing page)
Astrid Deschenes
Last Commit: ef7dbdb
Last Changed Date: 2020-10-27 11:23:43 -0400
malbec1Linux (Ubuntu 18.04.5 LTS) / x86_64  OK    OK    OK  UNNEEDED, same version exists in internal repository
tokay1Windows Server 2012 R2 Standard / x64  OK    OK    OK    OK  UNNEEDED, same version exists in internal repository
merida1macOS 10.14.6 Mojave / x86_64  OK    OK    OK    OK  UNNEEDED, same version exists in internal repository
Package 134/238HostnameOS / ArchINSTALLBUILDCHECKBUILD BIN
methyvim 1.12.0  (landing page)
Nima Hejazi
Last Commit: bdbbbdb
Last Changed Date: 2020-10-27 11:28:18 -0400
malbec1Linux (Ubuntu 18.04.5 LTS) / x86_64  OK    ERROR  skipped
tokay1Windows Server 2012 R2 Standard / x64  OK    ERROR  skippedskipped
merida1macOS 10.14.6 Mojave / x86_64  OK    ERROR  skippedskipped
Package 135/238HostnameOS / ArchINSTALLBUILDCHECKBUILD BIN
MetNet 1.8.0  (landing page)
Thomas Naake
Last Commit: d0b799b
Last Changed Date: 2020-10-27 11:38:04 -0400
malbec1Linux (Ubuntu 18.04.5 LTS) / x86_64  OK    OK    OK  UNNEEDED, same version exists in internal repository
tokay1Windows Server 2012 R2 Standard / x64  OK    OK    OK    OK  UNNEEDED, same version exists in internal repository
merida1macOS 10.14.6 Mojave / x86_64  OK    OK    OK    OK  UNNEEDED, same version exists in internal repository
Package 136/238HostnameOS / ArchINSTALLBUILDCHECKBUILD BIN
MIGSA 1.14.1  (landing page)
Juan C. Rodriguez
Last Commit: 270bd75
Last Changed Date: 2020-10-28 17:27:49 -0400
malbec1Linux (Ubuntu 18.04.5 LTS) / x86_64  OK    OK    OK  UNNEEDED, same version exists in internal repository
tokay1Windows Server 2012 R2 Standard / x64  OK    OK    OK    OK  UNNEEDED, same version exists in internal repository
merida1macOS 10.14.6 Mojave / x86_64  OK    OK    OK    OK  UNNEEDED, same version exists in internal repository
Package 137/238HostnameOS / ArchINSTALLBUILDCHECKBUILD BIN
minfi 1.36.0  (landing page)
Kasper Daniel Hansen
Last Commit: 94301da
Last Changed Date: 2020-10-27 10:43:17 -0400
malbec1Linux (Ubuntu 18.04.5 LTS) / x86_64  OK    OK    OK  UNNEEDED, same version exists in internal repository
tokay1Windows Server 2012 R2 Standard / x64  OK    OK    WARNINGS    OK  UNNEEDED, same version exists in internal repository
merida1macOS 10.14.6 Mojave / x86_64  OK    OK    OK    OK  UNNEEDED, same version exists in internal repository
Package 138/238HostnameOS / ArchINSTALLBUILDCHECKBUILD BIN
mixOmics 6.14.1  (landing page)
Kim-Anh Le Cao
Last Commit: 05bff25
Last Changed Date: 2021-04-13 20:36:54 -0400
malbec1Linux (Ubuntu 18.04.5 LTS) / x86_64  OK    OK    OK  UNNEEDED, same version exists in internal repository
tokay1Windows Server 2012 R2 Standard / x64  OK    OK    OK    OK  UNNEEDED, same version exists in internal repository
merida1macOS 10.14.6 Mojave / x86_64  OK    OK    OK    OK  UNNEEDED, same version exists in internal repository
Package 139/238HostnameOS / ArchINSTALLBUILDCHECKBUILD BIN
MMAPPR2 1.4.0  (landing page)
Jonathon Hill
Last Commit: 2727adf
Last Changed Date: 2020-10-27 11:47:04 -0400
malbec1Linux (Ubuntu 18.04.5 LTS) / x86_64  OK    OK    OK  UNNEEDED, same version exists in internal repository
tokay1Windows Server 2012 R2 Standard / x64... NOT SUPPORTED ...
merida1macOS 10.14.6 Mojave / x86_64  OK    OK    OK    OK  UNNEEDED, same version exists in internal repository
Package 140/238HostnameOS / ArchINSTALLBUILDCHECKBUILD BIN
MOGAMUN 1.0.1  (landing page)
Elva-María Novoa-del-Toro
Last Commit: a65e3fb
Last Changed Date: 2021-02-12 09:58:06 -0400
malbec1Linux (Ubuntu 18.04.5 LTS) / x86_64  OK    OK    OK  UNNEEDED, same version exists in internal repository
tokay1Windows Server 2012 R2 Standard / x64  OK    OK    OK    OK  UNNEEDED, same version exists in internal repository
merida1macOS 10.14.6 Mojave / x86_64  OK    OK    OK    OK  UNNEEDED, same version exists in internal repository
Package 141/238HostnameOS / ArchINSTALLBUILDCHECKBUILD BIN
motifbreakR 2.4.0  (landing page)
Simon Gert Coetzee
Last Commit: b7ea7f4
Last Changed Date: 2020-10-27 11:07:51 -0400
malbec1Linux (Ubuntu 18.04.5 LTS) / x86_64  OK    OK    WARNINGS  UNNEEDED, same version exists in internal repository
tokay1Windows Server 2012 R2 Standard / x64  OK    OK    WARNINGS    OK  UNNEEDED, same version exists in internal repository
merida1macOS 10.14.6 Mojave / x86_64  OK    OK    WARNINGS    OK  UNNEEDED, same version exists in internal repository
Package 142/238HostnameOS / ArchINSTALLBUILDCHECKBUILD BIN
MPRAnalyze 1.8.0  (landing page)
Tal Ashuach
Last Commit: 1836ce5
Last Changed Date: 2020-10-27 11:39:16 -0400
malbec1Linux (Ubuntu 18.04.5 LTS) / x86_64  OK    OK    OK  UNNEEDED, same version exists in internal repository
tokay1Windows Server 2012 R2 Standard / x64  OK    OK    OK    OK  UNNEEDED, same version exists in internal repository
merida1macOS 10.14.6 Mojave / x86_64  OK    OK    OK    OK  UNNEEDED, same version exists in internal repository
Package 143/238HostnameOS / ArchINSTALLBUILDCHECKBUILD BIN
MSnbase 2.16.1  (landing page)
Laurent Gatto
Last Commit: 4d88b4e
Last Changed Date: 2021-01-21 09:10:25 -0400
malbec1Linux (Ubuntu 18.04.5 LTS) / x86_64  OK    OK    OK  UNNEEDED, same version exists in internal repository
tokay1Windows Server 2012 R2 Standard / x64  OK    OK    TIMEOUT    OK  
merida1macOS 10.14.6 Mojave / x86_64  OK    OK    OK    OK  UNNEEDED, same version exists in internal repository
Package 144/238HostnameOS / ArchINSTALLBUILDCHECKBUILD BIN
MSstatsSampleSize 1.4.0  (landing page)
Ting Huang
Last Commit: d48be27
Last Changed Date: 2020-10-27 11:49:59 -0400
malbec1Linux (Ubuntu 18.04.5 LTS) / x86_64  OK    OK    WARNINGS  UNNEEDED, same version exists in internal repository
tokay1Windows Server 2012 R2 Standard / x64  OK    OK    WARNINGS    OK  UNNEEDED, same version exists in internal repository
merida1macOS 10.14.6 Mojave / x86_64  OK    OK    WARNINGS    OK  UNNEEDED, same version exists in internal repository
Package 145/238HostnameOS / ArchINSTALLBUILDCHECKBUILD BIN
multiHiCcompare 1.8.0  (landing page)
John Stansfield , Mikhail Dozmorov
Last Commit: d2e0a2e
Last Changed Date: 2020-10-27 11:37:56 -0400
malbec1Linux (Ubuntu 18.04.5 LTS) / x86_64  OK    ERROR  skipped
tokay1Windows Server 2012 R2 Standard / x64  OK    ERROR  skippedskipped
merida1macOS 10.14.6 Mojave / x86_64  OK    ERROR  skippedskipped
Package 146/238HostnameOS / ArchINSTALLBUILDCHECKBUILD BIN
muscat 1.4.0  (landing page)
Helena L. Crowell
Last Commit: f9eef39
Last Changed Date: 2020-10-27 11:48:47 -0400
malbec1Linux (Ubuntu 18.04.5 LTS) / x86_64  OK    OK    OK  UNNEEDED, same version exists in internal repository
tokay1Windows Server 2012 R2 Standard / x64  OK    OK    WARNINGS    OK  UNNEEDED, same version exists in internal repository
merida1macOS 10.14.6 Mojave / x86_64  OK    OK    OK    OK  UNNEEDED, same version exists in internal repository
Package 147/238HostnameOS / ArchINSTALLBUILDCHECKBUILD BIN
NBAMSeq 1.6.1  (landing page)
Xu Ren
Last Commit: 854d381
Last Changed Date: 2020-10-28 18:00:35 -0400
malbec1Linux (Ubuntu 18.04.5 LTS) / x86_64  OK    OK    OK  UNNEEDED, same version exists in internal repository
tokay1Windows Server 2012 R2 Standard / x64  OK    OK    OK    OK  UNNEEDED, same version exists in internal repository
merida1macOS 10.14.6 Mojave / x86_64  OK    OK    OK    OK  UNNEEDED, same version exists in internal repository
Package 148/238HostnameOS / ArchINSTALLBUILDCHECKBUILD BIN
NBSplice 1.8.0  (landing page)
Gabriela Merino
Last Commit: 870d8c4
Last Changed Date: 2020-10-27 11:37:10 -0400
malbec1Linux (Ubuntu 18.04.5 LTS) / x86_64  OK    OK    OK  UNNEEDED, same version exists in internal repository
tokay1Windows Server 2012 R2 Standard / x64  OK    OK    OK    OK  UNNEEDED, same version exists in internal repository
merida1macOS 10.14.6 Mojave / x86_64  OK    OK    OK    OK  UNNEEDED, same version exists in internal repository
Package 149/238HostnameOS / ArchINSTALLBUILDCHECKBUILD BIN
ncGTW 1.4.0  (landing page)
Chiung-Ting Wu
Last Commit: 5e5f086
Last Changed Date: 2020-10-27 11:47:50 -0400
malbec1Linux (Ubuntu 18.04.5 LTS) / x86_64  OK    OK    OK  UNNEEDED, same version exists in internal repository
tokay1Windows Server 2012 R2 Standard / x64  OK    OK    OK    OK  UNNEEDED, same version exists in internal repository
merida1macOS 10.14.6 Mojave / x86_64  OK    OK    OK    OK  UNNEEDED, same version exists in internal repository
Package 150/238HostnameOS / ArchINSTALLBUILDCHECKBUILD BIN
NPARC 1.2.0  (landing page)
Nils Kurzawa
Last Commit: 6cb84fd
Last Changed Date: 2020-10-27 11:52:11 -0400
malbec1Linux (Ubuntu 18.04.5 LTS) / x86_64  OK    OK    OK  UNNEEDED, same version exists in internal repository
tokay1Windows Server 2012 R2 Standard / x64  OK    OK    OK    OK  UNNEEDED, same version exists in internal repository
merida1macOS 10.14.6 Mojave / x86_64  OK    OK    OK    OK  UNNEEDED, same version exists in internal repository
Package 151/238HostnameOS / ArchINSTALLBUILDCHECKBUILD BIN
OmicsLonDA 1.6.0  (landing page)
Ahmed A. Metwally
Last Commit: b81adbb
Last Changed Date: 2020-10-27 11:45:24 -0400
malbec1Linux (Ubuntu 18.04.5 LTS) / x86_64  OK    OK    OK  UNNEEDED, same version exists in internal repository
tokay1Windows Server 2012 R2 Standard / x64  OK    OK    OK    OK  UNNEEDED, same version exists in internal repository
merida1macOS 10.14.6 Mojave / x86_64  OK    OK    OK    OK  UNNEEDED, same version exists in internal repository
Package 152/238HostnameOS / ArchINSTALLBUILDCHECKBUILD BIN
ORFik 1.10.13  (landing page)
Haakon Tjeldnes
Last Commit: 3f2976e
Last Changed Date: 2021-03-26 10:15:54 -0400
malbec1Linux (Ubuntu 18.04.5 LTS) / x86_64  OK    OK    OK  UNNEEDED, same version exists in internal repository
tokay1Windows Server 2012 R2 Standard / x64  OK    OK    WARNINGS    OK  UNNEEDED, same version exists in internal repository
merida1macOS 10.14.6 Mojave / x86_64  OK    OK    OK    OK  UNNEEDED, same version exists in internal repository
Package 153/238HostnameOS / ArchINSTALLBUILDCHECKBUILD BIN
Oscope 1.20.0  (landing page)
Ning Leng
Last Commit: f9e6398
Last Changed Date: 2020-10-27 11:07:00 -0400
malbec1Linux (Ubuntu 18.04.5 LTS) / x86_64  OK    OK    OK  UNNEEDED, same version exists in internal repository
tokay1Windows Server 2012 R2 Standard / x64  OK    OK    OK    OK  UNNEEDED, same version exists in internal repository
merida1macOS 10.14.6 Mojave / x86_64  OK    OK    OK    OK  UNNEEDED, same version exists in internal repository
Package 154/238HostnameOS / ArchINSTALLBUILDCHECKBUILD BIN
OUTRIDER 1.8.0  (landing page)
Christian Mertes
Last Commit: ab85565
Last Changed Date: 2020-10-27 11:37:07 -0400
malbec1Linux (Ubuntu 18.04.5 LTS) / x86_64  OK    OK    OK  UNNEEDED, same version exists in internal repository
tokay1Windows Server 2012 R2 Standard / x64  OK    OK    OK    OK  UNNEEDED, same version exists in internal repository
merida1macOS 10.14.6 Mojave / x86_64  OK    OK    OK    OK  UNNEEDED, same version exists in internal repository
Package 155/238HostnameOS / ArchINSTALLBUILDCHECKBUILD BIN
OVESEG 1.6.0  (landing page)
Lulu Chen
Last Commit: 5809f13
Last Changed Date: 2020-10-27 11:41:44 -0400
malbec1Linux (Ubuntu 18.04.5 LTS) / x86_64  OK    OK    OK  UNNEEDED, same version exists in internal repository
tokay1Windows Server 2012 R2 Standard / x64  OK    OK    OK    OK  UNNEEDED, same version exists in internal repository
merida1macOS 10.14.6 Mojave / x86_64  OK    OK    OK    OK  UNNEEDED, same version exists in internal repository
Package 156/238HostnameOS / ArchINSTALLBUILDCHECKBUILD BIN
PAIRADISE 1.6.0  (landing page)
Qiang Hu , Levon Demirdjian
Last Commit: 130c6dc
Last Changed Date: 2020-10-27 11:41:40 -0400
malbec1Linux (Ubuntu 18.04.5 LTS) / x86_64  OK    OK    OK  UNNEEDED, same version exists in internal repository
tokay1Windows Server 2012 R2 Standard / x64  OK    OK    OK    OK  UNNEEDED, same version exists in internal repository
merida1macOS 10.14.6 Mojave / x86_64  OK    OK    OK    OK  UNNEEDED, same version exists in internal repository
Package 157/238HostnameOS / ArchINSTALLBUILDCHECKBUILD BIN
PCAN 1.18.0  (landing page)
Matthew Page and Patrice Godard
Last Commit: 05cdf32
Last Changed Date: 2020-10-27 11:12:13 -0400
malbec1Linux (Ubuntu 18.04.5 LTS) / x86_64  OK    OK    OK  UNNEEDED, same version exists in internal repository
tokay1Windows Server 2012 R2 Standard / x64  OK    OK    TIMEOUT    OK  
merida1macOS 10.14.6 Mojave / x86_64  OK    OK    OK    OK  UNNEEDED, same version exists in internal repository
Package 158/238HostnameOS / ArchINSTALLBUILDCHECKBUILD BIN
PCAtools 2.2.0  (landing page)
Kevin Blighe
Last Commit: 5dfce3b
Last Changed Date: 2020-10-27 11:41:37 -0400
malbec1Linux (Ubuntu 18.04.5 LTS) / x86_64  OK    OK    OK  UNNEEDED, same version exists in internal repository
tokay1Windows Server 2012 R2 Standard / x64  OK    OK    OK    OK  UNNEEDED, same version exists in internal repository
merida1macOS 10.14.6 Mojave / x86_64  OK    OK    OK    OK  UNNEEDED, same version exists in internal repository
Package 159/238HostnameOS / ArchINSTALLBUILDCHECKBUILD BIN
periodicDNA 1.0.0  (landing page)
Jacques Serizay
Last Commit: f4416e8
Last Changed Date: 2020-10-27 12:00:35 -0400
malbec1Linux (Ubuntu 18.04.5 LTS) / x86_64  OK    OK    OK  UNNEEDED, same version exists in internal repository
tokay1Windows Server 2012 R2 Standard / x64  OK    OK    OK    OK  UNNEEDED, same version exists in internal repository
merida1macOS 10.14.6 Mojave / x86_64  OK    OK    OK    OK  UNNEEDED, same version exists in internal repository
Package 160/238HostnameOS / ArchINSTALLBUILDCHECKBUILD BIN
PharmacoGx 2.2.4  (landing page)
Benjamin Haibe-Kains
Last Commit: 30c7992
Last Changed Date: 2021-02-26 10:16:30 -0400
malbec1Linux (Ubuntu 18.04.5 LTS) / x86_64  OK    OK    WARNINGS  UNNEEDED, same version exists in internal repository
tokay1Windows Server 2012 R2 Standard / x64  OK    OK    WARNINGS    OK  UNNEEDED, same version exists in internal repository
merida1macOS 10.14.6 Mojave / x86_64  OK    OK    WARNINGS    OK  UNNEEDED, same version exists in internal repository
Package 161/238HostnameOS / ArchINSTALLBUILDCHECKBUILD BIN
pipeComp 1.0.0  (landing page)
Pierre-Luc Germain
Last Commit: 6539449
Last Changed Date: 2020-10-27 11:58:26 -0400
malbec1Linux (Ubuntu 18.04.5 LTS) / x86_64  OK    OK    OK  UNNEEDED, same version exists in internal repository
tokay1Windows Server 2012 R2 Standard / x64  OK    OK    OK    OK  UNNEEDED, same version exists in internal repository
merida1macOS 10.14.6 Mojave / x86_64  OK    OK    OK    OK  UNNEEDED, same version exists in internal repository
Package 162/238HostnameOS / ArchINSTALLBUILDCHECKBUILD BIN
pram 1.6.0  (landing page)
Peng Liu
Last Commit: 2a91c54
Last Changed Date: 2020-10-27 11:43:36 -0400
malbec1Linux (Ubuntu 18.04.5 LTS) / x86_64  OK    OK    OK  UNNEEDED, same version exists in internal repository
tokay1Windows Server 2012 R2 Standard / x64  OK    OK    OK    OK  UNNEEDED, same version exists in internal repository
merida1macOS 10.14.6 Mojave / x86_64  OK    OK    OK    OK  UNNEEDED, same version exists in internal repository
Package 163/238HostnameOS / ArchINSTALLBUILDCHECKBUILD BIN
PrecisionTrialDrawer 1.6.0  (landing page)
Giorgio Melloni
Last Commit: 4d8e877
Last Changed Date: 2020-10-27 11:41:04 -0400
malbec1Linux (Ubuntu 18.04.5 LTS) / x86_64  OK    OK    OK  UNNEEDED, same version exists in internal repository
tokay1Windows Server 2012 R2 Standard / x64  OK    OK    OK    OK  UNNEEDED, same version exists in internal repository
merida1macOS 10.14.6 Mojave / x86_64  OK    OK    OK    OK  UNNEEDED, same version exists in internal repository
Package 164/238HostnameOS / ArchINSTALLBUILDCHECKBUILD BIN
proActiv 1.0.0  (landing page)
Joseph Lee
Last Commit: a9bc3ac
Last Changed Date: 2020-10-27 12:00:53 -0400
malbec1Linux (Ubuntu 18.04.5 LTS) / x86_64  OK    OK    OK  UNNEEDED, same version exists in internal repository
tokay1Windows Server 2012 R2 Standard / x64  OK    OK    OK    OK  UNNEEDED, same version exists in internal repository
merida1macOS 10.14.6 Mojave / x86_64  OK    OK    OK    OK  UNNEEDED, same version exists in internal repository
Package 165/238HostnameOS / ArchINSTALLBUILDCHECKBUILD BIN
proFIA 1.16.3  (landing page)
Alexis Delabriere
Last Commit: 05b5c61
Last Changed Date: 2021-03-19 03:17:36 -0400
malbec1Linux (Ubuntu 18.04.5 LTS) / x86_64  OK    OK    WARNINGS  UNNEEDED, same version exists in internal repository
tokay1Windows Server 2012 R2 Standard / x64  OK    OK    WARNINGS    OK  UNNEEDED, same version exists in internal repository
merida1macOS 10.14.6 Mojave / x86_64  OK    OK    WARNINGS    OK  UNNEEDED, same version exists in internal repository
Package 166/238HostnameOS / ArchINSTALLBUILDCHECKBUILD BIN
profileplyr 1.6.0  (landing page)
Tom Carroll , Doug Barrows
Last Commit: 6b87625
Last Changed Date: 2020-10-27 11:44:50 -0400
malbec1Linux (Ubuntu 18.04.5 LTS) / x86_64  OK    OK    WARNINGS  UNNEEDED, same version exists in internal repository
tokay1Windows Server 2012 R2 Standard / x64  OK    OK    WARNINGS    OK  UNNEEDED, same version exists in internal repository
merida1macOS 10.14.6 Mojave / x86_64  OK    OK    WARNINGS    OK  UNNEEDED, same version exists in internal repository
Package 167/238HostnameOS / ArchINSTALLBUILDCHECKBUILD BIN
pRoloc 1.30.0  (landing page)
Laurent Gatto
Last Commit: 9a69c5a
Last Changed Date: 2020-10-27 10:48:13 -0400
malbec1Linux (Ubuntu 18.04.5 LTS) / x86_64  OK    OK    OK  UNNEEDED, same version exists in internal repository
tokay1Windows Server 2012 R2 Standard / x64  OK    OK    WARNINGS    OK  UNNEEDED, same version exists in internal repository
merida1macOS 10.14.6 Mojave / x86_64  OK    OK    ERROR    OK  
Package 168/238HostnameOS / ArchINSTALLBUILDCHECKBUILD BIN
qpgraph 2.24.3  (landing page)
Robert Castelo
Last Commit: 38302eb
Last Changed Date: 2021-01-08 02:28:45 -0400
malbec1Linux (Ubuntu 18.04.5 LTS) / x86_64  OK    OK    WARNINGS  UNNEEDED, same version exists in internal repository
tokay1Windows Server 2012 R2 Standard / x64  OK    OK    WARNINGS    OK  UNNEEDED, same version exists in internal repository
merida1macOS 10.14.6 Mojave / x86_64  OK    OK    WARNINGS    OK  UNNEEDED, same version exists in internal repository
Package 169/238HostnameOS / ArchINSTALLBUILDCHECKBUILD BIN
qsea 1.16.0  (landing page)
Matthias Lienhard
Last Commit: d0e6ac0
Last Changed Date: 2020-10-27 11:15:42 -0400
malbec1Linux (Ubuntu 18.04.5 LTS) / x86_64  OK    OK    OK  UNNEEDED, same version exists in internal repository
tokay1Windows Server 2012 R2 Standard / x64  OK    OK    OK    OK  UNNEEDED, same version exists in internal repository
merida1macOS 10.14.6 Mojave / x86_64  OK    OK    OK    OK  UNNEEDED, same version exists in internal repository
Package 170/238HostnameOS / ArchINSTALLBUILDCHECKBUILD BIN
QuasR 1.30.0  (landing page)
Michael Stadler
Last Commit: 1b9d992
Last Changed Date: 2020-10-27 10:48:46 -0400
malbec1Linux (Ubuntu 18.04.5 LTS) / x86_64  OK    OK    OK  UNNEEDED, same version exists in internal repository
tokay1Windows Server 2012 R2 Standard / x64  OK    OK    OK    OK  UNNEEDED, same version exists in internal repository
merida1macOS 10.14.6 Mojave / x86_64  OK    OK    OK    OK  UNNEEDED, same version exists in internal repository
Package 171/238HostnameOS / ArchINSTALLBUILDCHECKBUILD BIN
RadioGx 1.0.0  (landing page)
Benjamin Haibe-Kains
Last Commit: 54fe743
Last Changed Date: 2020-10-27 11:58:11 -0400
malbec1Linux (Ubuntu 18.04.5 LTS) / x86_64  OK    OK    OK  UNNEEDED, same version exists in internal repository
tokay1Windows Server 2012 R2 Standard / x64  OK    OK    OK    OK  UNNEEDED, same version exists in internal repository
merida1macOS 10.14.6 Mojave / x86_64  OK    OK    OK    OK  UNNEEDED, same version exists in internal repository
Package 172/238HostnameOS / ArchINSTALLBUILDCHECKBUILD BIN
Rcwl 1.6.0  (landing page)
Qiang Hu
Last Commit: 54e6062
Last Changed Date: 2020-10-27 11:42:37 -0400
malbec1Linux (Ubuntu 18.04.5 LTS) / x86_64  OK    OK    OK  UNNEEDED, same version exists in internal repository
tokay1Windows Server 2012 R2 Standard / x64... NOT SUPPORTED ...
merida1macOS 10.14.6 Mojave / x86_64  OK    OK    OK    OK  UNNEEDED, same version exists in internal repository
Package 173/238HostnameOS / ArchINSTALLBUILDCHECKBUILD BIN
recount 1.16.1  (landing page)
Leonardo Collado-Torres
Last Commit: 002d29b
Last Changed Date: 2020-12-18 19:46:09 -0400
malbec1Linux (Ubuntu 18.04.5 LTS) / x86_64  OK    OK    OK  UNNEEDED, same version exists in internal repository
tokay1Windows Server 2012 R2 Standard / x64  OK    OK    OK    OK  UNNEEDED, same version exists in internal repository
merida1macOS 10.14.6 Mojave / x86_64  OK    OK    OK    OK  UNNEEDED, same version exists in internal repository
Package 174/238HostnameOS / ArchINSTALLBUILDCHECKBUILD BIN
RegEnrich 1.0.1  (landing page)
Weiyang Tao
Last Commit: bd81547
Last Changed Date: 2021-03-04 15:34:24 -0400
malbec1Linux (Ubuntu 18.04.5 LTS) / x86_64  OK    OK    OK  UNNEEDED, same version exists in internal repository
tokay1Windows Server 2012 R2 Standard / x64  OK    OK    OK    OK  UNNEEDED, same version exists in internal repository
merida1macOS 10.14.6 Mojave / x86_64  OK    OK    OK    OK  UNNEEDED, same version exists in internal repository
Package 175/238HostnameOS / ArchINSTALLBUILDCHECKBUILD BIN
REMP 1.14.0  (landing page)
Yinan Zheng
Last Commit: cdf19ff
Last Changed Date: 2020-10-27 11:21:28 -0400
malbec1Linux (Ubuntu 18.04.5 LTS) / x86_64  OK    OK    OK  UNNEEDED, same version exists in internal repository
tokay1Windows Server 2012 R2 Standard / x64  OK    OK    OK    OK  UNNEEDED, same version exists in internal repository
merida1macOS 10.14.6 Mojave / x86_64  OK    OK    OK    OK  UNNEEDED, same version exists in internal repository
Package 176/238HostnameOS / ArchINSTALLBUILDCHECKBUILD BIN
RJMCMCNucleosomes 1.14.0  (landing page)
Astrid Deschênes
Last Commit: 1638992
Last Changed Date: 2020-10-27 11:20:36 -0400
malbec1Linux (Ubuntu 18.04.5 LTS) / x86_64  OK    OK    OK  UNNEEDED, same version exists in internal repository
tokay1Windows Server 2012 R2 Standard / x64  OK    OK    OK    OK  UNNEEDED, same version exists in internal repository
merida1macOS 10.14.6 Mojave / x86_64  OK    OK    OK    OK  UNNEEDED, same version exists in internal repository
Package 177/238HostnameOS / ArchINSTALLBUILDCHECKBUILD BIN
RNAmodR 1.4.2  (landing page)
Felix G.M. Ernst
Last Commit: facd587
Last Changed Date: 2020-12-12 16:58:02 -0400
malbec1Linux (Ubuntu 18.04.5 LTS) / x86_64  OK    OK    OK  UNNEEDED, same version exists in internal repository
tokay1Windows Server 2012 R2 Standard / x64  OK    OK    OK    OK  UNNEEDED, same version exists in internal repository
merida1macOS 10.14.6 Mojave / x86_64  OK    OK    OK    OK  UNNEEDED, same version exists in internal repository
Package 178/238HostnameOS / ArchINSTALLBUILDCHECKBUILD BIN
Rqc 1.24.0  (landing page)
Welliton Souza
Last Commit: bf3c098
Last Changed Date: 2020-10-27 11:00:42 -0400
malbec1Linux (Ubuntu 18.04.5 LTS) / x86_64  OK    OK    OK  UNNEEDED, same version exists in internal repository
tokay1Windows Server 2012 R2 Standard / x64  OK    OK    WARNINGS    OK  UNNEEDED, same version exists in internal repository
merida1macOS 10.14.6 Mojave / x86_64  OK    OK    OK    OK  UNNEEDED, same version exists in internal repository
Package 179/238HostnameOS / ArchINSTALLBUILDCHECKBUILD BIN
Rsamtools 2.6.0  (landing page)
Bioconductor Package Maintainer
Last Commit: f2aea06
Last Changed Date: 2020-10-27 10:37:52 -0400
malbec1Linux (Ubuntu 18.04.5 LTS) / x86_64  OK    OK    WARNINGS  UNNEEDED, same version exists in internal repository
tokay1Windows Server 2012 R2 Standard / x64  OK    OK    WARNINGS    OK  UNNEEDED, same version exists in internal repository
merida1macOS 10.14.6 Mojave / x86_64  OK    OK    WARNINGS    OK  UNNEEDED, same version exists in internal repository
Package 180/238HostnameOS / ArchINSTALLBUILDCHECKBUILD BIN
RUVcorr 1.22.0  (landing page)
Saskia Freytag
Last Commit: 714b1a0
Last Changed Date: 2020-10-27 11:04:24 -0400
malbec1Linux (Ubuntu 18.04.5 LTS) / x86_64  OK    OK    OK  UNNEEDED, same version exists in internal repository
tokay1Windows Server 2012 R2 Standard / x64  OK    OK    OK    OK  UNNEEDED, same version exists in internal repository
merida1macOS 10.14.6 Mojave / x86_64  OK    OK    OK    OK  UNNEEDED, same version exists in internal repository
Package 181/238HostnameOS / ArchINSTALLBUILDCHECKBUILD BIN
scater 1.18.6  (landing page)
Alan O'Callaghan
Last Commit: 813ccd0
Last Changed Date: 2021-02-25 19:11:31 -0400
malbec1Linux (Ubuntu 18.04.5 LTS) / x86_64  OK    OK    OK  UNNEEDED, same version exists in internal repository
tokay1Windows Server 2012 R2 Standard / x64  OK    OK    WARNINGS    OK  UNNEEDED, same version exists in internal repository
merida1macOS 10.14.6 Mojave / x86_64  OK    OK    OK    OK  UNNEEDED, same version exists in internal repository
Package 182/238HostnameOS / ArchINSTALLBUILDCHECKBUILD BIN
scClassify 1.2.0  (landing page)
Yingxin Lin
Last Commit: bae755d
Last Changed Date: 2020-10-27 11:56:17 -0400
malbec1Linux (Ubuntu 18.04.5 LTS) / x86_64  OK    OK    OK  UNNEEDED, same version exists in internal repository
tokay1Windows Server 2012 R2 Standard / x64  OK    OK    OK    OK  UNNEEDED, same version exists in internal repository
merida1macOS 10.14.6 Mojave / x86_64  OK    OK    OK    OK  UNNEEDED, same version exists in internal repository
Package 183/238HostnameOS / ArchINSTALLBUILDCHECKBUILD BIN
scDblFinder 1.4.0  (landing page)
Pierre-Luc Germain
Last Commit: b3dd92a
Last Changed Date: 2020-10-27 11:51:03 -0400
malbec1Linux (Ubuntu 18.04.5 LTS) / x86_64  OK    OK    WARNINGS  UNNEEDED, same version exists in internal repository
tokay1Windows Server 2012 R2 Standard / x64  OK    OK    WARNINGS    OK  UNNEEDED, same version exists in internal repository
merida1macOS 10.14.6 Mojave / x86_64  OK    OK    WARNINGS    OK  UNNEEDED, same version exists in internal repository
Package 184/238HostnameOS / ArchINSTALLBUILDCHECKBUILD BIN
scDD 1.14.0  (landing page)
Keegan Korthauer
Last Commit: 07bb642
Last Changed Date: 2020-10-27 11:20:23 -0400
malbec1Linux (Ubuntu 18.04.5 LTS) / x86_64  OK    OK    OK  UNNEEDED, same version exists in internal repository
tokay1Windows Server 2012 R2 Standard / x64  OK    OK    OK    OK  UNNEEDED, same version exists in internal repository
merida1macOS 10.14.6 Mojave / x86_64  OK    OK    OK    OK  UNNEEDED, same version exists in internal repository
Package 185/238HostnameOS / ArchINSTALLBUILDCHECKBUILD BIN
scde 2.18.0  (landing page)
Jean Fan
Last Commit: 34da197
Last Changed Date: 2020-10-27 11:09:27 -0400
malbec1Linux (Ubuntu 18.04.5 LTS) / x86_64  OK    OK    WARNINGS  UNNEEDED, same version exists in internal repository
tokay1Windows Server 2012 R2 Standard / x64  OK    OK    WARNINGS    OK  UNNEEDED, same version exists in internal repository
merida1macOS 10.14.6 Mojave / x86_64  OK    OK    WARNINGS    OK  UNNEEDED, same version exists in internal repository
Package 186/238HostnameOS / ArchINSTALLBUILDCHECKBUILD BIN
SCFA 1.0.0  (landing page)
Duc Tran
Last Commit: 5b7b596
Last Changed Date: 2020-10-27 12:03:11 -0400
malbec1Linux (Ubuntu 18.04.5 LTS) / x86_64  OK    OK    OK  UNNEEDED, same version exists in internal repository
tokay1Windows Server 2012 R2 Standard / x64  OK    OK    OK    OK  UNNEEDED, same version exists in internal repository
merida1macOS 10.14.6 Mojave / x86_64  OK    OK    OK    OK  UNNEEDED, same version exists in internal repository
Package 187/238HostnameOS / ArchINSTALLBUILDCHECKBUILD BIN
scHOT 1.2.0  (landing page)
Shila Ghazanfar
Last Commit: 56cf7fb
Last Changed Date: 2020-10-27 11:55:45 -0400
malbec1Linux (Ubuntu 18.04.5 LTS) / x86_64  OK    OK    OK  UNNEEDED, same version exists in internal repository
tokay1Windows Server 2012 R2 Standard / x64  OK    OK    OK    OK  UNNEEDED, same version exists in internal repository
merida1macOS 10.14.6 Mojave / x86_64  OK    OK    OK    OK  UNNEEDED, same version exists in internal repository
Package 188/238HostnameOS / ArchINSTALLBUILDCHECKBUILD BIN
scMerge 1.6.0  (landing page)
Yingxin Lin
Last Commit: 4d04879
Last Changed Date: 2020-10-27 11:45:43 -0400
malbec1Linux (Ubuntu 18.04.5 LTS) / x86_64  OK    OK    OK  UNNEEDED, same version exists in internal repository
tokay1Windows Server 2012 R2 Standard / x64  OK    OK    OK    OK  UNNEEDED, same version exists in internal repository
merida1macOS 10.14.6 Mojave / x86_64  OK    OK    OK    OK  UNNEEDED, same version exists in internal repository
Package 189/238HostnameOS / ArchINSTALLBUILDCHECKBUILD BIN
SCnorm 1.12.1  (landing page)
Rhonda Bacher
Last Commit: 7371f80
Last Changed Date: 2021-04-21 22:40:21 -0400
malbec1Linux (Ubuntu 18.04.5 LTS) / x86_64  OK    OK    OK  UNNEEDED, same version exists in internal repository
tokay1Windows Server 2012 R2 Standard / x64  OK    OK    OK    OK  UNNEEDED, same version exists in internal repository
merida1macOS 10.14.6 Mojave / x86_64  OK    OK    OK    OK  UNNEEDED, same version exists in internal repository
Package 190/238HostnameOS / ArchINSTALLBUILDCHECKBUILD BIN
scone 1.14.0  (landing page)
Davide Risso
Last Commit: 3fa8d6b
Last Changed Date: 2020-10-27 11:20:29 -0400
malbec1Linux (Ubuntu 18.04.5 LTS) / x86_64  OK    OK    OK  UNNEEDED, same version exists in internal repository
tokay1Windows Server 2012 R2 Standard / x64  OK    OK    WARNINGS    OK  UNNEEDED, same version exists in internal repository
merida1macOS 10.14.6 Mojave / x86_64  OK    OK    OK    OK  UNNEEDED, same version exists in internal repository
Package 191/238HostnameOS / ArchINSTALLBUILDCHECKBUILD BIN
scoreInvHap 1.12.1  (landing page)
Carlos Ruiz
Last Commit: a604ad1
Last Changed Date: 2021-02-04 14:00:13 -0400
malbec1Linux (Ubuntu 18.04.5 LTS) / x86_64  OK    OK    OK  UNNEEDED, same version exists in internal repository
tokay1Windows Server 2012 R2 Standard / x64  OK    OK    OK    OK  UNNEEDED, same version exists in internal repository
merida1macOS 10.14.6 Mojave / x86_64  OK    OK    OK    OK  UNNEEDED, same version exists in internal repository
Package 192/238HostnameOS / ArchINSTALLBUILDCHECKBUILD BIN
scPCA 1.4.0  (landing page)
Philippe Boileau
Last Commit: 776cd89
Last Changed Date: 2020-10-27 11:51:06 -0400
malbec1Linux (Ubuntu 18.04.5 LTS) / x86_64  OK    OK    OK  UNNEEDED, same version exists in internal repository
tokay1Windows Server 2012 R2 Standard / x64  OK    OK    OK    OK  UNNEEDED, same version exists in internal repository
merida1macOS 10.14.6 Mojave / x86_64  OK    OK    OK    OK  UNNEEDED, same version exists in internal repository
Package 193/238HostnameOS / ArchINSTALLBUILDCHECKBUILD BIN
scran 1.18.7  (landing page)
Aaron Lun
Last Commit: 5849abc
Last Changed Date: 2021-04-16 03:30:33 -0400
malbec1Linux (Ubuntu 18.04.5 LTS) / x86_64  OK    OK    WARNINGS  UNNEEDED, same version exists in internal repository
tokay1Windows Server 2012 R2 Standard / x64  OK    OK    WARNINGS    OK  UNNEEDED, same version exists in internal repository
merida1macOS 10.14.6 Mojave / x86_64  OK    OK    WARNINGS    OK  UNNEEDED, same version exists in internal repository
Package 194/238HostnameOS / ArchINSTALLBUILDCHECKBUILD BIN
scRecover 1.6.0  (landing page)
Zhun Miao
Last Commit: 07112e2
Last Changed Date: 2020-10-27 11:45:04 -0400
malbec1Linux (Ubuntu 18.04.5 LTS) / x86_64  OK    OK    OK  UNNEEDED, same version exists in internal repository
tokay1Windows Server 2012 R2 Standard / x64  OK    OK    OK    OK  UNNEEDED, same version exists in internal repository
merida1macOS 10.14.6 Mojave / x86_64  OK    OK    OK    OK  UNNEEDED, same version exists in internal repository
Package 195/238HostnameOS / ArchINSTALLBUILDCHECKBUILD BIN
scruff 1.8.3  (landing page)
Zhe Wang
Last Commit: 371fab0
Last Changed Date: 2021-02-11 12:03:52 -0400
malbec1Linux (Ubuntu 18.04.5 LTS) / x86_64  OK    OK    OK  UNNEEDED, same version exists in internal repository
tokay1Windows Server 2012 R2 Standard / x64  OK    OK    OK    OK  UNNEEDED, same version exists in internal repository
merida1macOS 10.14.6 Mojave / x86_64  OK    OK    OK    OK  UNNEEDED, same version exists in internal repository
Package 196/238HostnameOS / ArchINSTALLBUILDCHECKBUILD BIN
scTHI 1.2.0  (landing page)
Michele Ceccarelli
Last Commit: 6e2dcad
Last Changed Date: 2020-10-27 11:54:06 -0400
malbec1Linux (Ubuntu 18.04.5 LTS) / x86_64  OK    OK    OK  UNNEEDED, same version exists in internal repository
tokay1Windows Server 2012 R2 Standard / x64  OK    OK    OK    OK  UNNEEDED, same version exists in internal repository
merida1macOS 10.14.6 Mojave / x86_64  OK    OK    OK    OK  UNNEEDED, same version exists in internal repository
Package 197/238HostnameOS / ArchINSTALLBUILDCHECKBUILD BIN
scuttle 1.0.4  (landing page)
Aaron Lun
Last Commit: a827e27
Last Changed Date: 2020-12-17 02:50:00 -0400
malbec1Linux (Ubuntu 18.04.5 LTS) / x86_64  OK    OK    OK  UNNEEDED, same version exists in internal repository
tokay1Windows Server 2012 R2 Standard / x64  OK    OK    OK    OK  UNNEEDED, same version exists in internal repository
merida1macOS 10.14.6 Mojave / x86_64  OK    OK    OK    OK  UNNEEDED, same version exists in internal repository
Package 198/238HostnameOS / ArchINSTALLBUILDCHECKBUILD BIN
sesame 1.8.12  (landing page)
Wanding Zhou
Last Commit: 37a1f75
Last Changed Date: 2021-04-29 15:57:06 -0400
malbec1Linux (Ubuntu 18.04.5 LTS) / x86_64  OK    OK    OK  UNNEEDED, same version exists in internal repository
tokay1Windows Server 2012 R2 Standard / x64  OK    ERROR  skippedskipped
merida1macOS 10.14.6 Mojave / x86_64  OK    OK    OK    OK  UNNEEDED, same version exists in internal repository
Package 199/238HostnameOS / ArchINSTALLBUILDCHECKBUILD BIN
SEtools 1.4.0  (landing page)
Pierre-Luc Germain
Last Commit: 035e0cc
Last Changed Date: 2020-10-27 11:49:14 -0400
malbec1Linux (Ubuntu 18.04.5 LTS) / x86_64  OK    OK    WARNINGS  UNNEEDED, same version exists in internal repository
tokay1Windows Server 2012 R2 Standard / x64  OK    OK    WARNINGS    OK  UNNEEDED, same version exists in internal repository
merida1macOS 10.14.6 Mojave / x86_64  OK    OK    WARNINGS    OK  UNNEEDED, same version exists in internal repository
Package 200/238HostnameOS / ArchINSTALLBUILDCHECKBUILD BIN
ShortRead 1.48.0  (landing page)
Bioconductor Package Maintainer
Last Commit: ba44cd2
Last Changed Date: 2020-10-27 10:33:27 -0400
malbec1Linux (Ubuntu 18.04.5 LTS) / x86_64  OK    OK    WARNINGS  UNNEEDED, same version exists in internal repository
tokay1Windows Server 2012 R2 Standard / x64  OK    OK    WARNINGS    OK  UNNEEDED, same version exists in internal repository
merida1macOS 10.14.6 Mojave / x86_64  OK    OK    OK    OK  UNNEEDED, same version exists in internal repository
Package 201/238HostnameOS / ArchINSTALLBUILDCHECKBUILD BIN
SigCheck 2.22.0  (landing page)
Rory Stark
Last Commit: 8ab64bf
Last Changed Date: 2020-10-27 11:00:04 -0400
malbec1Linux (Ubuntu 18.04.5 LTS) / x86_64  OK    OK    OK  UNNEEDED, same version exists in internal repository
tokay1Windows Server 2012 R2 Standard / x64  OK    OK    OK    OK  UNNEEDED, same version exists in internal repository
merida1macOS 10.14.6 Mojave / x86_64  OK    OK    OK    OK  UNNEEDED, same version exists in internal repository
Package 202/238HostnameOS / ArchINSTALLBUILDCHECKBUILD BIN
sigFeature 1.8.0  (landing page)
Pijush Das Developer
Last Commit: dbdde92
Last Changed Date: 2020-10-27 11:35:49 -0400
malbec1Linux (Ubuntu 18.04.5 LTS) / x86_64  OK    OK    OK  UNNEEDED, same version exists in internal repository
tokay1Windows Server 2012 R2 Standard / x64  OK    OK    OK    OK  UNNEEDED, same version exists in internal repository
merida1macOS 10.14.6 Mojave / x86_64  OK    OK    OK    OK  UNNEEDED, same version exists in internal repository
Package 203/238HostnameOS / ArchINSTALLBUILDCHECKBUILD BIN
signatureSearch 1.4.6  (landing page)
Yuzhu Duan
Last Commit: 0befcb1
Last Changed Date: 2021-04-23 09:29:56 -0400
malbec1Linux (Ubuntu 18.04.5 LTS) / x86_64  OK    OK    OK  UNNEEDED, same version exists in internal repository
tokay1Windows Server 2012 R2 Standard / x64  OK    OK    OK    OK  UNNEEDED, same version exists in internal repository
merida1macOS 10.14.6 Mojave / x86_64  OK    OK    OK    OK  UNNEEDED, same version exists in internal repository
Package 204/238HostnameOS / ArchINSTALLBUILDCHECKBUILD BIN
singleCellTK 2.0.0  (landing page)
Yusuke Koga
Last Commit: e97b135
Last Changed Date: 2020-10-27 11:34:50 -0400
malbec1Linux (Ubuntu 18.04.5 LTS) / x86_64  OK    OK    ERROR  
tokay1Windows Server 2012 R2 Standard / x64  OK    OK    ERROR    OK  
merida1macOS 10.14.6 Mojave / x86_64  OK    OK    ERROR    OK  
Package 205/238HostnameOS / ArchINSTALLBUILDCHECKBUILD BIN
SingleR 1.4.1  (landing page)
Aaron Lun
Last Commit: 5b9704c
Last Changed Date: 2021-02-02 03:46:49 -0400
malbec1Linux (Ubuntu 18.04.5 LTS) / x86_64  OK    OK    OK  UNNEEDED, same version exists in internal repository
tokay1Windows Server 2012 R2 Standard / x64  OK    OK    WARNINGS    OK  UNNEEDED, same version exists in internal repository
merida1macOS 10.14.6 Mojave / x86_64  OK    OK    OK    OK  UNNEEDED, same version exists in internal repository
Package 206/238HostnameOS / ArchINSTALLBUILDCHECKBUILD BIN
singscore 1.10.0  (landing page)
Dharmesh D. Bhuva
Last Commit: 485b0c1
Last Changed Date: 2020-10-27 11:35:14 -0400
malbec1Linux (Ubuntu 18.04.5 LTS) / x86_64  OK    OK    OK  UNNEEDED, same version exists in internal repository
tokay1Windows Server 2012 R2 Standard / x64  OK    OK    OK    OK  UNNEEDED, same version exists in internal repository
merida1macOS 10.14.6 Mojave / x86_64