Back to Multiple platform build/check report for BioC 3.12
A[B]CDEFGHIJKLMNOPQRSTUVWXYZ

BUILD report for BioNetStat on merida1

This page was generated on 2021-05-05 12:13:50 -0400 (Wed, 05 May 2021).

To the developers/maintainers of the BioNetStat package:
Please make sure to use the following settings in order to reproduce any error or warning you see on this page.
Package 183/1974HostnameOS / ArchINSTALLBUILDCHECKBUILD BIN
BioNetStat 1.10.5  (landing page)
Vinicius Jardim
Snapshot Date: 2021-05-04 14:50:13 -0400 (Tue, 04 May 2021)
URL: https://git.bioconductor.org/packages/BioNetStat
Branch: RELEASE_3_12
Last Commit: 14777c5
Last Changed Date: 2021-04-28 21:01:44 -0400 (Wed, 28 Apr 2021)
malbec1Linux (Ubuntu 18.04.5 LTS) / x86_64  OK    OK    OK  UNNEEDED, same version exists in internal repository
tokay1Windows Server 2012 R2 Standard / x64  OK    OK    OK    OK  UNNEEDED, same version exists in internal repository
merida1macOS 10.14.6 Mojave / x86_64  OK    OK    OK    OK  UNNEEDED, same version exists in internal repository

Summary

Package: BioNetStat
Version: 1.10.5
Command: /Library/Frameworks/R.framework/Versions/Current/Resources/bin/R CMD build --keep-empty-dirs --no-resave-data BioNetStat
StartedAt: 2021-05-04 18:25:19 -0400 (Tue, 04 May 2021)
EndedAt: 2021-05-04 18:25:59 -0400 (Tue, 04 May 2021)
EllapsedTime: 40.5 seconds
RetCode: 0
Status:   OK  
PackageFile: BioNetStat_1.10.5.tar.gz
PackageFileSize: 2.877 MiB

Command output

##############################################################################
##############################################################################
###
### Running command:
###
###   /Library/Frameworks/R.framework/Versions/Current/Resources/bin/R CMD build --keep-empty-dirs --no-resave-data BioNetStat
###
##############################################################################
##############################################################################


* checking for file ‘BioNetStat/DESCRIPTION’ ... OK
* preparing ‘BioNetStat’:
* checking DESCRIPTION meta-information ... OK
* installing the package to build vignettes
* creating vignettes ... OK
* checking for LF line-endings in source and make files and shell scripts
* checking for empty or unneeded directories
* looking to see if a ‘data/datalist’ file should be added
* building ‘BioNetStat_1.10.5.tar.gz’