Back to Multiple platform build/check report for BioC 3.12
A[B]CDEFGHIJKLMNOPQRSTUVWXYZ

BUILD BIN report for BeadDataPackR on tokay1

This page was generated on 2021-05-05 12:11:22 -0400 (Wed, 05 May 2021).

To the developers/maintainers of the BeadDataPackR package:
Please make sure to use the following settings in order to reproduce any error or warning you see on this page.
Package 136/1974HostnameOS / ArchINSTALLBUILDCHECKBUILD BIN
BeadDataPackR 1.42.0  (landing page)
Mike Smith
Snapshot Date: 2021-05-04 14:50:13 -0400 (Tue, 04 May 2021)
URL: https://git.bioconductor.org/packages/BeadDataPackR
Branch: RELEASE_3_12
Last Commit: 95371b9
Last Changed Date: 2020-10-27 10:37:45 -0400 (Tue, 27 Oct 2020)
malbec1Linux (Ubuntu 18.04.5 LTS) / x86_64  OK    OK    OK  UNNEEDED, same version exists in internal repository
tokay1Windows Server 2012 R2 Standard / x64  OK    OK    OK    OK  UNNEEDED, same version exists in internal repository
merida1macOS 10.14.6 Mojave / x86_64  OK    OK    OK    OK  UNNEEDED, same version exists in internal repository

Summary

Package: BeadDataPackR
Version: 1.42.0
Command: rm -rf BeadDataPackR.buildbin-libdir && mkdir BeadDataPackR.buildbin-libdir && C:\Users\biocbuild\bbs-3.12-bioc\R\bin\R.exe CMD INSTALL --merge-multiarch --build --library=BeadDataPackR.buildbin-libdir BeadDataPackR_1.42.0.tar.gz
StartedAt: 2021-05-05 08:34:08 -0400 (Wed, 05 May 2021)
EndedAt: 2021-05-05 08:34:20 -0400 (Wed, 05 May 2021)
EllapsedTime: 12.2 seconds
RetCode: 0
Status:   OK   
PackageFile: BeadDataPackR_1.42.0.zip
PackageFileSize: 304.3 KiB

Command output

##############################################################################
##############################################################################
###
### Running command:
###
###   rm -rf BeadDataPackR.buildbin-libdir && mkdir BeadDataPackR.buildbin-libdir && C:\Users\biocbuild\bbs-3.12-bioc\R\bin\R.exe CMD INSTALL --merge-multiarch --build --library=BeadDataPackR.buildbin-libdir BeadDataPackR_1.42.0.tar.gz
###
##############################################################################
##############################################################################



install for i386

* installing *source* package 'BeadDataPackR' ...
** using staged installation
** libs
"C:/rtools40/mingw32/bin/"gcc  -I"C:/Users/BIOCBU~1/BBS-3~1.12-/R/include" -DNDEBUG     -I"C:/extsoft/include"     -O2 -Wall  -std=gnu99 -mfpmath=sse -msse2 -mstackrealign -c BeadDataPackR.c -o BeadDataPackR.o
"C:/rtools40/mingw32/bin/"gcc  -I"C:/Users/BIOCBU~1/BBS-3~1.12-/R/include" -DNDEBUG     -I"C:/extsoft/include"     -O2 -Wall  -std=gnu99 -mfpmath=sse -msse2 -mstackrealign -c R_init_BeadDataPackR.c -o R_init_BeadDataPackR.o
C:/rtools40/mingw32/bin/gcc -shared -s -static-libgcc -o BeadDataPackR.dll tmp.def BeadDataPackR.o R_init_BeadDataPackR.o -LC:/extsoft/lib/i386 -LC:/extsoft/lib -LC:/Users/BIOCBU~1/BBS-3~1.12-/R/bin/i386 -lR
installing to C:/Users/biocbuild/bbs-3.12-bioc/meat/BeadDataPackR.buildbin-libdir/00LOCK-BeadDataPackR/00new/BeadDataPackR/libs/i386
** R
** inst
** byte-compile and prepare package for lazy loading
** help
*** installing help indices
  converting help for package 'BeadDataPackR'
    finding HTML links ... done
    compressBeadData                        html  
    decompressBeadData                      html  
    example                                 html  
    extractLocsFile                         html  
    readCompressedData                      html  
** building package indices
** installing vignettes
** testing if installed package can be loaded from temporary location
** testing if installed package can be loaded from final location
** testing if installed package keeps a record of temporary installation path

install for x64

* installing *source* package 'BeadDataPackR' ...
** libs
"C:/rtools40/mingw64/bin/"gcc  -I"C:/Users/BIOCBU~1/BBS-3~1.12-/R/include" -DNDEBUG     -I"C:/extsoft/include"     -O2 -Wall  -std=gnu99 -mfpmath=sse -msse2 -mstackrealign -c BeadDataPackR.c -o BeadDataPackR.o
"C:/rtools40/mingw64/bin/"gcc  -I"C:/Users/BIOCBU~1/BBS-3~1.12-/R/include" -DNDEBUG     -I"C:/extsoft/include"     -O2 -Wall  -std=gnu99 -mfpmath=sse -msse2 -mstackrealign -c R_init_BeadDataPackR.c -o R_init_BeadDataPackR.o
C:/rtools40/mingw64/bin/gcc -shared -s -static-libgcc -o BeadDataPackR.dll tmp.def BeadDataPackR.o R_init_BeadDataPackR.o -LC:/extsoft/lib/x64 -LC:/extsoft/lib -LC:/Users/BIOCBU~1/BBS-3~1.12-/R/bin/x64 -lR
installing to C:/Users/biocbuild/bbs-3.12-bioc/meat/BeadDataPackR.buildbin-libdir/BeadDataPackR/libs/x64
** testing if installed package can be loaded
* MD5 sums
packaged installation of 'BeadDataPackR' as BeadDataPackR_1.42.0.zip
* DONE (BeadDataPackR)