Back to Multiple platform build/check report for BioC 3.12
A[B]CDEFGHIJKLMNOPQRSTUVWXYZ

BUILD report for BSgenome on tokay1

This page was generated on 2021-05-06 12:30:05 -0400 (Thu, 06 May 2021).

To the developers/maintainers of the BSgenome package:
Please make sure to use the following settings in order to reproduce any error or warning you see on this page.
Package 212/1974HostnameOS / ArchINSTALLBUILDCHECKBUILD BIN
BSgenome 1.58.0  (landing page)
H. Pag├Ęs
Snapshot Date: 2021-05-05 14:51:38 -0400 (Wed, 05 May 2021)
URL: https://git.bioconductor.org/packages/BSgenome
Branch: RELEASE_3_12
Last Commit: 3a4926e
Last Changed Date: 2020-10-27 10:28:39 -0400 (Tue, 27 Oct 2020)
malbec1Linux (Ubuntu 18.04.5 LTS) / x86_64  OK    OK    WARNINGS  UNNEEDED, same version exists in internal repository
tokay1Windows Server 2012 R2 Standard / x64  OK    OK    WARNINGS    OK  UNNEEDED, same version exists in internal repository
merida1macOS 10.14.6 Mojave / x86_64  OK    OK    WARNINGS    OK  UNNEEDED, same version exists in internal repository

Summary

Package: BSgenome
Version: 1.58.0
Command: chmod a+r BSgenome -R && C:\Users\biocbuild\bbs-3.12-bioc\R\bin\R.exe CMD build --keep-empty-dirs --no-resave-data BSgenome
StartedAt: 2021-05-05 19:58:35 -0400 (Wed, 05 May 2021)
EndedAt: 2021-05-05 20:00:54 -0400 (Wed, 05 May 2021)
EllapsedTime: 138.7 seconds
RetCode: 0
Status:   OK   
PackageFile: BSgenome_1.58.0.tar.gz
PackageFileSize: 5.797 MiB

Command output

##############################################################################
##############################################################################
###
### Running command:
###
###   chmod a+r BSgenome -R && C:\Users\biocbuild\bbs-3.12-bioc\R\bin\R.exe CMD build --keep-empty-dirs --no-resave-data BSgenome
###
##############################################################################
##############################################################################


* checking for file 'BSgenome/DESCRIPTION' ... OK
* preparing 'BSgenome':
* checking DESCRIPTION meta-information ... OK
* installing the package to build vignettes
* creating vignettes ... OK
* checking for LF line-endings in source and make files and shell scripts
* checking for empty or unneeded directories
WARNING: directory 'BSgenome/inst/pkgtemplates/BSgenome_datapkg/inst/extdata' is empty
WARNING: directory 'BSgenome/inst/pkgtemplates/MaskedBSgenome_datapkg/inst/extdata' is empty
* building 'BSgenome_1.58.0.tar.gz'
Warning in utils::tar(filepath, pkgname, compression = compression, compression_level = 9L,  :
  storing paths of more than 100 bytes is not portable:
  'BSgenome/inst/extdata/GentlemanLab/BSgenome.Gmellonella.NCBI.ASM364042v2-tools/fasta_to_sorted_2bit.R'