Back to Multiple platform build/check report for BioC 3.12
A[B]CDEFGHIJKLMNOPQRSTUVWXYZ

INSTALL report for BCRANK on malbec1

This page was generated on 2021-05-05 12:09:28 -0400 (Wed, 05 May 2021).

To the developers/maintainers of the BCRANK package:
Please make sure to use the following settings in order to reproduce any error or warning you see on this page.
Package 130/1974HostnameOS / ArchINSTALLBUILDCHECKBUILD BIN
BCRANK 1.52.0  (landing page)
Adam Ameur
Snapshot Date: 2021-05-04 14:50:13 -0400 (Tue, 04 May 2021)
URL: https://git.bioconductor.org/packages/BCRANK
Branch: RELEASE_3_12
Last Commit: 4976ef5
Last Changed Date: 2020-10-27 10:32:55 -0400 (Tue, 27 Oct 2020)
malbec1Linux (Ubuntu 18.04.5 LTS) / x86_64  OK    OK    OK  UNNEEDED, same version exists in internal repository
tokay1Windows Server 2012 R2 Standard / x64  OK    OK    OK    OK  UNNEEDED, same version exists in internal repository
merida1macOS 10.14.6 Mojave / x86_64  OK    OK    OK    OK  UNNEEDED, same version exists in internal repository

Summary

Package: BCRANK
Version: 1.52.0
Command: /home/biocbuild/bbs-3.12-bioc/R/bin/R CMD INSTALL BCRANK
StartedAt: 2021-05-04 16:12:25 -0400 (Tue, 04 May 2021)
EndedAt: 2021-05-04 16:12:35 -0400 (Tue, 04 May 2021)
EllapsedTime: 10.7 seconds
RetCode: 0
Status:   OK  

Command output

##############################################################################
##############################################################################
###
### Running command:
###
###   /home/biocbuild/bbs-3.12-bioc/R/bin/R CMD INSTALL BCRANK
###
##############################################################################
##############################################################################


* installing to library ‘/home/biocbuild/bbs-3.12-bioc/R/library’
* installing *source* package ‘BCRANK’ ...
** using staged installation
** libs
gcc -I"/home/biocbuild/bbs-3.12-bioc/R/include" -DNDEBUG   -I/usr/local/include   -fpic  -g -O2  -Wall -c init.c -o init.o
gcc -I"/home/biocbuild/bbs-3.12-bioc/R/include" -DNDEBUG   -I/usr/local/include   -fpic  -g -O2  -Wall -c match_consensus.c -o match_consensus.o
gcc -shared -L/home/biocbuild/bbs-3.12-bioc/R/lib -L/usr/local/lib -o BCRANK.so init.o match_consensus.o -L/home/biocbuild/bbs-3.12-bioc/R/lib -lR
installing to /home/biocbuild/bbs-3.12-bioc/R/library/00LOCK-BCRANK/00new/BCRANK/libs
** R
** data
** inst
** byte-compile and prepare package for lazy loading
** help
*** installing help indices
** building package indices
** installing vignettes
** testing if installed package can be loaded from temporary location
** checking absolute paths in shared objects and dynamic libraries
** testing if installed package can be loaded from final location
** testing if installed package keeps a record of temporary installation path
* DONE (BCRANK)