Back to Multiple platform build/check report for BioC 3.12
[A]BCDEFGHIJKLMNOPQRSTUVWXYZ

BUILD report for ArrayExpress on tokay1

This page was generated on 2021-05-05 12:11:17 -0400 (Wed, 05 May 2021).

To the developers/maintainers of the ArrayExpress package:
Please make sure to use the following settings in order to reproduce any error or warning you see on this page.
Package 81/1974HostnameOS / ArchINSTALLBUILDCHECKBUILD BIN
ArrayExpress 1.50.0  (landing page)
Suhaib Mohammed
Snapshot Date: 2021-05-04 14:50:13 -0400 (Tue, 04 May 2021)
URL: https://git.bioconductor.org/packages/ArrayExpress
Branch: RELEASE_3_12
Last Commit: 3a8e996
Last Changed Date: 2020-10-27 10:34:31 -0400 (Tue, 27 Oct 2020)
malbec1Linux (Ubuntu 18.04.5 LTS) / x86_64  OK    OK    OK  UNNEEDED, same version exists in internal repository
tokay1Windows Server 2012 R2 Standard / x64  OK    OK    OK    OK  UNNEEDED, same version exists in internal repository
merida1macOS 10.14.6 Mojave / x86_64  OK    OK    OK    OK  UNNEEDED, same version exists in internal repository

Summary

Package: ArrayExpress
Version: 1.50.0
Command: chmod a+r ArrayExpress -R && C:\Users\biocbuild\bbs-3.12-bioc\R\bin\R.exe CMD build --keep-empty-dirs --no-resave-data ArrayExpress
StartedAt: 2021-05-04 19:36:50 -0400 (Tue, 04 May 2021)
EndedAt: 2021-05-04 19:39:35 -0400 (Tue, 04 May 2021)
EllapsedTime: 164.9 seconds
RetCode: 0
Status:   OK   
PackageFile: ArrayExpress_1.50.0.tar.gz
PackageFileSize: 196.6 KiB

Command output

##############################################################################
##############################################################################
###
### Running command:
###
###   chmod a+r ArrayExpress -R && C:\Users\biocbuild\bbs-3.12-bioc\R\bin\R.exe CMD build --keep-empty-dirs --no-resave-data ArrayExpress
###
##############################################################################
##############################################################################


* checking for file 'ArrayExpress/DESCRIPTION' ... OK
* preparing 'ArrayExpress':
* checking DESCRIPTION meta-information ... OK
* installing the package to build vignettes
* creating vignettes ... OK
* checking for LF line-endings in source and make files and shell scripts
* checking for empty or unneeded directories
* building 'ArrayExpress_1.50.0.tar.gz'