Back to Multiple platform build/check report for BioC 3.12
[A]BCDEFGHIJKLMNOPQRSTUVWXYZ

BUILD BIN report for ASSET on merida1

This page was generated on 2021-05-05 12:13:46 -0400 (Wed, 05 May 2021).

To the developers/maintainers of the ASSET package:
Please make sure to use the following settings in order to reproduce any error or warning you see on this page.
Package 97/1974HostnameOS / ArchINSTALLBUILDCHECKBUILD BIN
ASSET 2.8.0  (landing page)
Samsiddhi Bhattacharjee
Snapshot Date: 2021-05-04 14:50:13 -0400 (Tue, 04 May 2021)
URL: https://git.bioconductor.org/packages/ASSET
Branch: RELEASE_3_12
Last Commit: aecd936
Last Changed Date: 2020-10-27 10:52:19 -0400 (Tue, 27 Oct 2020)
malbec1Linux (Ubuntu 18.04.5 LTS) / x86_64  OK    OK    WARNINGS  UNNEEDED, same version exists in internal repository
tokay1Windows Server 2012 R2 Standard / x64  OK    OK    WARNINGS    OK  UNNEEDED, same version exists in internal repository
merida1macOS 10.14.6 Mojave / x86_64  OK    OK    WARNINGS    OK  UNNEEDED, same version exists in internal repository

Summary

Package: ASSET
Version: 2.8.0
Command: rm -rf ASSET.buildbin-libdir && mkdir ASSET.buildbin-libdir && /Users/biocbuild/BBS/utils/build-universal.sh ASSET_2.8.0.tar.gz /Library/Frameworks/R.framework/Versions/Current/Resources/bin/R ASSET.buildbin-libdir
StartedAt: 2021-05-05 08:21:12 -0400 (Wed, 05 May 2021)
EndedAt: 2021-05-05 08:22:23 -0400 (Wed, 05 May 2021)
EllapsedTime: 70.7 seconds
RetCode: 0
Status:   OK  
PackageFile: ASSET_2.8.0.tgz
PackageFileSize: 363.4 KiB

Command output

##############################################################################
##############################################################################
###
### Running command:
###
###   rm -rf ASSET.buildbin-libdir && mkdir ASSET.buildbin-libdir && /Users/biocbuild/BBS/utils/build-universal.sh ASSET_2.8.0.tar.gz /Library/Frameworks/R.framework/Versions/Current/Resources/bin/R ASSET.buildbin-libdir
###
##############################################################################
##############################################################################


>>>>>>> 
>>>>>>> INSTALLATION WITH 'R CMD INSTALL --preclean --no-multiarch --library=ASSET.buildbin-libdir ASSET_2.8.0.tar.gz'
>>>>>>> 

* installing *source* package ‘ASSET’ ...
** using staged installation
** R
** data
** inst
** byte-compile and prepare package for lazy loading
** help
*** installing help indices
** building package indices
** installing vignettes
** testing if installed package can be loaded from temporary location
** testing if installed package can be loaded from final location
** testing if installed package keeps a record of temporary installation path
* DONE (ASSET)