Back to Multiple platform build/check report for BioC 3.12
[A]BCDEFGHIJKLMNOPQRSTUVWXYZ

BUILD BIN report for AGDEX on merida1

This page was generated on 2021-05-05 12:13:44 -0400 (Wed, 05 May 2021).

To the developers/maintainers of the AGDEX package:
Please make sure to use the following settings in order to reproduce any error or warning you see on this page.
Package 37/1974HostnameOS / ArchINSTALLBUILDCHECKBUILD BIN
AGDEX 1.38.0  (landing page)
Cuilan lani Gao
Snapshot Date: 2021-05-04 14:50:13 -0400 (Tue, 04 May 2021)
URL: https://git.bioconductor.org/packages/AGDEX
Branch: RELEASE_3_12
Last Commit: 7e2c1f5
Last Changed Date: 2020-10-27 10:43:00 -0400 (Tue, 27 Oct 2020)
malbec1Linux (Ubuntu 18.04.5 LTS) / x86_64  OK    OK    OK  UNNEEDED, same version exists in internal repository
tokay1Windows Server 2012 R2 Standard / x64  OK    OK    WARNINGS    OK  UNNEEDED, same version exists in internal repository
merida1macOS 10.14.6 Mojave / x86_64  OK    OK    OK    OK  UNNEEDED, same version exists in internal repository

Summary

Package: AGDEX
Version: 1.38.0
Command: rm -rf AGDEX.buildbin-libdir && mkdir AGDEX.buildbin-libdir && /Users/biocbuild/BBS/utils/build-universal.sh AGDEX_1.38.0.tar.gz /Library/Frameworks/R.framework/Versions/Current/Resources/bin/R AGDEX.buildbin-libdir
StartedAt: 2021-05-05 08:16:21 -0400 (Wed, 05 May 2021)
EndedAt: 2021-05-05 08:17:18 -0400 (Wed, 05 May 2021)
EllapsedTime: 56.8 seconds
RetCode: 0
Status:   OK  
PackageFile: AGDEX_1.38.0.tgz
PackageFileSize: 603.8 KiB

Command output

##############################################################################
##############################################################################
###
### Running command:
###
###   rm -rf AGDEX.buildbin-libdir && mkdir AGDEX.buildbin-libdir && /Users/biocbuild/BBS/utils/build-universal.sh AGDEX_1.38.0.tar.gz /Library/Frameworks/R.framework/Versions/Current/Resources/bin/R AGDEX.buildbin-libdir
###
##############################################################################
##############################################################################


>>>>>>> 
>>>>>>> INSTALLATION WITH 'R CMD INSTALL --preclean --no-multiarch --library=AGDEX.buildbin-libdir AGDEX_1.38.0.tar.gz'
>>>>>>> 

* installing *source* package ‘AGDEX’ ...
** using staged installation
** R
** data
** inst
** byte-compile and prepare package for lazy loading
** help
*** installing help indices
** building package indices
** installing vignettes
** testing if installed package can be loaded from temporary location
** testing if installed package can be loaded from final location
** testing if installed package keeps a record of temporary installation path
* DONE (AGDEX)