Back to Multiple platform build/check report for BioC 3.12
[A]BCDEFGHIJKLMNOPQRSTUVWXYZ

INSTALL report for AGDEX on malbec1

This page was generated on 2021-05-05 12:09:25 -0400 (Wed, 05 May 2021).

To the developers/maintainers of the AGDEX package:
Please make sure to use the following settings in order to reproduce any error or warning you see on this page.
Package 37/1974HostnameOS / ArchINSTALLBUILDCHECKBUILD BIN
AGDEX 1.38.0  (landing page)
Cuilan lani Gao
Snapshot Date: 2021-05-04 14:50:13 -0400 (Tue, 04 May 2021)
URL: https://git.bioconductor.org/packages/AGDEX
Branch: RELEASE_3_12
Last Commit: 7e2c1f5
Last Changed Date: 2020-10-27 10:43:00 -0400 (Tue, 27 Oct 2020)
malbec1Linux (Ubuntu 18.04.5 LTS) / x86_64  OK    OK    OK  UNNEEDED, same version exists in internal repository
tokay1Windows Server 2012 R2 Standard / x64  OK    OK    WARNINGS    OK  UNNEEDED, same version exists in internal repository
merida1macOS 10.14.6 Mojave / x86_64  OK    OK    OK    OK  UNNEEDED, same version exists in internal repository

Summary

Package: AGDEX
Version: 1.38.0
Command: /home/biocbuild/bbs-3.12-bioc/R/bin/R CMD INSTALL AGDEX
StartedAt: 2021-05-04 16:51:39 -0400 (Tue, 04 May 2021)
EndedAt: 2021-05-04 16:51:53 -0400 (Tue, 04 May 2021)
EllapsedTime: 14.1 seconds
RetCode: 0
Status:   OK  

Command output

##############################################################################
##############################################################################
###
### Running command:
###
###   /home/biocbuild/bbs-3.12-bioc/R/bin/R CMD INSTALL AGDEX
###
##############################################################################
##############################################################################


* installing to library ‘/home/biocbuild/bbs-3.12-bioc/R/library’
* installing *source* package ‘AGDEX’ ...
** using staged installation
** R
** data
** byte-compile and prepare package for lazy loading
** help
*** installing help indices
** building package indices
** installing vignettes
** testing if installed package can be loaded from temporary location
** testing if installed package can be loaded from final location
** testing if installed package keeps a record of temporary installation path
* DONE (AGDEX)