Index of /checkResults/release/workflows-LATEST/variants/raw-results/palomino4
Name
Last modified
Size
Description
Parent Directory
-
buildsrc-out.txt
27-Mar-2024 03:00
916
buildsrc-summary.dcf
27-Mar-2024 03:00
455
install-out.txt
27-Mar-2024 03:00
949
install-summary.dcf
27-Mar-2024 03:00
270