Index of /checkResults/release/workflows-LATEST/variants/raw-results/palomino3
Name
Last modified
Size
Description
Parent Directory
-
buildsrc-out.txt
04-May-2024 03:00
916
buildsrc-summary.dcf
04-May-2024 03:00
456
install-out.txt
04-May-2024 03:00
949
install-summary.dcf
04-May-2024 03:00
270