Index of /checkResults/release/workflows-LATEST/variants/raw-results/nebbiolo2
Name
Last modified
Size
Description
Parent Directory
-
buildsrc-out.txt
27-Mar-2024 03:00
884
buildsrc-summary.dcf
27-Mar-2024 03:00
419
install-out.txt
27-Mar-2024 03:00
944
install-summary.dcf
27-Mar-2024 03:00
261