Index of /checkResults/release/workflows-LATEST/variants/raw-results/merida1
Name
Last modified
Size
Description
Parent Directory
-
install-out.txt
02-Mar-2024 04:00
1.0K
buildsrc-out.txt
02-Mar-2024 04:00
894
buildsrc-summary.dcf
02-Mar-2024 04:00
429
install-summary.dcf
02-Mar-2024 04:00
271