Index of /checkResults/release/workflows-LATEST/variants/raw-results/merida1
Name
Last modified
Size
Description
Parent Directory
-
buildsrc-out.txt
27-Mar-2024 03:00
894
buildsrc-summary.dcf
27-Mar-2024 03:00
430
install-out.txt
27-Mar-2024 03:00
1.0K
install-summary.dcf
27-Mar-2024 03:00
271