Index of /checkResults/release/workflows-LATEST/variants/raw-results/lconway
Name
Last modified
Size
Description
Parent Directory
-
install-summary.dcf
18-May-2024 03:00
271
buildsrc-summary.dcf
18-May-2024 03:00
429
buildsrc-out.txt
18-May-2024 03:00
894
install-out.txt
18-May-2024 03:00
1.0K