Index of /checkResults/release/workflows-LATEST/spicyWorkflow/raw-results/palomino4

[ICO]NameLast modifiedSizeDescription

[DIR]Parent Directory  -  
[TXT]buildsrc-out.txt27-Mar-2024 03:00 1.2K 
[   ]buildsrc-summary.dcf27-Mar-2024 03:00 387  
[TXT]install-out.txt27-Mar-2024 03:00 969  
[   ]install-summary.dcf27-Mar-2024 03:00 279