Index of /checkResults/release/workflows-LATEST/spicyWorkflow/raw-results/nebbiolo2

[ICO]NameLast modifiedSizeDescription

[DIR]Parent Directory  -  
[TXT]buildsrc-out.txt27-Mar-2024 03:00 829  
[   ]buildsrc-summary.dcf27-Mar-2024 03:00 435  
[TXT]install-out.txt27-Mar-2024 03:00 964  
[   ]install-summary.dcf27-Mar-2024 03:00 269