Index of /checkResults/release/workflows-LATEST/simpleSingleCell/raw-results/nebbiolo1
Name
Last modified
Size
Description
Parent Directory
-
buildsrc-out.txt
04-Oct-2023 03:00
882
buildsrc-summary.dcf
04-Oct-2023 03:00
444
install-out.txt
04-Oct-2023 03:00
1.0K
install-summary.dcf
04-Oct-2023 03:00
276