Index of /checkResults/release/workflows-LATEST/simpleSingleCell/raw-results
Name
Last modified
Size
Description
Parent Directory
-
info.dcf
25-Mar-2023 03:00
307
lconway/
25-Mar-2023 03:00
-
nebbiolo2/
25-Mar-2023 03:00
-