Index of /checkResults/release/workflows-LATEST/rnaseqGene/raw-results/palomino7
Name
Last modified
Size
Description
Parent Directory
-
install-summary.dcf
10-Jul-2024 05:30
274
buildsrc-summary.dcf
10-Jul-2024 05:30
465
buildsrc-out.txt
10-Jul-2024 05:30
926
install-out.txt
10-Jul-2024 05:30
957