Index of /checkResults/release/workflows-LATEST/rnaseqGene/raw-results/palomino4
Name
Last modified
Size
Description
Parent Directory
-
buildsrc-out.txt
27-Mar-2024 03:00
926
buildsrc-summary.dcf
27-Mar-2024 03:00
465
install-out.txt
27-Mar-2024 03:00
957
install-summary.dcf
27-Mar-2024 03:00
274