Index of /checkResults/release/workflows-LATEST/rnaseqGene/raw-results/palomino3
Name
Last modified
Size
Description
Parent Directory
-
buildsrc-out.txt
29-Jun-2024 05:30
926
buildsrc-summary.dcf
29-Jun-2024 05:30
465
install-out.txt
29-Jun-2024 05:30
957
install-summary.dcf
29-Jun-2024 05:30
274