Index of /checkResults/release/workflows-LATEST/rnaseqGene/raw-results/palomino3

[ICO]NameLast modifiedSizeDescription

[DIR]Parent Directory  -  
[TXT]buildsrc-out.txt04-Oct-2023 03:00 926  
[   ]buildsrc-summary.dcf04-Oct-2023 03:00 463  
[TXT]install-out.txt04-Oct-2023 03:00 957  
[   ]install-summary.dcf04-Oct-2023 03:00 274