Index of /checkResults/release/workflows-LATEST/rnaseqGene/raw-results/nebbiolo2
Name
Last modified
Size
Description
Parent Directory
-
buildsrc-out.txt
27-Mar-2024 03:00
892
buildsrc-summary.dcf
27-Mar-2024 03:00
427
install-out.txt
27-Mar-2024 03:00
952
install-summary.dcf
27-Mar-2024 03:00
265