Index of /checkResults/release/workflows-LATEST/rnaseqGene/raw-results/nebbiolo1

[ICO]NameLast modifiedSizeDescription

[DIR]Parent Directory  -  
[TXT]buildsrc-out.txt04-Oct-2023 03:00 892  
[   ]buildsrc-summary.dcf04-Oct-2023 03:00 427  
[TXT]install-out.txt04-Oct-2023 03:00 952  
[   ]install-summary.dcf04-Oct-2023 03:00 265