Index of /checkResults/release/workflows-LATEST/rnaseqGene/raw-results/merida1

[ICO]NameLast modifiedSizeDescription

[DIR]Parent Directory  -  
[TXT]buildsrc-out.txt04-Oct-2023 03:00 902  
[   ]buildsrc-summary.dcf04-Oct-2023 03:00 437  
[TXT]install-out.txt04-Oct-2023 03:00 1.0K 
[   ]install-summary.dcf04-Oct-2023 03:00 275