Index of /checkResults/release/workflows-LATEST/rnaseqGene/raw-results

[ICO]NameLast modifiedSizeDescription

[DIR]Parent Directory  -  
[   ]info.dcf23-Sep-2023 03:00 284  
[DIR]merida1/23-Sep-2023 03:00 -  
[DIR]nebbiolo1/23-Sep-2023 03:00 -  
[DIR]palomino3/23-Sep-2023 03:00 -