Index of /checkResults/release/workflows-LATEST/rnaseqDTU/raw-results/palomino4
Name
Last modified
Size
Description
Parent Directory
-
buildsrc-out.txt
27-Mar-2024 03:00
849
buildsrc-summary.dcf
27-Mar-2024 03:00
461
install-out.txt
27-Mar-2024 03:00
1.0K
install-summary.dcf
27-Mar-2024 03:00
272