Back to Workflows build report for BioC 3.12

INSTALL report for rnaseqDTU on malbec1

This page was generated on 2021-01-15 15:45:13 -0500 (Fri, 15 Jan 2021).

TO THE DEVELOPERS/MAINTAINERS OF THE rnaseqDTU PACKAGE: Please make sure to use the following settings in order to reproduce any error or warning you see on this page.
Package 21/28HostnameOS / ArchINSTALLBUILD
rnaseqDTU 1.10.0
Michael Love
Snapshot Date: 2021-01-15 09:00:03 -0500 (Fri, 15 Jan 2021)
URL: https://git.bioconductor.org/packages/rnaseqDTU
Branch: RELEASE_3_12
Last Commit: a5da65b
Last Changed Date: 2020-10-27 09:41:55 -0500 (Tue, 27 Oct 2020)
malbec1 Linux (Ubuntu 18.04.5 LTS) / x86_64 [ OK ] OK UNNEEDED, same version exists in internal repository
nebbiolo1 Linux (Ubuntu 20.04.1 LTS) / x86_64  OK  OK 

Summary

Package: rnaseqDTU
Version: 1.10.0
Command: /home/biocbuild/bbs-3.12-bioc/R/bin/R CMD INSTALL rnaseqDTU
StartedAt: 2021-01-15 09:05:10 -0500 (Fri, 15 Jan 2021)
EndedAt: 2021-01-15 09:05:58 -0500 (Fri, 15 Jan 2021)
EllapsedTime: 47.8 seconds
RetCode: 0
Status:  OK 

Command output

##############################################################################
##############################################################################
###
### Running command:
###
###   /home/biocbuild/bbs-3.12-bioc/R/bin/R CMD INSTALL rnaseqDTU
###
##############################################################################
##############################################################################


* installing to library ‘/home/biocbuild/bbs-3.12-bioc/R/library’
* installing *source* package ‘rnaseqDTU’ ...
** using staged installation
** R
** data
*** moving datasets to lazyload DB
** inst
** byte-compile and prepare package for lazy loading
** help
*** installing help indices
** building package indices
** installing vignettes
** testing if installed package can be loaded from temporary location
** testing if installed package can be loaded from final location
** testing if installed package keeps a record of temporary installation path
* DONE (rnaseqDTU)