Back to Workflows build report for BioC 3.12

BUILD report for rnaseqDTU on malbec1

This page was generated on 2021-01-15 15:45:13 -0500 (Fri, 15 Jan 2021).

TO THE DEVELOPERS/MAINTAINERS OF THE rnaseqDTU PACKAGE: Please make sure to use the following settings in order to reproduce any error or warning you see on this page.
Package 21/28HostnameOS / ArchINSTALLBUILD
rnaseqDTU 1.10.0
Michael Love
Snapshot Date: 2021-01-15 09:00:03 -0500 (Fri, 15 Jan 2021)
URL: https://git.bioconductor.org/packages/rnaseqDTU
Branch: RELEASE_3_12
Last Commit: a5da65b
Last Changed Date: 2020-10-27 09:41:55 -0500 (Tue, 27 Oct 2020)
malbec1 Linux (Ubuntu 18.04.5 LTS) / x86_64  OK [ OK ]UNNEEDED, same version exists in internal repository
nebbiolo1 Linux (Ubuntu 20.04.1 LTS) / x86_64  OK  OK 

Summary

Package: rnaseqDTU
Version: 1.10.0
Command: /home/biocbuild/bbs-3.12-bioc/R/bin/R CMD build --keep-empty-dirs --no-resave-data rnaseqDTU
StartedAt: 2021-01-15 09:27:43 -0500 (Fri, 15 Jan 2021)
EndedAt: 2021-01-15 09:33:23 -0500 (Fri, 15 Jan 2021)
EllapsedTime: 339.5 seconds
RetCode: 0
Status:  OK 
PackageFile: rnaseqDTU_1.10.0.tar.gz
PackageFileSize: 8.696 MiB

Command output

##############################################################################
##############################################################################
###
### Running command:
###
###   /home/biocbuild/bbs-3.12-bioc/R/bin/R CMD build --keep-empty-dirs --no-resave-data rnaseqDTU
###
##############################################################################
##############################################################################


* checking for file ‘rnaseqDTU/DESCRIPTION’ ... OK
* preparing ‘rnaseqDTU’:
* checking DESCRIPTION meta-information ... OK
* installing the package to build vignettes
* creating vignettes ... OK
* checking for LF line-endings in source and make files and shell scripts
* checking for empty or unneeded directories
* building ‘rnaseqDTU_1.10.0.tar.gz’