Index of /checkResults/release/workflows-LATEST/recountWorkflow/raw-results/nebbiolo1
Name
Last modified
Size
Description
Parent Directory
-
buildsrc-out.txt
18-May-2024 03:00
2.0K
buildsrc-summary.dcf
18-May-2024 03:00
351
install-out.txt
18-May-2024 03:00
1.0K
install-summary.dcf
18-May-2024 03:00
275