Index of /checkResults/release/workflows-LATEST/recountWorkflow/raw-results/merida1
Name
Last modified
Size
Description
Parent Directory
-
buildsrc-out.txt
02-Mar-2024 04:00
2.1K
buildsrc-summary.dcf
02-Mar-2024 04:00
361
install-out.txt
02-Mar-2024 04:00
1.0K
install-summary.dcf
02-Mar-2024 04:00
285