Back to Workflows build report for BioC 3.16

This page was generated on 2023-01-31 14:00:10 -0500 (Tue, 31 Jan 2023).

HostnameOSArch (*)R versionInstalled pkgs
nebbiolo2Linux (Ubuntu 20.04.5 LTS)x86_644.2.2 (2022-10-31) -- "Innocent and Trusting" 4510
palomino4Windows Server 2022 Datacenterx644.2.2 (2022-10-31 ucrt) -- "Innocent and Trusting" 4289
lconwaymacOS 12.5.1 Montereyx86_644.2.2 (2022-10-31) -- "Innocent and Trusting" 4318
Click on any hostname to see more info about the system (e.g. compilers)      (*) as reported by 'uname -p', except on Windows and Mac OS X

BUILD results for recountWorkflow on lconway


To the developers/maintainers of the recountWorkflow package:
Make sure to use the following settings in order to reproduce any error or warning you see on this page.

raw results

Package 19/28HostnameOS / ArchINSTALLBUILD
recountWorkflow 1.22.0  (landing page)
Leonardo Collado-Torres
Snapshot Date: 2023-01-31 10:45:01 -0500 (Tue, 31 Jan 2023)
git_url: https://git.bioconductor.org/packages/recountWorkflow
git_branch: RELEASE_3_16
git_last_commit: df636b6
git_last_commit_date: 2022-11-01 10:33:58 -0500 (Tue, 01 Nov 2022)
nebbiolo2Linux (Ubuntu 20.04.5 LTS) / x86_64  OK    OK  NO, version to propagate (1.22.0) is lower than published version (1.23.0)
palomino4Windows Server 2022 Datacenter / x64  OK    OK  
lconwaymacOS 12.5.1 Monterey / x86_64  OK    OK  

Summary

Package: recountWorkflow
Version: 1.22.0
Command: /Library/Frameworks/R.framework/Resources/bin/R CMD build --keep-empty-dirs --no-resave-data recountWorkflow
StartedAt: 2023-01-31 11:02:58 -0500 (Tue, 31 Jan 2023)
EndedAt: 2023-01-31 11:24:09 -0500 (Tue, 31 Jan 2023)
EllapsedTime: 1270.9 seconds
RetCode: 0
Status:   OK  
PackageFile: recountWorkflow_1.22.0.tar.gz
PackageFileSize: 2.097 MiB

Command output

##############################################################################
##############################################################################
###
### Running command:
###
###   /Library/Frameworks/R.framework/Resources/bin/R CMD build --keep-empty-dirs --no-resave-data recountWorkflow
###
##############################################################################
##############################################################################


* checking for file ‘recountWorkflow/DESCRIPTION’ ... OK
* preparing ‘recountWorkflow’:
* checking DESCRIPTION meta-information ... OK
* installing the package to build vignettes
* creating vignettes ... OK
* checking for LF line-endings in source and make files and shell scripts
* checking for empty or unneeded directories
* building ‘recountWorkflow_1.22.0.tar.gz’