Back to Workflows build report for BioC 3.12

INSTALL report for proteomics on nebbiolo1

This page was generated on 2021-01-15 15:45:13 -0500 (Fri, 15 Jan 2021).

TO THE DEVELOPERS/MAINTAINERS OF THE proteomics PACKAGE: Please make sure to use the following settings in order to reproduce any error or warning you see on this page.
Package 18/28HostnameOS / ArchINSTALLBUILD
proteomics 1.14.0
Laurent Gatto
Snapshot Date: 2021-01-15 09:00:03 -0500 (Fri, 15 Jan 2021)
URL: https://git.bioconductor.org/packages/proteomics
Branch: RELEASE_3_12
Last Commit: 01d9331
Last Changed Date: 2020-10-27 09:41:18 -0500 (Tue, 27 Oct 2020)
malbec1 Linux (Ubuntu 18.04.5 LTS) / x86_64  OK  ERROR 
nebbiolo1 Linux (Ubuntu 20.04.1 LTS) / x86_64 [ OK ] OK 

Summary

Package: proteomics
Version: 1.14.0
Command: /home/biocbuild/bbs-3.12-bioc/R/bin/R CMD INSTALL proteomics
StartedAt: 2021-01-15 09:05:45 -0500 (Fri, 15 Jan 2021)
EndedAt: 2021-01-15 09:06:04 -0500 (Fri, 15 Jan 2021)
EllapsedTime: 19.6 seconds
RetCode: 0
Status:  OK 

Command output

##############################################################################
##############################################################################
###
### Running command:
###
###   /home/biocbuild/bbs-3.12-bioc/R/bin/R CMD INSTALL proteomics
###
##############################################################################
##############################################################################


* installing to library ‘/home/biocbuild/bbs-3.12-bioc/R/library’
* installing *source* package ‘proteomics’ ...
** using staged installation
** help
No man pages found in package  ‘proteomics’ 
*** installing help indices
** building package indices
** installing vignettes
** testing if installed package can be loaded from temporary location
** testing if installed package can be loaded from final location
** testing if installed package keeps a record of temporary installation path
* DONE (proteomics)