Back to Workflows build report for BioC 3.12

BUILD report for proteomics on nebbiolo1

This page was generated on 2021-01-15 15:45:13 -0500 (Fri, 15 Jan 2021).

TO THE DEVELOPERS/MAINTAINERS OF THE proteomics PACKAGE: Please make sure to use the following settings in order to reproduce any error or warning you see on this page.
Package 18/28HostnameOS / ArchINSTALLBUILD
proteomics 1.14.0
Laurent Gatto
Snapshot Date: 2021-01-15 09:00:03 -0500 (Fri, 15 Jan 2021)
URL: https://git.bioconductor.org/packages/proteomics
Branch: RELEASE_3_12
Last Commit: 01d9331
Last Changed Date: 2020-10-27 09:41:18 -0500 (Tue, 27 Oct 2020)
malbec1 Linux (Ubuntu 18.04.5 LTS) / x86_64  OK  ERROR 
nebbiolo1 Linux (Ubuntu 20.04.1 LTS) / x86_64  OK [ OK ]

Summary

Package: proteomics
Version: 1.14.0
Command: /home/biocbuild/bbs-3.12-bioc/R/bin/R CMD build --keep-empty-dirs --no-resave-data proteomics
StartedAt: 2021-01-15 09:09:10 -0500 (Fri, 15 Jan 2021)
EndedAt: 2021-01-15 09:14:26 -0500 (Fri, 15 Jan 2021)
EllapsedTime: 315.5 seconds
RetCode: 0
Status:  OK 
PackageFile: proteomics_1.14.0.tar.gz
PackageFileSize: 960.6 KiB

Command output

##############################################################################
##############################################################################
###
### Running command:
###
###   /home/biocbuild/bbs-3.12-bioc/R/bin/R CMD build --keep-empty-dirs --no-resave-data proteomics
###
##############################################################################
##############################################################################


* checking for file ‘proteomics/DESCRIPTION’ ... OK
* preparing ‘proteomics’:
* checking DESCRIPTION meta-information ... OK
* installing the package to build vignettes
* creating vignettes ... OK
* checking for LF line-endings in source and make files and shell scripts
* checking for empty or unneeded directories
* creating default NAMESPACE file
* building ‘proteomics_1.14.0.tar.gz’