Back to Workflows build report for BioC 3.12

Workflows build report for BioC 3.12

Results for package proteomics

This page was generated on 2021-03-02 15:45:13 -0500 (Tue, 02 Mar 2021).

Package 18/28HostnameOS / ArchINSTALLBUILD
proteomics 1.14.0
Laurent Gatto
Snapshot Date: 2021-03-02 09:00:03 -0500 (Tue, 02 Mar 2021)
URL: https://git.bioconductor.org/packages/proteomics
Branch: RELEASE_3_12
Last Commit: 01d9331
Last Changed Date: 2020-10-27 09:41:18 -0500 (Tue, 27 Oct 2020)
malbec1Linux (Ubuntu 18.04.5 LTS) / x86_64  OK    OK  UNNEEDED, same version exists in internal repository
nebbiolo1Linux (Ubuntu 20.04.2 LTS) / x86_64  OK    ERROR