Back to Workflows build report for BioC 3.16

This page was generated on 2023-01-27 14:00:08 -0500 (Fri, 27 Jan 2023).

All results on lconway


Package status is indicated by one of the following glyphs
  TIMEOUT  
INSTALL or BUILD of package took more than 40 or 120 minutes, respectively
  ERROR  
Bad DESCRIPTION file, or INSTALL or BUILD of package failed
  OK  
INSTALL or BUILD of package went OK
  NA  
INSTALL or BUILD result is not available because of an anomaly in the Build System
Click on any glyph in the report below to access the detailed report.
Package propagation status is indicated by one of the following LEDs
YES YES: Package was propagated because it didn't previously exist or version was bumped
NO NO: Package was not propagated because of a problem (impossible dependencies, or version lower than what is already propagated)
UNNEEDED UNNEEDED: Package was not propagated because it is already in the repository with this version. A version bump is required in order to propagate it

A crossed-out package name indicates the package is deprecated


QUICK STATSOS / ArchINSTALLBUILD
nebbiolo2Linux (Ubuntu 20.04.5 LTS) / x86_64
0127
0325
palomino4Windows Server 2022 Datacenter / x64
0123
0321
lconwaymacOS 12.5.1 Monterey / x86_64
0126
0423
PackageMaintainerINSTALLBUILD
1/28annotation 1.22.0  (landing page)Bioconductor Package Maintainer  OK    OK  
2/28arrays 1.24.0  (landing page)Bioconductor Package Maintainer  OK    OK  
3/28BiocMetaWorkflow 1.20.0  (landing page)Mike Smith  OK    OK  
4/28BP4RNAseq 1.8.0  (landing page)Shanwen Sun  OK    OK  
5/28CAGEWorkflow 1.14.0  (landing page)Malte Thodberg  OK    OK  
6/28chipseqDB 1.22.0  (landing page)Aaron Lun  OK    OK  
7/28csawUsersGuide 1.14.0  (landing page)Aaron Lun  OK    OK  
8/28cytofWorkflow 1.22.0  (landing page)Mark D. Robinson  OK    OK  
9/28EGSEA123 1.22.0  (landing page)Matthew Ritchie  OK    OK  
10/28ExpHunterSuite 1.6.0  (landing page)James Perkins  ERROR    ERROR  
11/28ExpressionNormalizationWorkflow 1.24.0  (landing page)Karthikeyan Murugesan  OK    OK  
12/28fluentGenomics 1.10.0  (landing page)Stuart Lee  OK    ERROR  
13/28generegulation 1.22.0  (landing page)Bioconductor Package Maintainer  OK    OK  
14/28GeoMxWorkflows 1.4.0  (landing page)Jason Reeves  OK    OK  
15/28highthroughputassays   (landing page)... NOT SUPPORTED ...
16/28liftOver 1.22.0  (landing page)Bioconductor Package Maintainer  OK    OK  
17/28maEndToEnd 2.18.0  (landing page)Stefanie Reisenauer  OK    ERROR  
18/28methylationArrayAnalysis 1.22.0  (landing page)Jovana Maksimovic  OK    OK  
19/28recountWorkflow 1.22.0  (landing page)Leonardo Collado-Torres  OK    OK  
20/28RNAseq123 1.22.0  (landing page)Matthew Ritchie  OK    OK  
21/28rnaseqDTU 1.18.0  (landing page)Michael Love  OK    OK  
22/28rnaseqGene 1.22.0  (landing page)Michael Love  OK    OK  
23/28RnaSeqGeneEdgeRQL 1.22.0  (landing page)Yunshun Chen  OK    OK  
24/28sequencing 1.22.0  (landing page)Bioconductor Package Maintainer  OK    OK  
25/28simpleSingleCell 1.22.0  (landing page)Aaron Lun  OK    OK  
26/28SingscoreAMLMutations 1.14.0  (landing page)Dharmesh D. Bhuva  OK    OK  
27/28TCGAWorkflow 1.22.2  (landing page)Tiago Chedraoui Silva  OK    ERROR  
28/28variants 1.22.0  (landing page)Bioconductor Package Maintainer  OK    OK