Index of /checkResults/release/workflows-LATEST/highthroughputassays/raw-results/nebbiolo2
Name
Last modified
Size
Description
Parent Directory
-
buildsrc-out.txt
27-Mar-2024 03:00
932
buildsrc-summary.dcf
27-Mar-2024 03:00
456
install-out.txt
27-Mar-2024 03:00
1.2K
install-summary.dcf
27-Mar-2024 03:00
285