Index of /checkResults/release/workflows-LATEST/highthroughputassays/raw-results/nebbiolo1
Name
Last modified
Size
Description
Parent Directory
-
buildsrc-out.txt
26-Jun-2024 05:30
932
buildsrc-summary.dcf
26-Jun-2024 05:30
456
install-out.txt
26-Jun-2024 05:30
1.2K
install-summary.dcf
26-Jun-2024 05:30
284