Index of /checkResults/release/workflows-LATEST/generegulation/raw-results/nebbiolo1
Name
Last modified
Size
Description
Parent Directory
-
install-out.txt
29-Jun-2024 05:30
1.1K
buildsrc-out.txt
29-Jun-2024 05:30
908
buildsrc-summary.dcf
29-Jun-2024 05:30
438
install-summary.dcf
29-Jun-2024 05:30
273